BEGIN:VCALENDAR
VERSION:2.0
PRODID:-//QuickScores.com//BQ Dynamic iCal Creator//EN
METHOD:PUBLISH
X-WR-CALNAME:One Hit Wonders - Co-rec Volleyball - Winter 2025-2026
X-WR-CALDESC:QuickScores game calendar
X-PUBLISHED-TTL:PT24H
REFRESH-INTERVAL;VALUE=DURATION:PT24H
CALSCALE:GREGORIAN
BEGIN:VTIMEZONE
TZID:America/Chicago
X-LIC-LOCATION:America/Chicago
BEGIN:DAYLIGHT
TZNAME:CDT
TZOFFSETFROM:-0600
TZOFFSETTO:-0500
DTSTART:19700308T020000
RRULE:FREQ=YEARLY;BYMONTH=3;BYDAY=2SU
END:DAYLIGHT
BEGIN:STANDARD
TZNAME:CST
TZOFFSETFROM:-0500
TZOFFSETTO:-0600
DTSTART:19701101T020000
RRULE:FREQ=YEARLY;BYMONTH=11;BYDAY=1SU
END:STANDARD
END:VTIMEZONE
BEGIN:VEVENT
UID:gpd-72666933-20260121T180000@quickscores.com
DTSTAMP:20260425T200000Z
DTSTART;TZID=America/Chicago:20260121T180000
DURATION:PT0H30M0S
SUMMARY:The Blockquantinces vs. One Hit Wonders
DESCRIPTION:Co-rec Volleyball - Glenview Park District
LOCATION:Volleyball Court B - Attea
CATEGORIES:QuickScores, Volleyball - Adult Game
TRANSP:OPAQUE
BEGIN:VALARM
TRIGGER:-PT2H
ACTION:DISPLAY
DESCRIPTION:The Blockquantinces vs. One Hit Wonders
END:VALARM
END:VEVENT
BEGIN:VEVENT
UID:gpd-72666936-20260128T180000@quickscores.com
DTSTAMP:20260425T200000Z
DTSTART;TZID=America/Chicago:20260128T180000
DURATION:PT0H30M0S
SUMMARY:Typhoon vs. One Hit Wonders
DESCRIPTION:Co-rec Volleyball - Glenview Park District
LOCATION:Volleyball Court B - Attea
CATEGORIES:QuickScores, Volleyball - Adult Game
TRANSP:OPAQUE
BEGIN:VALARM
TRIGGER:-PT2H
ACTION:DISPLAY
DESCRIPTION:Typhoon vs. One Hit Wonders
END:VALARM
END:VEVENT
BEGIN:VEVENT
UID:gpd-72666947-20260211T200000@quickscores.com
DTSTAMP:20260425T200000Z
DTSTART;TZID=America/Chicago:20260211T200000
DURATION:PT0H30M0S
SUMMARY:One Hit Wonders vs. Angle of Attack
DESCRIPTION:Co-rec Volleyball - Glenview Park District
LOCATION:Volleyball Court B - Attea
CATEGORIES:QuickScores, Volleyball - Adult Game
TRANSP:OPAQUE
BEGIN:VALARM
TRIGGER:-PT2H
ACTION:DISPLAY
DESCRIPTION:One Hit Wonders vs. Angle of Attack
END:VALARM
END:VEVENT
BEGIN:VEVENT
UID:gpd-72666950-20260218T180000@quickscores.com
DTSTAMP:20260425T200000Z
DTSTART;TZID=America/Chicago:20260218T180000
DURATION:PT0H30M0S
SUMMARY:One Hit Wonders vs. Spiked Punch
DESCRIPTION:Co-rec Volleyball - Glenview Park District
LOCATION:Volleyball Court B - Attea
CATEGORIES:QuickScores, Volleyball - Adult Game
TRANSP:OPAQUE
BEGIN:VALARM
TRIGGER:-PT2H
ACTION:DISPLAY
DESCRIPTION:One Hit Wonders vs. Spiked Punch
END:VALARM
END:VEVENT
BEGIN:VEVENT
UID:gpd-72666958-20260225T210000@quickscores.com
DTSTAMP:20260425T200000Z
DTSTART;TZID=America/Chicago:20260225T210000
DURATION:PT0H30M0S
SUMMARY:Over Served vs. One Hit Wonders
DESCRIPTION:Co-rec Volleyball - Glenview Park District
LOCATION:Volleyball Court B - Attea
CATEGORIES:QuickScores, Volleyball - Adult Game
TRANSP:OPAQUE
BEGIN:VALARM
TRIGGER:-PT2H
ACTION:DISPLAY
DESCRIPTION:Over Served vs. One Hit Wonders
END:VALARM
END:VEVENT
BEGIN:VEVENT
UID:gpd-72666961-20260304T200000@quickscores.com
DTSTAMP:20260425T200000Z
DTSTART;TZID=America/Chicago:20260304T200000
DURATION:PT0H30M0S
SUMMARY:Nothing But Net vs. One Hit Wonders
DESCRIPTION:Co-rec Volleyball - Glenview Park District
LOCATION:Volleyball Court B - Attea
CATEGORIES:QuickScores, Volleyball - Adult Game
TRANSP:OPAQUE
BEGIN:VALARM
TRIGGER:-PT2H
ACTION:DISPLAY
DESCRIPTION:Nothing But Net vs. One Hit Wonders
END:VALARM
END:VEVENT
BEGIN:VEVENT
UID:gpd-72666968-20260311T210000@quickscores.com
DTSTAMP:20260425T200000Z
DTSTART;TZID=America/Chicago:20260311T210000
DURATION:PT0H30M0S
SUMMARY:Block Lobsters vs. One Hit Wonders
DESCRIPTION:Co-rec Volleyball - Glenview Park District
LOCATION:Volleyball Court B - Attea
CATEGORIES:QuickScores, Volleyball - Adult Game
TRANSP:OPAQUE
BEGIN:VALARM
TRIGGER:-PT2H
ACTION:DISPLAY
DESCRIPTION:Block Lobsters vs. One Hit Wonders
END:VALARM
END:VEVENT
BEGIN:VEVENT
UID:gpd-72666972-20260318T190000@quickscores.com
DTSTAMP:20260425T200000Z
DTSTART;TZID=America/Chicago:20260318T190000
DURATION:PT0H30M0S
SUMMARY:One Hit Wonders vs. The Blockquantinces
DESCRIPTION:Co-rec Volleyball - Glenview Park District
LOCATION:Volleyball Court B - Attea
CATEGORIES:QuickScores, Volleyball - Adult Game
TRANSP:OPAQUE
BEGIN:VALARM
TRIGGER:-PT2H
ACTION:DISPLAY
DESCRIPTION:One Hit Wonders vs. The Blockquantinces
END:VALARM
END:VEVENT
BEGIN:VEVENT
UID:gpd-72666975-20260401T190000@quickscores.com
DTSTAMP:20260425T200000Z
DTSTART;TZID=America/Chicago:20260401T190000
DURATION:PT0H30M0S
SUMMARY:One Hit Wonders vs. Mental Block
DESCRIPTION:Co-rec Volleyball - Glenview Park District
LOCATION:Volleyball Court A - Park Center
CATEGORIES:QuickScores, Volleyball - Adult Game
TRANSP:OPAQUE
BEGIN:VALARM
TRIGGER:-PT2H
ACTION:DISPLAY
DESCRIPTION:One Hit Wonders vs. Mental Block
END:VALARM
END:VEVENT
BEGIN:VEVENT
UID:gpd-72666981-20260408T190000@quickscores.com
DTSTAMP:20260425T200000Z
DTSTART;TZID=America/Chicago:20260408T190000
DURATION:PT0H30M0S
SUMMARY:One Hit Wonders vs. Typhoon
DESCRIPTION:Co-rec Volleyball - Glenview Park District
LOCATION:Volleyball Court A - Park Center
CATEGORIES:QuickScores, Volleyball - Adult Game
TRANSP:OPAQUE
BEGIN:VALARM
TRIGGER:-PT2H
ACTION:DISPLAY
DESCRIPTION:One Hit Wonders vs. Typhoon
END:VALARM
END:VEVENT
END:VCALENDAR
