BEGIN:VCALENDAR
VERSION:2.0
PRODID:-//QuickScores.com//BQ Dynamic iCal Creator//EN
METHOD:PUBLISH
X-WR-CALNAME:The Blockquantinces - Co-rec Volleyball - Winter 2025-2026
X-WR-CALDESC:QuickScores game calendar
X-PUBLISHED-TTL:PT24H
REFRESH-INTERVAL;VALUE=DURATION:PT24H
CALSCALE:GREGORIAN
BEGIN:VTIMEZONE
TZID:America/Chicago
X-LIC-LOCATION:America/Chicago
BEGIN:DAYLIGHT
TZNAME:CDT
TZOFFSETFROM:-0600
TZOFFSETTO:-0500
DTSTART:19700308T020000
RRULE:FREQ=YEARLY;BYMONTH=3;BYDAY=2SU
END:DAYLIGHT
BEGIN:STANDARD
TZNAME:CST
TZOFFSETFROM:-0500
TZOFFSETTO:-0600
DTSTART:19701101T020000
RRULE:FREQ=YEARLY;BYMONTH=11;BYDAY=1SU
END:STANDARD
END:VTIMEZONE
BEGIN:VEVENT
UID:gpd-72666933-20260121T180000@quickscores.com
DTSTAMP:20260422T204500Z
DTSTART;TZID=America/Chicago:20260121T180000
DURATION:PT0H30M0S
SUMMARY:The Blockquantinces vs. One Hit Wonders
DESCRIPTION:Co-rec Volleyball - Glenview Park District
LOCATION:Volleyball Court B - Attea
CATEGORIES:QuickScores, Volleyball - Adult Game
TRANSP:OPAQUE
BEGIN:VALARM
TRIGGER:-PT2H
ACTION:DISPLAY
DESCRIPTION:The Blockquantinces vs. One Hit Wonders
END:VALARM
END:VEVENT
BEGIN:VEVENT
UID:gpd-72666935-20260128T200000@quickscores.com
DTSTAMP:20260422T204500Z
DTSTART;TZID=America/Chicago:20260128T200000
DURATION:PT0H30M0S
SUMMARY:The Blockquantinces vs. Block Lobsters
DESCRIPTION:Co-rec Volleyball - Glenview Park District
LOCATION:Volleyball Court B - Attea
CATEGORIES:QuickScores, Volleyball - Adult Game
TRANSP:OPAQUE
BEGIN:VALARM
TRIGGER:-PT2H
ACTION:DISPLAY
DESCRIPTION:The Blockquantinces vs. Block Lobsters
END:VALARM
END:VEVENT
BEGIN:VEVENT
UID:gpd-72666942-20260204T200000@quickscores.com
DTSTAMP:20260422T204500Z
DTSTART;TZID=America/Chicago:20260204T200000
DURATION:PT0H30M0S
SUMMARY:The Blockquantinces vs. Angle of Attack
DESCRIPTION:Co-rec Volleyball - Glenview Park District
LOCATION:Volleyball Court B - Attea
CATEGORIES:QuickScores, Volleyball - Adult Game
TRANSP:OPAQUE
BEGIN:VALARM
TRIGGER:-PT2H
ACTION:DISPLAY
DESCRIPTION:The Blockquantinces vs. Angle of Attack
END:VALARM
END:VEVENT
BEGIN:VEVENT
UID:gpd-72666953-20260218T210000@quickscores.com
DTSTAMP:20260422T204500Z
DTSTART;TZID=America/Chicago:20260218T210000
DURATION:PT0H30M0S
SUMMARY:The Blockquantinces vs. Typhoon
DESCRIPTION:Co-rec Volleyball - Glenview Park District
LOCATION:Volleyball Court B - Attea
CATEGORIES:QuickScores, Volleyball - Adult Game
TRANSP:OPAQUE
BEGIN:VALARM
TRIGGER:-PT2H
ACTION:DISPLAY
DESCRIPTION:The Blockquantinces vs. Typhoon
END:VALARM
END:VEVENT
BEGIN:VEVENT
UID:gpd-72666955-20260225T180000@quickscores.com
DTSTAMP:20260422T204500Z
DTSTART;TZID=America/Chicago:20260225T180000
DURATION:PT0H30M0S
SUMMARY:Nothing But Net vs. The Blockquantinces
DESCRIPTION:Co-rec Volleyball - Glenview Park District
LOCATION:Volleyball Court B - Attea
CATEGORIES:QuickScores, Volleyball - Adult Game
TRANSP:OPAQUE
BEGIN:VALARM
TRIGGER:-PT2H
ACTION:DISPLAY
DESCRIPTION:Nothing But Net vs. The Blockquantinces
END:VALARM
END:VEVENT
BEGIN:VEVENT
UID:gpd-72666963-20260304T210000@quickscores.com
DTSTAMP:20260422T204500Z
DTSTART;TZID=America/Chicago:20260304T210000
DURATION:PT0H30M0S
SUMMARY:Mental Block vs. The Blockquantinces
DESCRIPTION:Co-rec Volleyball - Glenview Park District
LOCATION:Volleyball Court B - Attea
CATEGORIES:QuickScores, Volleyball - Adult Game
TRANSP:OPAQUE
BEGIN:VALARM
TRIGGER:-PT2H
ACTION:DISPLAY
DESCRIPTION:Mental Block vs. The Blockquantinces
END:VALARM
END:VEVENT
BEGIN:VEVENT
UID:gpd-72666966-20260311T190000@quickscores.com
DTSTAMP:20260422T204500Z
DTSTART;TZID=America/Chicago:20260311T190000
DURATION:PT0H30M0S
SUMMARY:The Blockquantinces vs. Spiked Punch
DESCRIPTION:Co-rec Volleyball - Glenview Park District
LOCATION:Volleyball Court B - Attea
CATEGORIES:QuickScores, Volleyball - Adult Game
TRANSP:OPAQUE
BEGIN:VALARM
TRIGGER:-PT2H
ACTION:DISPLAY
DESCRIPTION:The Blockquantinces vs. Spiked Punch
END:VALARM
END:VEVENT
BEGIN:VEVENT
UID:gpd-72666972-20260318T190000@quickscores.com
DTSTAMP:20260422T204500Z
DTSTART;TZID=America/Chicago:20260318T190000
DURATION:PT0H30M0S
SUMMARY:One Hit Wonders vs. The Blockquantinces
DESCRIPTION:Co-rec Volleyball - Glenview Park District
LOCATION:Volleyball Court B - Attea
CATEGORIES:QuickScores, Volleyball - Adult Game
TRANSP:OPAQUE
BEGIN:VALARM
TRIGGER:-PT2H
ACTION:DISPLAY
DESCRIPTION:One Hit Wonders vs. The Blockquantinces
END:VALARM
END:VEVENT
BEGIN:VEVENT
UID:gpd-72666976-20260401T180000@quickscores.com
DTSTAMP:20260422T204500Z
DTSTART;TZID=America/Chicago:20260401T180000
DURATION:PT0H30M0S
SUMMARY:Over Served vs. The Blockquantinces
DESCRIPTION:Co-rec Volleyball - Glenview Park District
LOCATION:Volleyball Court A - Park Center
CATEGORIES:QuickScores, Volleyball - Adult Game
TRANSP:OPAQUE
BEGIN:VALARM
TRIGGER:-PT2H
ACTION:DISPLAY
DESCRIPTION:Over Served vs. The Blockquantinces
END:VALARM
END:VEVENT
BEGIN:VEVENT
UID:gpd-72666980-20260408T180000@quickscores.com
DTSTAMP:20260422T204500Z
DTSTART;TZID=America/Chicago:20260408T180000
DURATION:PT0H30M0S
SUMMARY:Block Lobsters vs. The Blockquantinces
DESCRIPTION:Co-rec Volleyball - Glenview Park District
LOCATION:Volleyball Court A - Park Center
CATEGORIES:QuickScores, Volleyball - Adult Game
TRANSP:OPAQUE
BEGIN:VALARM
TRIGGER:-PT2H
ACTION:DISPLAY
DESCRIPTION:Block Lobsters vs. The Blockquantinces
END:VALARM
END:VEVENT
END:VCALENDAR
