BEGIN:VCALENDAR
VERSION:2.0
PRODID:-//QuickScores.com//BQ Dynamic iCal Creator//EN
METHOD:PUBLISH
X-WR-CALNAME:Dean - 2022 Softball Adding Elms (4/29/21) - Spring 2022
X-WR-CALDESC:QuickScores game calendar
X-PUBLISHED-TTL:PT24H
REFRESH-INTERVAL;VALUE=DURATION:PT24H
CALSCALE:GREGORIAN
BEGIN:VTIMEZONE
TZID:America/New_York
X-LIC-LOCATION:America/New_York
BEGIN:DAYLIGHT
TZNAME:EDT
TZOFFSETFROM:-0500
TZOFFSETTO:-0400
DTSTART:19700308T020000
RRULE:FREQ=YEARLY;BYMONTH=3;BYDAY=2SU
END:DAYLIGHT
BEGIN:STANDARD
TZNAME:EST
TZOFFSETFROM:-0400
TZOFFSETTO:-0500
DTSTART:19701101T020000
RRULE:FREQ=YEARLY;BYMONTH=11;BYDAY=1SU
END:STANDARD
END:VTIMEZONE
BEGIN:VEVENT
UID:gnac-49084145-20220329@quickscores.com
DTSTAMP:20260424T205900Z
DTSTART;TZID=America/New_York:20220329
SUMMARY:Dean vs. Johnson & Wales
DESCRIPTION:2022 Softball Adding Elms (4/29/21) - Great Northeast Athletic Conference
LOCATION:Franklin MA
CATEGORIES:QuickScores, Softball Game
TRANSP:OPAQUE
BEGIN:VALARM
TRIGGER:-PT2H
ACTION:DISPLAY
DESCRIPTION:Dean vs. Johnson & Wales
END:VALARM
END:VEVENT
BEGIN:VEVENT
UID:gnac-49084172-20220402@quickscores.com
DTSTAMP:20260424T205900Z
DTSTART;TZID=America/New_York:20220402
SUMMARY:Dean vs. Albertus Magnus
DESCRIPTION:2022 Softball Adding Elms (4/29/21) - Great Northeast Athletic Conference
LOCATION:Franklin MA
CATEGORIES:QuickScores, Softball Game
TRANSP:OPAQUE
BEGIN:VALARM
TRIGGER:-PT2H
ACTION:DISPLAY
DESCRIPTION:Dean vs. Albertus Magnus
END:VALARM
END:VEVENT
BEGIN:VEVENT
UID:gnac-49084174-20220403@quickscores.com
DTSTAMP:20260424T205900Z
DTSTART;TZID=America/New_York:20220403
SUMMARY:Anna Maria vs. Dean
DESCRIPTION:2022 Softball Adding Elms (4/29/21) - Great Northeast Athletic Conference
LOCATION:Paxton MA
CATEGORIES:QuickScores, Softball Game
TRANSP:OPAQUE
BEGIN:VALARM
TRIGGER:-PT2H
ACTION:DISPLAY
DESCRIPTION:Anna Maria vs. Dean
END:VALARM
END:VEVENT
BEGIN:VEVENT
UID:gnac-49213480-20220406@quickscores.com
DTSTAMP:20260424T205900Z
DTSTART;TZID=America/New_York:20220406
SUMMARY:Dean vs. Simmons
DESCRIPTION:2022 Softball Adding Elms (4/29/21) - Great Northeast Athletic Conference
LOCATION:Franklin MA
CATEGORIES:QuickScores, Softball Game
TRANSP:OPAQUE
BEGIN:VALARM
TRIGGER:-PT2H
ACTION:DISPLAY
DESCRIPTION:Dean vs. Simmons
END:VALARM
END:VEVENT
BEGIN:VEVENT
UID:gnac-49084206-20220410@quickscores.com
DTSTAMP:20260424T205900Z
DTSTART;TZID=America/New_York:20220410
SUMMARY:Elms vs. Dean
DESCRIPTION:2022 Softball Adding Elms (4/29/21) - Great Northeast Athletic Conference
LOCATION:Timothy J. Leary Field Chicopee MA
CATEGORIES:QuickScores, Softball Game
TRANSP:OPAQUE
BEGIN:VALARM
TRIGGER:-PT2H
ACTION:DISPLAY
DESCRIPTION:Elms vs. Dean
END:VALARM
END:VEVENT
BEGIN:VEVENT
UID:gnac-49084196-20220416@quickscores.com
DTSTAMP:20260424T205900Z
DTSTART;TZID=America/New_York:20220416
SUMMARY:Regis vs. Dean
DESCRIPTION:2022 Softball Adding Elms (4/29/21) - Great Northeast Athletic Conference
LOCATION:Regis Weston MA
CATEGORIES:QuickScores, Softball Game
TRANSP:OPAQUE
BEGIN:VALARM
TRIGGER:-PT2H
ACTION:DISPLAY
DESCRIPTION:Regis vs. Dean
END:VALARM
END:VEVENT
BEGIN:VEVENT
UID:gnac-49084156-20220423@quickscores.com
DTSTAMP:20260424T205900Z
DTSTART;TZID=America/New_York:20220423
SUMMARY:Dean vs. Emmanuel
DESCRIPTION:2022 Softball Adding Elms (4/29/21) - Great Northeast Athletic Conference
LOCATION:Franklin MA
CATEGORIES:QuickScores, Softball Game
TRANSP:OPAQUE
BEGIN:VALARM
TRIGGER:-PT2H
ACTION:DISPLAY
DESCRIPTION:Dean vs. Emmanuel
END:VALARM
END:VEVENT
BEGIN:VEVENT
UID:gnac-49084179-20220424@quickscores.com
DTSTAMP:20260424T205900Z
DTSTART;TZID=America/New_York:20220424
SUMMARY:Lasell vs. Dean
DESCRIPTION:2022 Softball Adding Elms (4/29/21) - Great Northeast Athletic Conference
LOCATION:Taylor Field at Lasell College
CATEGORIES:QuickScores, Softball Game
TRANSP:OPAQUE
BEGIN:VALARM
TRIGGER:-PT2H
ACTION:DISPLAY
DESCRIPTION:Lasell vs. Dean
END:VALARM
END:VEVENT
BEGIN:VEVENT
UID:gnac-49084173-20220430@quickscores.com
DTSTAMP:20260424T205900Z
DTSTART;TZID=America/New_York:20220430
SUMMARY:Dean vs. Saint Joseph CT
DESCRIPTION:2022 Softball Adding Elms (4/29/21) - Great Northeast Athletic Conference
LOCATION:Franklin MA
CATEGORIES:QuickScores, Softball Game
TRANSP:OPAQUE
BEGIN:VALARM
TRIGGER:-PT2H
ACTION:DISPLAY
DESCRIPTION:Dean vs. Saint Joseph CT
END:VALARM
END:VEVENT
END:VCALENDAR
