BEGIN:VCALENDAR
VERSION:2.0
PRODID:-//QuickScores.com//BQ Dynamic iCal Creator//EN
METHOD:PUBLISH
X-WR-CALNAME:Anna Maria - 2022 Softball Adding Elms (4/29/21) - Spring 2022
X-WR-CALDESC:QuickScores game calendar
X-PUBLISHED-TTL:PT24H
REFRESH-INTERVAL;VALUE=DURATION:PT24H
CALSCALE:GREGORIAN
BEGIN:VTIMEZONE
TZID:America/New_York
X-LIC-LOCATION:America/New_York
BEGIN:DAYLIGHT
TZNAME:EDT
TZOFFSETFROM:-0500
TZOFFSETTO:-0400
DTSTART:19700308T020000
RRULE:FREQ=YEARLY;BYMONTH=3;BYDAY=2SU
END:DAYLIGHT
BEGIN:STANDARD
TZNAME:EST
TZOFFSETFROM:-0400
TZOFFSETTO:-0500
DTSTART:19701101T020000
RRULE:FREQ=YEARLY;BYMONTH=11;BYDAY=1SU
END:STANDARD
END:VTIMEZONE
BEGIN:VEVENT
UID:gnac-49084151-20220329@quickscores.com
DTSTAMP:20260424T223400Z
DTSTART;TZID=America/New_York:20220329
SUMMARY:Anna Maria vs. Saint Joseph CT
DESCRIPTION:2022 Softball Adding Elms (4/29/21) - Great Northeast Athletic Conference
LOCATION:Paxton MA
CATEGORIES:QuickScores, Softball Game
TRANSP:OPAQUE
BEGIN:VALARM
TRIGGER:-PT2H
ACTION:DISPLAY
DESCRIPTION:Anna Maria vs. Saint Joseph CT
END:VALARM
END:VEVENT
BEGIN:VEVENT
UID:gnac-49212891-20220402@quickscores.com
DTSTAMP:20260424T223400Z
DTSTART;TZID=America/New_York:20220402
SUMMARY:Regis vs. Anna Maria
DESCRIPTION:2022 Softball Adding Elms (4/29/21) - Great Northeast Athletic Conference
LOCATION:Regis Weston MA
CATEGORIES:QuickScores, Softball Game
TRANSP:OPAQUE
BEGIN:VALARM
TRIGGER:-PT2H
ACTION:DISPLAY
DESCRIPTION:Regis vs. Anna Maria
END:VALARM
END:VEVENT
BEGIN:VEVENT
UID:gnac-49084174-20220403@quickscores.com
DTSTAMP:20260424T223400Z
DTSTART;TZID=America/New_York:20220403
SUMMARY:Anna Maria vs. Dean
DESCRIPTION:2022 Softball Adding Elms (4/29/21) - Great Northeast Athletic Conference
LOCATION:Paxton MA
CATEGORIES:QuickScores, Softball Game
TRANSP:OPAQUE
BEGIN:VALARM
TRIGGER:-PT2H
ACTION:DISPLAY
DESCRIPTION:Anna Maria vs. Dean
END:VALARM
END:VEVENT
BEGIN:VEVENT
UID:gnac-49084180-20220406@quickscores.com
DTSTAMP:20260424T223400Z
DTSTART;TZID=America/New_York:20220406
SUMMARY:Rivier vs. Anna Maria
DESCRIPTION:2022 Softball Adding Elms (4/29/21) - Great Northeast Athletic Conference
LOCATION:Nashua, NH
CATEGORIES:QuickScores, Softball Game
TRANSP:OPAQUE
BEGIN:VALARM
TRIGGER:-PT2H
ACTION:DISPLAY
DESCRIPTION:Rivier vs. Anna Maria
END:VALARM
END:VEVENT
BEGIN:VEVENT
UID:gnac-49084159-20220409@quickscores.com
DTSTAMP:20260424T223400Z
DTSTART;TZID=America/New_York:20220409
SUMMARY:Anna Maria vs. Simmons
DESCRIPTION:2022 Softball Adding Elms (4/29/21) - Great Northeast Athletic Conference
LOCATION:Paxton MA
CATEGORIES:QuickScores, Softball Game
TRANSP:OPAQUE
BEGIN:VALARM
TRIGGER:-PT2H
ACTION:DISPLAY
DESCRIPTION:Anna Maria vs. Simmons
END:VALARM
END:VEVENT
BEGIN:VEVENT
UID:gnac-49084152-20220410@quickscores.com
DTSTAMP:20260424T223400Z
DTSTART;TZID=America/New_York:20220410
SUMMARY:Norwich vs. Anna Maria
DESCRIPTION:2022 Softball Adding Elms (4/29/21) - Great Northeast Athletic Conference
LOCATION:Northfield, VT
CATEGORIES:QuickScores, Softball Game
TRANSP:OPAQUE
BEGIN:VALARM
TRIGGER:-PT2H
ACTION:DISPLAY
DESCRIPTION:Norwich vs. Anna Maria
END:VALARM
END:VEVENT
BEGIN:VEVENT
UID:gnac-49084144-20220423@quickscores.com
DTSTAMP:20260424T223400Z
DTSTART;TZID=America/New_York:20220423
SUMMARY:Anna Maria vs. Saint Joseph's ME
DESCRIPTION:2022 Softball Adding Elms (4/29/21) - Great Northeast Athletic Conference
LOCATION:Paxton MA
CATEGORIES:QuickScores, Softball Game
TRANSP:OPAQUE
BEGIN:VALARM
TRIGGER:-PT2H
ACTION:DISPLAY
DESCRIPTION:Anna Maria vs. Saint Joseph's ME
END:VALARM
END:VEVENT
BEGIN:VEVENT
UID:gnac-49084166-20220424@quickscores.com
DTSTAMP:20260424T223400Z
DTSTART;TZID=America/New_York:20220424
SUMMARY:Emmanuel vs. Anna Maria
DESCRIPTION:2022 Softball Adding Elms (4/29/21) - Great Northeast Athletic Conference
LOCATION:Roberto Clemente Field
CATEGORIES:QuickScores, Softball Game
TRANSP:OPAQUE
BEGIN:VALARM
TRIGGER:-PT2H
ACTION:DISPLAY
DESCRIPTION:Emmanuel vs. Anna Maria
END:VALARM
END:VEVENT
END:VCALENDAR
