BEGIN:VCALENDAR
VERSION:2.0
PRODID:-//QuickScores.com//BQ Dynamic iCal Creator//EN
METHOD:PUBLISH
X-WR-CALNAME:Rivier - 2021-2022 Men&#039;s Basketball Adding Elms (4/16/21) - Winter 2021-2022
X-WR-CALDESC:QuickScores game calendar
X-PUBLISHED-TTL:PT24H
REFRESH-INTERVAL;VALUE=DURATION:PT24H
CALSCALE:GREGORIAN
BEGIN:VTIMEZONE
TZID:America/New_York
X-LIC-LOCATION:America/New_York
BEGIN:DAYLIGHT
TZNAME:EDT
TZOFFSETFROM:-0500
TZOFFSETTO:-0400
DTSTART:19700308T020000
RRULE:FREQ=YEARLY;BYMONTH=3;BYDAY=2SU
END:DAYLIGHT
BEGIN:STANDARD
TZNAME:EST
TZOFFSETFROM:-0400
TZOFFSETTO:-0500
DTSTART:19701101T020000
RRULE:FREQ=YEARLY;BYMONTH=11;BYDAY=1SU
END:STANDARD
END:VTIMEZONE
BEGIN:VEVENT
UID:gnac-48942627-20211204@quickscores.com
DTSTAMP:20260420T201000Z
DTSTART;TZID=America/New_York:20211204
SUMMARY:Rivier vs. Lasell
DESCRIPTION:2021-2022 Doubleheader --- 2021-2022 Men's Basketball Adding Elms (4/16/21) - Great Northeast Athletic Conference
LOCATION:Nashua, NH
CATEGORIES:QuickScores, Basketball Game
TRANSP:OPAQUE
BEGIN:VALARM
TRIGGER:-PT2H
ACTION:DISPLAY
DESCRIPTION:Rivier vs. Lasell
END:VALARM
END:VEVENT
BEGIN:VEVENT
UID:gnac-48942633-20211211@quickscores.com
DTSTAMP:20260420T201000Z
DTSTART;TZID=America/New_York:20211211
SUMMARY:Albertus Magnus vs. Rivier
DESCRIPTION:2021-2022 Doubleheader --- 2021-2022 Men's Basketball Adding Elms (4/16/21) - Great Northeast Athletic Conference
LOCATION:New Haven, CT
CATEGORIES:QuickScores, Basketball Game
TRANSP:OPAQUE
BEGIN:VALARM
TRIGGER:-PT2H
ACTION:DISPLAY
DESCRIPTION:Albertus Magnus vs. Rivier
END:VALARM
END:VEVENT
BEGIN:VEVENT
UID:gnac-48942678-20220104@quickscores.com
DTSTAMP:20260420T201000Z
DTSTART;TZID=America/New_York:20220104
SUMMARY:Regis vs. Rivier
DESCRIPTION:2021-2022 Doubleheader --- 2021-2022 Men's Basketball Adding Elms (4/16/21) - Great Northeast Athletic Conference
LOCATION:Regis Weston MA
CATEGORIES:QuickScores, Basketball Game
TRANSP:OPAQUE
BEGIN:VALARM
TRIGGER:-PT2H
ACTION:DISPLAY
DESCRIPTION:Regis vs. Rivier
END:VALARM
END:VEVENT
BEGIN:VEVENT
UID:gnac-48942731-20220106@quickscores.com
DTSTAMP:20260420T201000Z
DTSTART;TZID=America/New_York:20220106
SUMMARY:Rivier vs. Saint Joseph's ME
DESCRIPTION:2021-2022 Doubleheader --- 2021-2022 Men's Basketball Adding Elms (4/16/21) - Great Northeast Athletic Conference
LOCATION:Nashua, NH
CATEGORIES:QuickScores, Basketball Game
TRANSP:OPAQUE
BEGIN:VALARM
TRIGGER:-PT2H
ACTION:DISPLAY
DESCRIPTION:Rivier vs. Saint Joseph's ME
END:VALARM
END:VEVENT
BEGIN:VEVENT
UID:gnac-48942647-20220108@quickscores.com
DTSTAMP:20260420T201000Z
DTSTART;TZID=America/New_York:20220108
SUMMARY:Dean vs. Rivier
DESCRIPTION:2021-2022 Doubleheader --- 2021-2022 Men's Basketball Adding Elms (4/16/21) - Great Northeast Athletic Conference
LOCATION:Franklin MA
CATEGORIES:QuickScores, Basketball Game
TRANSP:OPAQUE
BEGIN:VALARM
TRIGGER:-PT2H
ACTION:DISPLAY
DESCRIPTION:Dean vs. Rivier
END:VALARM
END:VEVENT
BEGIN:VEVENT
UID:gnac-48942623-20220112@quickscores.com
DTSTAMP:20260420T201000Z
DTSTART;TZID=America/New_York:20220112
SUMMARY:Emmanuel vs. Rivier
DESCRIPTION:2021-2022 Doubleheader --- 2021-2022 Men's Basketball Adding Elms (4/16/21) - Great Northeast Athletic Conference
LOCATION:Jean Yawkey Center
CATEGORIES:QuickScores, Basketball Game
TRANSP:OPAQUE
BEGIN:VALARM
TRIGGER:-PT2H
ACTION:DISPLAY
DESCRIPTION:Emmanuel vs. Rivier
END:VALARM
END:VEVENT
BEGIN:VEVENT
UID:gnac-48942720-20220115@quickscores.com
DTSTAMP:20260420T201000Z
DTSTART;TZID=America/New_York:20220115
SUMMARY:Anna Maria vs. Rivier
DESCRIPTION:2021-2022 Doubleheader --- 2021-2022 Men's Basketball Adding Elms (4/16/21) - Great Northeast Athletic Conference
LOCATION:Paxton MA
CATEGORIES:QuickScores, Basketball Game
TRANSP:OPAQUE
BEGIN:VALARM
TRIGGER:-PT2H
ACTION:DISPLAY
DESCRIPTION:Anna Maria vs. Rivier
END:VALARM
END:VEVENT
BEGIN:VEVENT
UID:gnac-48942695-20220118@quickscores.com
DTSTAMP:20260420T201000Z
DTSTART;TZID=America/New_York:20220118
SUMMARY:Colby Sawyer vs. Rivier
DESCRIPTION:2021-2022 Doubleheader --- 2021-2022 Men's Basketball Adding Elms (4/16/21) - Great Northeast Athletic Conference
LOCATION:New London NH
CATEGORIES:QuickScores, Basketball Game
TRANSP:OPAQUE
BEGIN:VALARM
TRIGGER:-PT2H
ACTION:DISPLAY
DESCRIPTION:Colby Sawyer vs. Rivier
END:VALARM
END:VEVENT
BEGIN:VEVENT
UID:gnac-48942697-20220122@quickscores.com
DTSTAMP:20260420T201000Z
DTSTART;TZID=America/New_York:20220122
SUMMARY:Rivier vs. Saint Joseph CT
DESCRIPTION:2021-2022 Doubleheader --- 2021-2022 Men's Basketball Adding Elms (4/16/21) - Great Northeast Athletic Conference
LOCATION:Nashua, NH
CATEGORIES:QuickScores, Basketball Game
TRANSP:OPAQUE
BEGIN:VALARM
TRIGGER:-PT2H
ACTION:DISPLAY
DESCRIPTION:Rivier vs. Saint Joseph CT
END:VALARM
END:VEVENT
BEGIN:VEVENT
UID:gnac-48942726-20220126@quickscores.com
DTSTAMP:20260420T201000Z
DTSTART;TZID=America/New_York:20220126
SUMMARY:Rivier vs. Emmanuel
DESCRIPTION:2021-2022 Doubleheader --- 2021-2022 Men's Basketball Adding Elms (4/16/21) - Great Northeast Athletic Conference
LOCATION:Nashua, NH
CATEGORIES:QuickScores, Basketball Game
TRANSP:OPAQUE
BEGIN:VALARM
TRIGGER:-PT2H
ACTION:DISPLAY
DESCRIPTION:Rivier vs. Emmanuel
END:VALARM
END:VEVENT
BEGIN:VEVENT
UID:gnac-48942729-20220129@quickscores.com
DTSTAMP:20260420T201000Z
DTSTART;TZID=America/New_York:20220129
SUMMARY:Rivier vs. Norwich
DESCRIPTION:2021-2022 Doubleheader --- 2021-2022 Men's Basketball Adding Elms (4/16/21) - Great Northeast Athletic Conference
LOCATION:Nashua, NH
CATEGORIES:QuickScores, Basketball Game
TRANSP:OPAQUE
BEGIN:VALARM
TRIGGER:-PT2H
ACTION:DISPLAY
DESCRIPTION:Rivier vs. Norwich
END:VALARM
END:VEVENT
BEGIN:VEVENT
UID:gnac-48942666-20220201@quickscores.com
DTSTAMP:20260420T201000Z
DTSTART;TZID=America/New_York:20220201
SUMMARY:Saint Joseph's ME vs. Rivier
DESCRIPTION:2021-2022 Doubleheader --- 2021-2022 Men's Basketball Adding Elms (4/16/21) - Great Northeast Athletic Conference
LOCATION:Standish ME
CATEGORIES:QuickScores, Basketball Game
TRANSP:OPAQUE
BEGIN:VALARM
TRIGGER:-PT2H
ACTION:DISPLAY
DESCRIPTION:Saint Joseph's ME vs. Rivier
END:VALARM
END:VEVENT
BEGIN:VEVENT
UID:gnac-48942643-20220205@quickscores.com
DTSTAMP:20260420T201000Z
DTSTART;TZID=America/New_York:20220205
SUMMARY:Rivier vs. Anna Maria
DESCRIPTION:2021-2022 Doubleheader --- 2021-2022 Men's Basketball Adding Elms (4/16/21) - Great Northeast Athletic Conference
LOCATION:Nashua, NH
CATEGORIES:QuickScores, Basketball Game
TRANSP:OPAQUE
BEGIN:VALARM
TRIGGER:-PT2H
ACTION:DISPLAY
DESCRIPTION:Rivier vs. Anna Maria
END:VALARM
END:VEVENT
BEGIN:VEVENT
UID:gnac-48942722-20220209@quickscores.com
DTSTAMP:20260420T201000Z
DTSTART;TZID=America/New_York:20220209
SUMMARY:Rivier vs. Colby Sawyer
DESCRIPTION:2021-2022 Doubleheader --- 2021-2022 Men's Basketball Adding Elms (4/16/21) - Great Northeast Athletic Conference
LOCATION:Nashua, NH
CATEGORIES:QuickScores, Basketball Game
TRANSP:OPAQUE
BEGIN:VALARM
TRIGGER:-PT2H
ACTION:DISPLAY
DESCRIPTION:Rivier vs. Colby Sawyer
END:VALARM
END:VEVENT
BEGIN:VEVENT
UID:gnac-48943621-20220212@quickscores.com
DTSTAMP:20260420T201000Z
DTSTART;TZID=America/New_York:20220212
SUMMARY:Elms vs. Rivier
DESCRIPTION:2021-2022 Doubleheader --- 2021-2022 Men's Basketball Adding Elms (4/16/21) - Great Northeast Athletic Conference
LOCATION:Maguire Center
CATEGORIES:QuickScores, Basketball Game
TRANSP:OPAQUE
BEGIN:VALARM
TRIGGER:-PT2H
ACTION:DISPLAY
DESCRIPTION:Elms vs. Rivier
END:VALARM
END:VEVENT
BEGIN:VEVENT
UID:gnac-48942628-20220215@quickscores.com
DTSTAMP:20260420T201000Z
DTSTART;TZID=America/New_York:20220215
SUMMARY:Norwich vs. Rivier
DESCRIPTION:2021-2022 Doubleheader --- 2021-2022 Men's Basketball Adding Elms (4/16/21) - Great Northeast Athletic Conference
LOCATION:Northfield, VT
CATEGORIES:QuickScores, Basketball Game
TRANSP:OPAQUE
BEGIN:VALARM
TRIGGER:-PT2H
ACTION:DISPLAY
DESCRIPTION:Norwich vs. Rivier
END:VALARM
END:VEVENT
BEGIN:VEVENT
UID:gnac-48942670-20220219@quickscores.com
DTSTAMP:20260420T201000Z
DTSTART;TZID=America/New_York:20220219
SUMMARY:Rivier vs. Johnson & Wales
DESCRIPTION:2021-2022 Doubleheader --- 2021-2022 Men's Basketball Adding Elms (4/16/21) - Great Northeast Athletic Conference
LOCATION:Nashua, NH
CATEGORIES:QuickScores, Basketball Game
TRANSP:OPAQUE
BEGIN:VALARM
TRIGGER:-PT2H
ACTION:DISPLAY
DESCRIPTION:Rivier vs. Johnson & Wales
END:VALARM
END:VEVENT
END:VCALENDAR
