BEGIN:VCALENDAR
VERSION:2.0
PRODID:-//QuickScores.com//BQ Dynamic iCal Creator//EN
METHOD:PUBLISH
X-WR-CALNAME:Regis - 2021-2022 Men&#039;s Basketball Adding Elms (4/16/21) - Winter 2021-2022
X-WR-CALDESC:QuickScores game calendar
X-PUBLISHED-TTL:PT24H
REFRESH-INTERVAL;VALUE=DURATION:PT24H
CALSCALE:GREGORIAN
BEGIN:VTIMEZONE
TZID:America/New_York
X-LIC-LOCATION:America/New_York
BEGIN:DAYLIGHT
TZNAME:EDT
TZOFFSETFROM:-0500
TZOFFSETTO:-0400
DTSTART:19700308T020000
RRULE:FREQ=YEARLY;BYMONTH=3;BYDAY=2SU
END:DAYLIGHT
BEGIN:STANDARD
TZNAME:EST
TZOFFSETFROM:-0400
TZOFFSETTO:-0500
DTSTART:19701101T020000
RRULE:FREQ=YEARLY;BYMONTH=11;BYDAY=1SU
END:STANDARD
END:VTIMEZONE
BEGIN:VEVENT
UID:gnac-48942667-20211118@quickscores.com
DTSTAMP:20260420T232300Z
DTSTART;TZID=America/New_York:20211118
SUMMARY:Emmanuel vs. Regis
DESCRIPTION:2021-2022 Doubleheader --- 2021-2022 Men's Basketball Adding Elms (4/16/21) - Great Northeast Athletic Conference
LOCATION:Jean Yawkey Center
CATEGORIES:QuickScores, Basketball Game
TRANSP:OPAQUE
BEGIN:VALARM
TRIGGER:-PT2H
ACTION:DISPLAY
DESCRIPTION:Emmanuel vs. Regis
END:VALARM
END:VEVENT
BEGIN:VEVENT
UID:gnac-48942634-20211201@quickscores.com
DTSTAMP:20260420T232300Z
DTSTART;TZID=America/New_York:20211201
SUMMARY:Regis vs. Dean
DESCRIPTION:2021-2022 Doubleheader --- 2021-2022 Men's Basketball Adding Elms (4/16/21) - Great Northeast Athletic Conference
LOCATION:Regis Weston MA
CATEGORIES:QuickScores, Basketball Game
TRANSP:OPAQUE
BEGIN:VALARM
TRIGGER:-PT2H
ACTION:DISPLAY
DESCRIPTION:Regis vs. Dean
END:VALARM
END:VEVENT
BEGIN:VEVENT
UID:gnac-48943058-20211204@quickscores.com
DTSTAMP:20260420T232300Z
DTSTART;TZID=America/New_York:20211204
SUMMARY:Regis vs. Elms
DESCRIPTION:2021-2022 Doubleheader --- 2021-2022 Men's Basketball Adding Elms (4/16/21) - Great Northeast Athletic Conference
LOCATION:Regis Weston MA
CATEGORIES:QuickScores, Basketball Game
TRANSP:OPAQUE
BEGIN:VALARM
TRIGGER:-PT2H
ACTION:DISPLAY
DESCRIPTION:Regis vs. Elms
END:VALARM
END:VEVENT
BEGIN:VEVENT
UID:gnac-48942637-20211207@quickscores.com
DTSTAMP:20260420T232300Z
DTSTART;TZID=America/New_York:20211207
SUMMARY:Regis vs. Saint Joseph's ME
DESCRIPTION:2021-2022 Doubleheader --- 2021-2022 Men's Basketball Adding Elms (4/16/21) - Great Northeast Athletic Conference
LOCATION:Regis Weston MA
CATEGORIES:QuickScores, Basketball Game
TRANSP:OPAQUE
BEGIN:VALARM
TRIGGER:-PT2H
ACTION:DISPLAY
DESCRIPTION:Regis vs. Saint Joseph's ME
END:VALARM
END:VEVENT
BEGIN:VEVENT
UID:gnac-48942678-20220104@quickscores.com
DTSTAMP:20260420T232300Z
DTSTART;TZID=America/New_York:20220104
SUMMARY:Regis vs. Rivier
DESCRIPTION:2021-2022 Doubleheader --- 2021-2022 Men's Basketball Adding Elms (4/16/21) - Great Northeast Athletic Conference
LOCATION:Regis Weston MA
CATEGORIES:QuickScores, Basketball Game
TRANSP:OPAQUE
BEGIN:VALARM
TRIGGER:-PT2H
ACTION:DISPLAY
DESCRIPTION:Regis vs. Rivier
END:VALARM
END:VEVENT
BEGIN:VEVENT
UID:gnac-48942665-20220106@quickscores.com
DTSTAMP:20260420T232300Z
DTSTART;TZID=America/New_York:20220106
SUMMARY:Regis vs. Norwich
DESCRIPTION:2021-2022 Doubleheader --- 2021-2022 Men's Basketball Adding Elms (4/16/21) - Great Northeast Athletic Conference
LOCATION:Regis Weston MA
CATEGORIES:QuickScores, Basketball Game
TRANSP:OPAQUE
BEGIN:VALARM
TRIGGER:-PT2H
ACTION:DISPLAY
DESCRIPTION:Regis vs. Norwich
END:VALARM
END:VEVENT
BEGIN:VEVENT
UID:gnac-48942672-20220108@quickscores.com
DTSTAMP:20260420T232300Z
DTSTART;TZID=America/New_York:20220108
SUMMARY:Saint Joseph CT vs. Regis
DESCRIPTION:2021-2022 Doubleheader --- 2021-2022 Men's Basketball Adding Elms (4/16/21) - Great Northeast Athletic Conference
LOCATION:W. Hartford, CT
CATEGORIES:QuickScores, Basketball Game
TRANSP:OPAQUE
BEGIN:VALARM
TRIGGER:-PT2H
ACTION:DISPLAY
DESCRIPTION:Saint Joseph CT vs. Regis
END:VALARM
END:VEVENT
BEGIN:VEVENT
UID:gnac-48942681-20220112@quickscores.com
DTSTAMP:20260420T232300Z
DTSTART;TZID=America/New_York:20220112
SUMMARY:Regis vs. Johnson & Wales
DESCRIPTION:2021-2022 Doubleheader --- 2021-2022 Men's Basketball Adding Elms (4/16/21) - Great Northeast Athletic Conference
LOCATION:Regis Weston MA
CATEGORIES:QuickScores, Basketball Game
TRANSP:OPAQUE
BEGIN:VALARM
TRIGGER:-PT2H
ACTION:DISPLAY
DESCRIPTION:Regis vs. Johnson & Wales
END:VALARM
END:VEVENT
BEGIN:VEVENT
UID:gnac-48942685-20220120@quickscores.com
DTSTAMP:20260420T232300Z
DTSTART;TZID=America/New_York:20220120
SUMMARY:Anna Maria vs. Regis
DESCRIPTION:2021-2022 Doubleheader --- 2021-2022 Men's Basketball Adding Elms (4/16/21) - Great Northeast Athletic Conference
LOCATION:Paxton MA
CATEGORIES:QuickScores, Basketball Game
TRANSP:OPAQUE
BEGIN:VALARM
TRIGGER:-PT2H
ACTION:DISPLAY
DESCRIPTION:Anna Maria vs. Regis
END:VALARM
END:VEVENT
BEGIN:VEVENT
UID:gnac-48943059-20220122@quickscores.com
DTSTAMP:20260420T232300Z
DTSTART;TZID=America/New_York:20220122
SUMMARY:Elms vs. Regis
DESCRIPTION:2021-2022 Doubleheader --- 2021-2022 Men's Basketball Adding Elms (4/16/21) - Great Northeast Athletic Conference
LOCATION:Maguire Center
CATEGORIES:QuickScores, Basketball Game
TRANSP:OPAQUE
BEGIN:VALARM
TRIGGER:-PT2H
ACTION:DISPLAY
DESCRIPTION:Elms vs. Regis
END:VALARM
END:VEVENT
BEGIN:VEVENT
UID:gnac-48942714-20220126@quickscores.com
DTSTAMP:20260420T232300Z
DTSTART;TZID=America/New_York:20220126
SUMMARY:Lasell vs. Regis
DESCRIPTION:2021-2022 Doubleheader --- 2021-2022 Men's Basketball Adding Elms (4/16/21) - Great Northeast Athletic Conference
LOCATION:Lasell Newton
CATEGORIES:QuickScores, Basketball Game
TRANSP:OPAQUE
BEGIN:VALARM
TRIGGER:-PT2H
ACTION:DISPLAY
DESCRIPTION:Lasell vs. Regis
END:VALARM
END:VEVENT
BEGIN:VEVENT
UID:gnac-48942713-20220129@quickscores.com
DTSTAMP:20260420T232300Z
DTSTART;TZID=America/New_York:20220129
SUMMARY:Regis vs. Saint Joseph CT
DESCRIPTION:2021-2022 Doubleheader --- 2021-2022 Men's Basketball Adding Elms (4/16/21) - Great Northeast Athletic Conference
LOCATION:Regis Weston MA
CATEGORIES:QuickScores, Basketball Game
TRANSP:OPAQUE
BEGIN:VALARM
TRIGGER:-PT2H
ACTION:DISPLAY
DESCRIPTION:Regis vs. Saint Joseph CT
END:VALARM
END:VEVENT
BEGIN:VEVENT
UID:gnac-48942707-20220201@quickscores.com
DTSTAMP:20260420T232300Z
DTSTART;TZID=America/New_York:20220201
SUMMARY:Johnson & Wales vs. Regis
DESCRIPTION:2021-2022 Doubleheader --- 2021-2022 Men's Basketball Adding Elms (4/16/21) - Great Northeast Athletic Conference
LOCATION:Harborside Athletic Center
CATEGORIES:QuickScores, Basketball Game
TRANSP:OPAQUE
BEGIN:VALARM
TRIGGER:-PT2H
ACTION:DISPLAY
DESCRIPTION:Johnson & Wales vs. Regis
END:VALARM
END:VEVENT
BEGIN:VEVENT
UID:gnac-48942706-20220203@quickscores.com
DTSTAMP:20260420T232300Z
DTSTART;TZID=America/New_York:20220203
SUMMARY:Regis vs. Albertus Magnus
DESCRIPTION:2021-2022 Doubleheader --- 2021-2022 Men's Basketball Adding Elms (4/16/21) - Great Northeast Athletic Conference
LOCATION:Regis Weston MA
CATEGORIES:QuickScores, Basketball Game
TRANSP:OPAQUE
BEGIN:VALARM
TRIGGER:-PT2H
ACTION:DISPLAY
DESCRIPTION:Regis vs. Albertus Magnus
END:VALARM
END:VEVENT
BEGIN:VEVENT
UID:gnac-48942716-20220205@quickscores.com
DTSTAMP:20260420T232300Z
DTSTART;TZID=America/New_York:20220205
SUMMARY:Dean vs. Regis
DESCRIPTION:2021-2022 Doubleheader --- 2021-2022 Men's Basketball Adding Elms (4/16/21) - Great Northeast Athletic Conference
LOCATION:Franklin MA
CATEGORIES:QuickScores, Basketball Game
TRANSP:OPAQUE
BEGIN:VALARM
TRIGGER:-PT2H
ACTION:DISPLAY
DESCRIPTION:Dean vs. Regis
END:VALARM
END:VEVENT
BEGIN:VEVENT
UID:gnac-48942649-20220209@quickscores.com
DTSTAMP:20260420T232300Z
DTSTART;TZID=America/New_York:20220209
SUMMARY:Albertus Magnus vs. Regis
DESCRIPTION:2021-2022 Doubleheader --- 2021-2022 Men's Basketball Adding Elms (4/16/21) - Great Northeast Athletic Conference
LOCATION:New Haven, CT
CATEGORIES:QuickScores, Basketball Game
TRANSP:OPAQUE
BEGIN:VALARM
TRIGGER:-PT2H
ACTION:DISPLAY
DESCRIPTION:Albertus Magnus vs. Regis
END:VALARM
END:VEVENT
BEGIN:VEVENT
UID:gnac-48942638-20220215@quickscores.com
DTSTAMP:20260420T232300Z
DTSTART;TZID=America/New_York:20220215
SUMMARY:Regis vs. Lasell
DESCRIPTION:2021-2022 Doubleheader --- 2021-2022 Men's Basketball Adding Elms (4/16/21) - Great Northeast Athletic Conference
LOCATION:Regis Weston MA
CATEGORIES:QuickScores, Basketball Game
TRANSP:OPAQUE
BEGIN:VALARM
TRIGGER:-PT2H
ACTION:DISPLAY
DESCRIPTION:Regis vs. Lasell
END:VALARM
END:VEVENT
BEGIN:VEVENT
UID:gnac-48942699-20220219@quickscores.com
DTSTAMP:20260420T232300Z
DTSTART;TZID=America/New_York:20220219
SUMMARY:Colby Sawyer vs. Regis
DESCRIPTION:2021-2022 Doubleheader --- 2021-2022 Men's Basketball Adding Elms (4/16/21) - Great Northeast Athletic Conference
LOCATION:New London NH
CATEGORIES:QuickScores, Basketball Game
TRANSP:OPAQUE
BEGIN:VALARM
TRIGGER:-PT2H
ACTION:DISPLAY
DESCRIPTION:Colby Sawyer vs. Regis
END:VALARM
END:VEVENT
END:VCALENDAR
