BEGIN:VCALENDAR
VERSION:2.0
PRODID:-//QuickScores.com//BQ Dynamic iCal Creator//EN
METHOD:PUBLISH
X-WR-CALNAME:Norwich - 2021-2022 Men&#039;s Basketball Adding Elms (4/16/21) - Winter 2021-2022
X-WR-CALDESC:QuickScores game calendar
X-PUBLISHED-TTL:PT24H
REFRESH-INTERVAL;VALUE=DURATION:PT24H
CALSCALE:GREGORIAN
BEGIN:VTIMEZONE
TZID:America/New_York
X-LIC-LOCATION:America/New_York
BEGIN:DAYLIGHT
TZNAME:EDT
TZOFFSETFROM:-0500
TZOFFSETTO:-0400
DTSTART:19700308T020000
RRULE:FREQ=YEARLY;BYMONTH=3;BYDAY=2SU
END:DAYLIGHT
BEGIN:STANDARD
TZNAME:EST
TZOFFSETFROM:-0400
TZOFFSETTO:-0500
DTSTART:19701101T020000
RRULE:FREQ=YEARLY;BYMONTH=11;BYDAY=1SU
END:STANDARD
END:VTIMEZONE
BEGIN:VEVENT
UID:gnac-48942645-20211203@quickscores.com
DTSTAMP:20260422T011400Z
DTSTART;TZID=America/New_York:20211203
SUMMARY:Norwich vs. Colby Sawyer
DESCRIPTION:2021-2022 Doubleheader --- 2021-2022 Men's Basketball Adding Elms (4/16/21) - Great Northeast Athletic Conference
LOCATION:Northfield, VT
CATEGORIES:QuickScores, Basketball Game
TRANSP:OPAQUE
BEGIN:VALARM
TRIGGER:-PT2H
ACTION:DISPLAY
DESCRIPTION:Norwich vs. Colby Sawyer
END:VALARM
END:VEVENT
BEGIN:VEVENT
UID:gnac-48942662-20211211@quickscores.com
DTSTAMP:20260422T011400Z
DTSTART;TZID=America/New_York:20211211
SUMMARY:Johnson & Wales vs. Norwich
DESCRIPTION:2021-2022 Doubleheader --- 2021-2022 Men's Basketball Adding Elms (4/16/21) - Great Northeast Athletic Conference
LOCATION:Harborside Athletic Center
CATEGORIES:QuickScores, Basketball Game
TRANSP:OPAQUE
BEGIN:VALARM
TRIGGER:-PT2H
ACTION:DISPLAY
DESCRIPTION:Johnson & Wales vs. Norwich
END:VALARM
END:VEVENT
BEGIN:VEVENT
UID:gnac-48943623-20220104@quickscores.com
DTSTAMP:20260422T011400Z
DTSTART;TZID=America/New_York:20220104
SUMMARY:Norwich vs. Elms
DESCRIPTION:2021-2022 Doubleheader --- 2021-2022 Men's Basketball Adding Elms (4/16/21) - Great Northeast Athletic Conference
LOCATION:Northfield, VT
CATEGORIES:QuickScores, Basketball Game
TRANSP:OPAQUE
BEGIN:VALARM
TRIGGER:-PT2H
ACTION:DISPLAY
DESCRIPTION:Norwich vs. Elms
END:VALARM
END:VEVENT
BEGIN:VEVENT
UID:gnac-48942665-20220106@quickscores.com
DTSTAMP:20260422T011400Z
DTSTART;TZID=America/New_York:20220106
SUMMARY:Regis vs. Norwich
DESCRIPTION:2021-2022 Doubleheader --- 2021-2022 Men's Basketball Adding Elms (4/16/21) - Great Northeast Athletic Conference
LOCATION:Regis Weston MA
CATEGORIES:QuickScores, Basketball Game
TRANSP:OPAQUE
BEGIN:VALARM
TRIGGER:-PT2H
ACTION:DISPLAY
DESCRIPTION:Regis vs. Norwich
END:VALARM
END:VEVENT
BEGIN:VEVENT
UID:gnac-48942657-20220108@quickscores.com
DTSTAMP:20260422T011400Z
DTSTART;TZID=America/New_York:20220108
SUMMARY:Norwich vs. Lasell
DESCRIPTION:2021-2022 Doubleheader --- 2021-2022 Men's Basketball Adding Elms (4/16/21) - Great Northeast Athletic Conference
LOCATION:Northfield, VT
CATEGORIES:QuickScores, Basketball Game
TRANSP:OPAQUE
BEGIN:VALARM
TRIGGER:-PT2H
ACTION:DISPLAY
DESCRIPTION:Norwich vs. Lasell
END:VALARM
END:VEVENT
BEGIN:VEVENT
UID:gnac-48942719-20220112@quickscores.com
DTSTAMP:20260422T011400Z
DTSTART;TZID=America/New_York:20220112
SUMMARY:Anna Maria vs. Norwich
DESCRIPTION:2021-2022 Doubleheader --- 2021-2022 Men's Basketball Adding Elms (4/16/21) - Great Northeast Athletic Conference
LOCATION:Paxton MA
CATEGORIES:QuickScores, Basketball Game
TRANSP:OPAQUE
BEGIN:VALARM
TRIGGER:-PT2H
ACTION:DISPLAY
DESCRIPTION:Anna Maria vs. Norwich
END:VALARM
END:VEVENT
BEGIN:VEVENT
UID:gnac-48942684-20220115@quickscores.com
DTSTAMP:20260422T011400Z
DTSTART;TZID=America/New_York:20220115
SUMMARY:Saint Joseph's ME vs. Norwich
DESCRIPTION:2021-2022 Doubleheader --- 2021-2022 Men's Basketball Adding Elms (4/16/21) - Great Northeast Athletic Conference
LOCATION:Standish ME
CATEGORIES:QuickScores, Basketball Game
TRANSP:OPAQUE
BEGIN:VALARM
TRIGGER:-PT2H
ACTION:DISPLAY
DESCRIPTION:Saint Joseph's ME vs. Norwich
END:VALARM
END:VEVENT
BEGIN:VEVENT
UID:gnac-48942625-20220118@quickscores.com
DTSTAMP:20260422T011400Z
DTSTART;TZID=America/New_York:20220118
SUMMARY:Norwich vs. Emmanuel
DESCRIPTION:2021-2022 Doubleheader --- 2021-2022 Men's Basketball Adding Elms (4/16/21) - Great Northeast Athletic Conference
LOCATION:Northfield, VT
CATEGORIES:QuickScores, Basketball Game
TRANSP:OPAQUE
BEGIN:VALARM
TRIGGER:-PT2H
ACTION:DISPLAY
DESCRIPTION:Norwich vs. Emmanuel
END:VALARM
END:VEVENT
BEGIN:VEVENT
UID:gnac-48942687-20220122@quickscores.com
DTSTAMP:20260422T011400Z
DTSTART;TZID=America/New_York:20220122
SUMMARY:Albertus Magnus vs. Norwich
DESCRIPTION:2021-2022 Doubleheader --- 2021-2022 Men's Basketball Adding Elms (4/16/21) - Great Northeast Athletic Conference
LOCATION:New Haven, CT
CATEGORIES:QuickScores, Basketball Game
TRANSP:OPAQUE
BEGIN:VALARM
TRIGGER:-PT2H
ACTION:DISPLAY
DESCRIPTION:Albertus Magnus vs. Norwich
END:VALARM
END:VEVENT
BEGIN:VEVENT
UID:gnac-48942652-20220126@quickscores.com
DTSTAMP:20260422T011400Z
DTSTART;TZID=America/New_York:20220126
SUMMARY:Norwich vs. Anna Maria
DESCRIPTION:2021-2022 Doubleheader --- 2021-2022 Men's Basketball Adding Elms (4/16/21) - Great Northeast Athletic Conference
LOCATION:Northfield, VT
CATEGORIES:QuickScores, Basketball Game
TRANSP:OPAQUE
BEGIN:VALARM
TRIGGER:-PT2H
ACTION:DISPLAY
DESCRIPTION:Norwich vs. Anna Maria
END:VALARM
END:VEVENT
BEGIN:VEVENT
UID:gnac-48942729-20220129@quickscores.com
DTSTAMP:20260422T011400Z
DTSTART;TZID=America/New_York:20220129
SUMMARY:Rivier vs. Norwich
DESCRIPTION:2021-2022 Doubleheader --- 2021-2022 Men's Basketball Adding Elms (4/16/21) - Great Northeast Athletic Conference
LOCATION:Nashua, NH
CATEGORIES:QuickScores, Basketball Game
TRANSP:OPAQUE
BEGIN:VALARM
TRIGGER:-PT2H
ACTION:DISPLAY
DESCRIPTION:Rivier vs. Norwich
END:VALARM
END:VEVENT
BEGIN:VEVENT
UID:gnac-48942725-20220203@quickscores.com
DTSTAMP:20260422T011400Z
DTSTART;TZID=America/New_York:20220203
SUMMARY:Colby Sawyer vs. Norwich
DESCRIPTION:2021-2022 Doubleheader --- 2021-2022 Men's Basketball Adding Elms (4/16/21) - Great Northeast Athletic Conference
LOCATION:New London NH
CATEGORIES:QuickScores, Basketball Game
TRANSP:OPAQUE
BEGIN:VALARM
TRIGGER:-PT2H
ACTION:DISPLAY
DESCRIPTION:Colby Sawyer vs. Norwich
END:VALARM
END:VEVENT
BEGIN:VEVENT
UID:gnac-48942730-20220205@quickscores.com
DTSTAMP:20260422T011400Z
DTSTART;TZID=America/New_York:20220205
SUMMARY:Norwich vs. Saint Joseph's ME
DESCRIPTION:2021-2022 Doubleheader --- 2021-2022 Men's Basketball Adding Elms (4/16/21) - Great Northeast Athletic Conference
LOCATION:Northfield, VT
CATEGORIES:QuickScores, Basketball Game
TRANSP:OPAQUE
BEGIN:VALARM
TRIGGER:-PT2H
ACTION:DISPLAY
DESCRIPTION:Norwich vs. Saint Joseph's ME
END:VALARM
END:VEVENT
BEGIN:VEVENT
UID:gnac-48942728-20220209@quickscores.com
DTSTAMP:20260422T011400Z
DTSTART;TZID=America/New_York:20220209
SUMMARY:Emmanuel vs. Norwich
DESCRIPTION:2021-2022 Doubleheader --- 2021-2022 Men's Basketball Adding Elms (4/16/21) - Great Northeast Athletic Conference
LOCATION:Jean Yawkey Center
CATEGORIES:QuickScores, Basketball Game
TRANSP:OPAQUE
BEGIN:VALARM
TRIGGER:-PT2H
ACTION:DISPLAY
DESCRIPTION:Emmanuel vs. Norwich
END:VALARM
END:VEVENT
BEGIN:VEVENT
UID:gnac-48942656-20220212@quickscores.com
DTSTAMP:20260422T011400Z
DTSTART;TZID=America/New_York:20220212
SUMMARY:Norwich vs. Dean
DESCRIPTION:2021-2022 Doubleheader --- 2021-2022 Men's Basketball Adding Elms (4/16/21) - Great Northeast Athletic Conference
LOCATION:Northfield, VT
CATEGORIES:QuickScores, Basketball Game
TRANSP:OPAQUE
BEGIN:VALARM
TRIGGER:-PT2H
ACTION:DISPLAY
DESCRIPTION:Norwich vs. Dean
END:VALARM
END:VEVENT
BEGIN:VEVENT
UID:gnac-48942628-20220215@quickscores.com
DTSTAMP:20260422T011400Z
DTSTART;TZID=America/New_York:20220215
SUMMARY:Norwich vs. Rivier
DESCRIPTION:2021-2022 Doubleheader --- 2021-2022 Men's Basketball Adding Elms (4/16/21) - Great Northeast Athletic Conference
LOCATION:Northfield, VT
CATEGORIES:QuickScores, Basketball Game
TRANSP:OPAQUE
BEGIN:VALARM
TRIGGER:-PT2H
ACTION:DISPLAY
DESCRIPTION:Norwich vs. Rivier
END:VALARM
END:VEVENT
BEGIN:VEVENT
UID:gnac-48942668-20220219@quickscores.com
DTSTAMP:20260422T011400Z
DTSTART;TZID=America/New_York:20220219
SUMMARY:Norwich vs. Saint Joseph CT
DESCRIPTION:2021-2022 Doubleheader --- 2021-2022 Men's Basketball Adding Elms (4/16/21) - Great Northeast Athletic Conference
LOCATION:Northfield, VT
CATEGORIES:QuickScores, Basketball Game
TRANSP:OPAQUE
BEGIN:VALARM
TRIGGER:-PT2H
ACTION:DISPLAY
DESCRIPTION:Norwich vs. Saint Joseph CT
END:VALARM
END:VEVENT
END:VCALENDAR
