BEGIN:VCALENDAR
VERSION:2.0
PRODID:-//QuickScores.com//BQ Dynamic iCal Creator//EN
METHOD:PUBLISH
X-WR-CALNAME:Dean - 2021-2022 Men&#039;s Basketball Adding Elms (4/16/21) - Winter 2021-2022
X-WR-CALDESC:QuickScores game calendar
X-PUBLISHED-TTL:PT24H
REFRESH-INTERVAL;VALUE=DURATION:PT24H
CALSCALE:GREGORIAN
BEGIN:VTIMEZONE
TZID:America/New_York
X-LIC-LOCATION:America/New_York
BEGIN:DAYLIGHT
TZNAME:EDT
TZOFFSETFROM:-0500
TZOFFSETTO:-0400
DTSTART:19700308T020000
RRULE:FREQ=YEARLY;BYMONTH=3;BYDAY=2SU
END:DAYLIGHT
BEGIN:STANDARD
TZNAME:EST
TZOFFSETFROM:-0400
TZOFFSETTO:-0500
DTSTART:19701101T020000
RRULE:FREQ=YEARLY;BYMONTH=11;BYDAY=1SU
END:STANDARD
END:VTIMEZONE
BEGIN:VEVENT
UID:gnac-48942634-20211201@quickscores.com
DTSTAMP:20260421T134400Z
DTSTART;TZID=America/New_York:20211201
SUMMARY:Regis vs. Dean
DESCRIPTION:2021-2022 Doubleheader --- 2021-2022 Men's Basketball Adding Elms (4/16/21) - Great Northeast Athletic Conference
LOCATION:Regis Weston MA
CATEGORIES:QuickScores, Basketball Game
TRANSP:OPAQUE
BEGIN:VALARM
TRIGGER:-PT2H
ACTION:DISPLAY
DESCRIPTION:Regis vs. Dean
END:VALARM
END:VEVENT
BEGIN:VEVENT
UID:gnac-48942691-20211204@quickscores.com
DTSTAMP:20260421T134400Z
DTSTART;TZID=America/New_York:20211204
SUMMARY:Dean vs. Saint Joseph CT
DESCRIPTION:2021-2022 Doubleheader --- 2021-2022 Men's Basketball Adding Elms (4/16/21) - Great Northeast Athletic Conference
LOCATION:Franklin MA
CATEGORIES:QuickScores, Basketball Game
TRANSP:OPAQUE
BEGIN:VALARM
TRIGGER:-PT2H
ACTION:DISPLAY
DESCRIPTION:Dean vs. Saint Joseph CT
END:VALARM
END:VEVENT
BEGIN:VEVENT
UID:gnac-48942715-20211211@quickscores.com
DTSTAMP:20260421T134400Z
DTSTART;TZID=America/New_York:20211211
SUMMARY:Lasell vs. Dean
DESCRIPTION:2021-2022 Doubleheader --- 2021-2022 Men's Basketball Adding Elms (4/16/21) - Great Northeast Athletic Conference
LOCATION:Lasell Newton
CATEGORIES:QuickScores, Basketball Game
TRANSP:OPAQUE
BEGIN:VALARM
TRIGGER:-PT2H
ACTION:DISPLAY
DESCRIPTION:Lasell vs. Dean
END:VALARM
END:VEVENT
BEGIN:VEVENT
UID:gnac-48942629-20220104@quickscores.com
DTSTAMP:20260421T134400Z
DTSTART;TZID=America/New_York:20220104
SUMMARY:Anna Maria vs. Dean
DESCRIPTION:2021-2022 Doubleheader --- 2021-2022 Men's Basketball Adding Elms (4/16/21) - Great Northeast Athletic Conference
LOCATION:Paxton MA
CATEGORIES:QuickScores, Basketball Game
TRANSP:OPAQUE
BEGIN:VALARM
TRIGGER:-PT2H
ACTION:DISPLAY
DESCRIPTION:Anna Maria vs. Dean
END:VALARM
END:VEVENT
BEGIN:VEVENT
UID:gnac-48942952-20220106@quickscores.com
DTSTAMP:20260421T134400Z
DTSTART;TZID=America/New_York:20220106
SUMMARY:Elms vs. Dean
DESCRIPTION:2021-2022 Doubleheader --- 2021-2022 Men's Basketball Adding Elms (4/16/21) - Great Northeast Athletic Conference
LOCATION:Maguire Center
CATEGORIES:QuickScores, Basketball Game
TRANSP:OPAQUE
BEGIN:VALARM
TRIGGER:-PT2H
ACTION:DISPLAY
DESCRIPTION:Elms vs. Dean
END:VALARM
END:VEVENT
BEGIN:VEVENT
UID:gnac-48942647-20220108@quickscores.com
DTSTAMP:20260421T134400Z
DTSTART;TZID=America/New_York:20220108
SUMMARY:Dean vs. Rivier
DESCRIPTION:2021-2022 Doubleheader --- 2021-2022 Men's Basketball Adding Elms (4/16/21) - Great Northeast Athletic Conference
LOCATION:Franklin MA
CATEGORIES:QuickScores, Basketball Game
TRANSP:OPAQUE
BEGIN:VALARM
TRIGGER:-PT2H
ACTION:DISPLAY
DESCRIPTION:Dean vs. Rivier
END:VALARM
END:VEVENT
BEGIN:VEVENT
UID:gnac-48942669-20220112@quickscores.com
DTSTAMP:20260421T134400Z
DTSTART;TZID=America/New_York:20220112
SUMMARY:Colby Sawyer vs. Dean
DESCRIPTION:2021-2022 Doubleheader --- 2021-2022 Men's Basketball Adding Elms (4/16/21) - Great Northeast Athletic Conference
LOCATION:New London NH
CATEGORIES:QuickScores, Basketball Game
TRANSP:OPAQUE
BEGIN:VALARM
TRIGGER:-PT2H
ACTION:DISPLAY
DESCRIPTION:Colby Sawyer vs. Dean
END:VALARM
END:VEVENT
BEGIN:VEVENT
UID:gnac-48942951-20220115@quickscores.com
DTSTAMP:20260421T134400Z
DTSTART;TZID=America/New_York:20220115
SUMMARY:Dean vs. Elms
DESCRIPTION:2021-2022 Doubleheader --- 2021-2022 Men's Basketball Adding Elms (4/16/21) - Great Northeast Athletic Conference
LOCATION:Franklin MA
CATEGORIES:QuickScores, Basketball Game
TRANSP:OPAQUE
BEGIN:VALARM
TRIGGER:-PT2H
ACTION:DISPLAY
DESCRIPTION:Dean vs. Elms
END:VALARM
END:VEVENT
BEGIN:VEVENT
UID:gnac-48942650-20220118@quickscores.com
DTSTAMP:20260421T134400Z
DTSTART;TZID=America/New_York:20220118
SUMMARY:Dean vs. Johnson & Wales
DESCRIPTION:2021-2022 Doubleheader --- 2021-2022 Men's Basketball Adding Elms (4/16/21) - Great Northeast Athletic Conference
LOCATION:Franklin MA
CATEGORIES:QuickScores, Basketball Game
TRANSP:OPAQUE
BEGIN:VALARM
TRIGGER:-PT2H
ACTION:DISPLAY
DESCRIPTION:Dean vs. Johnson & Wales
END:VALARM
END:VEVENT
BEGIN:VEVENT
UID:gnac-48942624-20220122@quickscores.com
DTSTAMP:20260421T134400Z
DTSTART;TZID=America/New_York:20220122
SUMMARY:Dean vs. Saint Joseph's ME
DESCRIPTION:2021-2022 Doubleheader --- 2021-2022 Men's Basketball Adding Elms (4/16/21) - Great Northeast Athletic Conference
LOCATION:Franklin MA
CATEGORIES:QuickScores, Basketball Game
TRANSP:OPAQUE
BEGIN:VALARM
TRIGGER:-PT2H
ACTION:DISPLAY
DESCRIPTION:Dean vs. Saint Joseph's ME
END:VALARM
END:VEVENT
BEGIN:VEVENT
UID:gnac-48942651-20220126@quickscores.com
DTSTAMP:20260421T134400Z
DTSTART;TZID=America/New_York:20220126
SUMMARY:Albertus Magnus vs. Dean
DESCRIPTION:2021-2022 Doubleheader --- 2021-2022 Men's Basketball Adding Elms (4/16/21) - Great Northeast Athletic Conference
LOCATION:New Haven, CT
CATEGORIES:QuickScores, Basketball Game
TRANSP:OPAQUE
BEGIN:VALARM
TRIGGER:-PT2H
ACTION:DISPLAY
DESCRIPTION:Albertus Magnus vs. Dean
END:VALARM
END:VEVENT
BEGIN:VEVENT
UID:gnac-48942622-20220129@quickscores.com
DTSTAMP:20260421T134400Z
DTSTART;TZID=America/New_York:20220129
SUMMARY:Dean vs. Lasell
DESCRIPTION:2021-2022 Doubleheader --- 2021-2022 Men's Basketball Adding Elms (4/16/21) - Great Northeast Athletic Conference
LOCATION:Franklin MA
CATEGORIES:QuickScores, Basketball Game
TRANSP:OPAQUE
BEGIN:VALARM
TRIGGER:-PT2H
ACTION:DISPLAY
DESCRIPTION:Dean vs. Lasell
END:VALARM
END:VEVENT
BEGIN:VEVENT
UID:gnac-48942711-20220201@quickscores.com
DTSTAMP:20260421T134400Z
DTSTART;TZID=America/New_York:20220201
SUMMARY:Saint Joseph CT vs. Dean
DESCRIPTION:2021-2022 Doubleheader --- 2021-2022 Men's Basketball Adding Elms (4/16/21) - Great Northeast Athletic Conference
LOCATION:W. Hartford, CT
CATEGORIES:QuickScores, Basketball Game
TRANSP:OPAQUE
BEGIN:VALARM
TRIGGER:-PT2H
ACTION:DISPLAY
DESCRIPTION:Saint Joseph CT vs. Dean
END:VALARM
END:VEVENT
BEGIN:VEVENT
UID:gnac-48942710-20220203@quickscores.com
DTSTAMP:20260421T134400Z
DTSTART;TZID=America/New_York:20220203
SUMMARY:Johnson & Wales vs. Dean
DESCRIPTION:2021-2022 Doubleheader --- 2021-2022 Men's Basketball Adding Elms (4/16/21) - Great Northeast Athletic Conference
LOCATION:Harborside Athletic Center
CATEGORIES:QuickScores, Basketball Game
TRANSP:OPAQUE
BEGIN:VALARM
TRIGGER:-PT2H
ACTION:DISPLAY
DESCRIPTION:Johnson & Wales vs. Dean
END:VALARM
END:VEVENT
BEGIN:VEVENT
UID:gnac-48942716-20220205@quickscores.com
DTSTAMP:20260421T134400Z
DTSTART;TZID=America/New_York:20220205
SUMMARY:Dean vs. Regis
DESCRIPTION:2021-2022 Doubleheader --- 2021-2022 Men's Basketball Adding Elms (4/16/21) - Great Northeast Athletic Conference
LOCATION:Franklin MA
CATEGORIES:QuickScores, Basketball Game
TRANSP:OPAQUE
BEGIN:VALARM
TRIGGER:-PT2H
ACTION:DISPLAY
DESCRIPTION:Dean vs. Regis
END:VALARM
END:VEVENT
BEGIN:VEVENT
UID:gnac-48942656-20220212@quickscores.com
DTSTAMP:20260421T134400Z
DTSTART;TZID=America/New_York:20220212
SUMMARY:Norwich vs. Dean
DESCRIPTION:2021-2022 Doubleheader --- 2021-2022 Men's Basketball Adding Elms (4/16/21) - Great Northeast Athletic Conference
LOCATION:Northfield, VT
CATEGORIES:QuickScores, Basketball Game
TRANSP:OPAQUE
BEGIN:VALARM
TRIGGER:-PT2H
ACTION:DISPLAY
DESCRIPTION:Norwich vs. Dean
END:VALARM
END:VEVENT
BEGIN:VEVENT
UID:gnac-48942705-20220215@quickscores.com
DTSTAMP:20260421T134400Z
DTSTART;TZID=America/New_York:20220215
SUMMARY:Dean vs. Albertus Magnus
DESCRIPTION:2021-2022 Doubleheader --- 2021-2022 Men's Basketball Adding Elms (4/16/21) - Great Northeast Athletic Conference
LOCATION:Franklin MA
CATEGORIES:QuickScores, Basketball Game
TRANSP:OPAQUE
BEGIN:VALARM
TRIGGER:-PT2H
ACTION:DISPLAY
DESCRIPTION:Dean vs. Albertus Magnus
END:VALARM
END:VEVENT
BEGIN:VEVENT
UID:gnac-48942635-20220219@quickscores.com
DTSTAMP:20260421T134400Z
DTSTART;TZID=America/New_York:20220219
SUMMARY:Dean vs. Emmanuel
DESCRIPTION:2021-2022 Doubleheader --- 2021-2022 Men's Basketball Adding Elms (4/16/21) - Great Northeast Athletic Conference
LOCATION:Franklin MA
CATEGORIES:QuickScores, Basketball Game
TRANSP:OPAQUE
BEGIN:VALARM
TRIGGER:-PT2H
ACTION:DISPLAY
DESCRIPTION:Dean vs. Emmanuel
END:VALARM
END:VEVENT
END:VCALENDAR
