BEGIN:VCALENDAR
VERSION:2.0
PRODID:-//QuickScores.com//BQ Dynamic iCal Creator//EN
METHOD:PUBLISH
X-WR-CALNAME:Saint Joseph&#039;s ME - Men&#039;s Basketball - Winter 2007-2008
X-WR-CALDESC:QuickScores game calendar
X-PUBLISHED-TTL:PT24H
REFRESH-INTERVAL;VALUE=DURATION:PT24H
CALSCALE:GREGORIAN
BEGIN:VTIMEZONE
TZID:America/New_York
X-LIC-LOCATION:America/New_York
BEGIN:DAYLIGHT
TZNAME:EDT
TZOFFSETFROM:-0500
TZOFFSETTO:-0400
DTSTART:19700308T020000
RRULE:FREQ=YEARLY;BYMONTH=3;BYDAY=2SU
END:DAYLIGHT
BEGIN:STANDARD
TZNAME:EST
TZOFFSETFROM:-0400
TZOFFSETTO:-0500
DTSTART:19701101T020000
RRULE:FREQ=YEARLY;BYMONTH=11;BYDAY=1SU
END:STANDARD
END:VTIMEZONE
BEGIN:VEVENT
UID:gnac-746857-20071201@quickscores.com
DTSTAMP:20260424T004500Z
DTSTART;TZID=America/New_York:20071201
SUMMARY:Lasell vs. Saint Joseph's ME
DESCRIPTION:Men's Basketball - Great Northeast Athletic Conference
LOCATION:Lasell Newton
CATEGORIES:QuickScores, Basketball Game
TRANSP:OPAQUE
BEGIN:VALARM
TRIGGER:-PT2H
ACTION:DISPLAY
DESCRIPTION:Lasell vs. Saint Joseph's ME
END:VALARM
END:VEVENT
BEGIN:VEVENT
UID:gnac-746901-20071208@quickscores.com
DTSTAMP:20260424T004500Z
DTSTART;TZID=America/New_York:20071208
SUMMARY:Saint Joseph's ME vs. Daniel Webster
DESCRIPTION:Men's Basketball - Great Northeast Athletic Conference
LOCATION:Standish ME
CATEGORIES:QuickScores, Basketball Game
TRANSP:OPAQUE
BEGIN:VALARM
TRIGGER:-PT2H
ACTION:DISPLAY
DESCRIPTION:Saint Joseph's ME vs. Daniel Webster
END:VALARM
END:VEVENT
BEGIN:VEVENT
UID:gnac-746810-20080108@quickscores.com
DTSTAMP:20260424T004500Z
DTSTART;TZID=America/New_York:20080108
SUMMARY:Norwich vs. Saint Joseph's ME
DESCRIPTION:Men's Basketball - Great Northeast Athletic Conference
LOCATION:Northfield, VT
CATEGORIES:QuickScores, Basketball Game
TRANSP:OPAQUE
BEGIN:VALARM
TRIGGER:-PT2H
ACTION:DISPLAY
DESCRIPTION:Norwich vs. Saint Joseph's ME
END:VALARM
END:VEVENT
BEGIN:VEVENT
UID:gnac-746897-20080110@quickscores.com
DTSTAMP:20260424T004500Z
DTSTART;TZID=America/New_York:20080110
SUMMARY:Saint Joseph's ME vs. Albertus Magnus
DESCRIPTION:Men's Basketball - Great Northeast Athletic Conference
LOCATION:Standish ME
CATEGORIES:QuickScores, Basketball Game
TRANSP:OPAQUE
BEGIN:VALARM
TRIGGER:-PT2H
ACTION:DISPLAY
DESCRIPTION:Saint Joseph's ME vs. Albertus Magnus
END:VALARM
END:VEVENT
BEGIN:VEVENT
UID:gnac-757998-20080115@quickscores.com
DTSTAMP:20260424T004500Z
DTSTART;TZID=America/New_York:20080115
SUMMARY:Suffolk vs. Saint Joseph's ME
DESCRIPTION:Men's Basketball - Great Northeast Athletic Conference
LOCATION:Suffolk
CATEGORIES:QuickScores, Basketball Game
TRANSP:OPAQUE
BEGIN:VALARM
TRIGGER:-PT2H
ACTION:DISPLAY
DESCRIPTION:Suffolk vs. Saint Joseph's ME
END:VALARM
END:VEVENT
BEGIN:VEVENT
UID:gnac-746842-20080117@quickscores.com
DTSTAMP:20260424T004500Z
DTSTART;TZID=America/New_York:20080117
SUMMARY:Saint Joseph's ME vs. Lasell
DESCRIPTION:Men's Basketball - Great Northeast Athletic Conference
LOCATION:Standish ME
CATEGORIES:QuickScores, Basketball Game
TRANSP:OPAQUE
BEGIN:VALARM
TRIGGER:-PT2H
ACTION:DISPLAY
DESCRIPTION:Saint Joseph's ME vs. Lasell
END:VALARM
END:VEVENT
BEGIN:VEVENT
UID:gnac-746837-20080119@quickscores.com
DTSTAMP:20260424T004500Z
DTSTART;TZID=America/New_York:20080119
SUMMARY:Saint Joseph's ME vs. Mount Ida
DESCRIPTION:DH w WBB --- Men's Basketball - Great Northeast Athletic Conference
LOCATION:Standish ME
CATEGORIES:QuickScores, Basketball Game
TRANSP:OPAQUE
BEGIN:VALARM
TRIGGER:-PT2H
ACTION:DISPLAY
DESCRIPTION:Saint Joseph's ME vs. Mount Ida
END:VALARM
END:VEVENT
BEGIN:VEVENT
UID:gnac-746874-20080121@quickscores.com
DTSTAMP:20260424T004500Z
DTSTART;TZID=America/New_York:20080121
SUMMARY:Emmanuel vs. Saint Joseph's ME
DESCRIPTION:DH w WBB  MLK Day --- Men's Basketball - Great Northeast Athletic Conference
LOCATION:Jean Yawkey Center
CATEGORIES:QuickScores, Basketball Game
TRANSP:OPAQUE
BEGIN:VALARM
TRIGGER:-PT2H
ACTION:DISPLAY
DESCRIPTION:Emmanuel vs. Saint Joseph's ME
END:VALARM
END:VEVENT
BEGIN:VEVENT
UID:gnac-746834-20080126@quickscores.com
DTSTAMP:20260424T004500Z
DTSTART;TZID=America/New_York:20080126
SUMMARY:Albertus Magnus vs. Saint Joseph's ME
DESCRIPTION:DH w WBB --- Men's Basketball - Great Northeast Athletic Conference
LOCATION:New Haven, CT
CATEGORIES:QuickScores, Basketball Game
TRANSP:OPAQUE
BEGIN:VALARM
TRIGGER:-PT2H
ACTION:DISPLAY
DESCRIPTION:Albertus Magnus vs. Saint Joseph's ME
END:VALARM
END:VEVENT
BEGIN:VEVENT
UID:gnac-746868-20080131@quickscores.com
DTSTAMP:20260424T004500Z
DTSTART;TZID=America/New_York:20080131
SUMMARY:Saint Joseph's ME vs. Rivier
DESCRIPTION:Men's Basketball - Great Northeast Athletic Conference
LOCATION:Standish ME
CATEGORIES:QuickScores, Basketball Game
TRANSP:OPAQUE
BEGIN:VALARM
TRIGGER:-PT2H
ACTION:DISPLAY
DESCRIPTION:Saint Joseph's ME vs. Rivier
END:VALARM
END:VEVENT
BEGIN:VEVENT
UID:gnac-746830-20080202@quickscores.com
DTSTAMP:20260424T004500Z
DTSTART;TZID=America/New_York:20080202
SUMMARY:Emerson vs. Saint Joseph's ME
DESCRIPTION:DH w WBB --- Men's Basketball - Great Northeast Athletic Conference
LOCATION:Piano Row Gymnasium
CATEGORIES:QuickScores, Basketball Game
TRANSP:OPAQUE
BEGIN:VALARM
TRIGGER:-PT2H
ACTION:DISPLAY
DESCRIPTION:Emerson vs. Saint Joseph's ME
END:VALARM
END:VEVENT
BEGIN:VEVENT
UID:gnac-746816-20080204@quickscores.com
DTSTAMP:20260424T004500Z
DTSTART;TZID=America/New_York:20080204
SUMMARY:Saint Joseph's ME vs. Suffolk
DESCRIPTION:Men's Basketball - Great Northeast Athletic Conference
LOCATION:Standish ME
CATEGORIES:QuickScores, Basketball Game
TRANSP:OPAQUE
BEGIN:VALARM
TRIGGER:-PT2H
ACTION:DISPLAY
DESCRIPTION:Saint Joseph's ME vs. Suffolk
END:VALARM
END:VEVENT
BEGIN:VEVENT
UID:gnac-746848-20080206@quickscores.com
DTSTAMP:20260424T004500Z
DTSTART;TZID=America/New_York:20080206
SUMMARY:Rivier vs. Saint Joseph's ME
DESCRIPTION:Men's Basketball - Great Northeast Athletic Conference
LOCATION:Rivier
CATEGORIES:QuickScores, Basketball Game
TRANSP:OPAQUE
BEGIN:VALARM
TRIGGER:-PT2H
ACTION:DISPLAY
DESCRIPTION:Rivier vs. Saint Joseph's ME
END:VALARM
END:VEVENT
BEGIN:VEVENT
UID:gnac-746826-20080209@quickscores.com
DTSTAMP:20260424T004500Z
DTSTART;TZID=America/New_York:20080209
SUMMARY:Saint Joseph's ME vs. Johnson & Wales
DESCRIPTION:Men's Basketball - Great Northeast Athletic Conference
LOCATION:Standish ME
CATEGORIES:QuickScores, Basketball Game
TRANSP:OPAQUE
BEGIN:VALARM
TRIGGER:-PT2H
ACTION:DISPLAY
DESCRIPTION:Saint Joseph's ME vs. Johnson & Wales
END:VALARM
END:VEVENT
BEGIN:VEVENT
UID:gnac-746905-20080212@quickscores.com
DTSTAMP:20260424T004500Z
DTSTART;TZID=America/New_York:20080212
SUMMARY:Daniel Webster vs. Saint Joseph's ME
DESCRIPTION:Men's Basketball - Great Northeast Athletic Conference
LOCATION:Daniel Webster
CATEGORIES:QuickScores, Basketball Game
TRANSP:OPAQUE
BEGIN:VALARM
TRIGGER:-PT2H
ACTION:DISPLAY
DESCRIPTION:Daniel Webster vs. Saint Joseph's ME
END:VALARM
END:VEVENT
BEGIN:VEVENT
UID:gnac-746879-20080216@quickscores.com
DTSTAMP:20260424T004500Z
DTSTART;TZID=America/New_York:20080216
SUMMARY:Saint Joseph's ME vs. Norwich
DESCRIPTION:DH w WBB --- Men's Basketball - Great Northeast Athletic Conference
LOCATION:Standish ME
CATEGORIES:QuickScores, Basketball Game
TRANSP:OPAQUE
BEGIN:VALARM
TRIGGER:-PT2H
ACTION:DISPLAY
DESCRIPTION:Saint Joseph's ME vs. Norwich
END:VALARM
END:VEVENT
BEGIN:VEVENT
UID:gnac-746852-20080219@quickscores.com
DTSTAMP:20260424T004500Z
DTSTART;TZID=America/New_York:20080219
SUMMARY:Mount Ida vs. Saint Joseph's ME
DESCRIPTION:Men's Basketball - Great Northeast Athletic Conference
LOCATION:Mount Ida
CATEGORIES:QuickScores, Basketball Game
TRANSP:OPAQUE
BEGIN:VALARM
TRIGGER:-PT2H
ACTION:DISPLAY
DESCRIPTION:Mount Ida vs. Saint Joseph's ME
END:VALARM
END:VEVENT
BEGIN:VEVENT
UID:gnac-746883-20080223@quickscores.com
DTSTAMP:20260424T004500Z
DTSTART;TZID=America/New_York:20080223
SUMMARY:Saint Joseph's ME vs. Emmanuel
DESCRIPTION:Men's Basketball - Great Northeast Athletic Conference
LOCATION:Standish ME
CATEGORIES:QuickScores, Basketball Game
TRANSP:OPAQUE
BEGIN:VALARM
TRIGGER:-PT2H
ACTION:DISPLAY
DESCRIPTION:Saint Joseph's ME vs. Emmanuel
END:VALARM
END:VEVENT
END:VCALENDAR
