BEGIN:VCALENDAR
VERSION:2.0
PRODID:-//QuickScores.com//BQ Dynamic iCal Creator//EN
METHOD:PUBLISH
X-WR-CALNAME:Norwich - Men&#039;s Basketball - Winter 2007-2008
X-WR-CALDESC:QuickScores game calendar
X-PUBLISHED-TTL:PT24H
REFRESH-INTERVAL;VALUE=DURATION:PT24H
CALSCALE:GREGORIAN
BEGIN:VTIMEZONE
TZID:America/New_York
X-LIC-LOCATION:America/New_York
BEGIN:DAYLIGHT
TZNAME:EDT
TZOFFSETFROM:-0500
TZOFFSETTO:-0400
DTSTART:19700308T020000
RRULE:FREQ=YEARLY;BYMONTH=3;BYDAY=2SU
END:DAYLIGHT
BEGIN:STANDARD
TZNAME:EST
TZOFFSETFROM:-0400
TZOFFSETTO:-0500
DTSTART:19701101T020000
RRULE:FREQ=YEARLY;BYMONTH=11;BYDAY=1SU
END:STANDARD
END:VTIMEZONE
BEGIN:VEVENT
UID:gnac-746894-20071208@quickscores.com
DTSTAMP:20260424T032500Z
DTSTART;TZID=America/New_York:20071208
SUMMARY:Mount Ida vs. Norwich
DESCRIPTION:Men's Basketball - Great Northeast Athletic Conference
LOCATION:Mount Ida
CATEGORIES:QuickScores, Basketball Game
TRANSP:OPAQUE
BEGIN:VALARM
TRIGGER:-PT2H
ACTION:DISPLAY
DESCRIPTION:Mount Ida vs. Norwich
END:VALARM
END:VEVENT
BEGIN:VEVENT
UID:gnac-746810-20080108@quickscores.com
DTSTAMP:20260424T032500Z
DTSTART;TZID=America/New_York:20080108
SUMMARY:Norwich vs. Saint Joseph's ME
DESCRIPTION:Men's Basketball - Great Northeast Athletic Conference
LOCATION:Northfield, VT
CATEGORIES:QuickScores, Basketball Game
TRANSP:OPAQUE
BEGIN:VALARM
TRIGGER:-PT2H
ACTION:DISPLAY
DESCRIPTION:Norwich vs. Saint Joseph's ME
END:VALARM
END:VEVENT
BEGIN:VEVENT
UID:gnac-746904-20080110@quickscores.com
DTSTAMP:20260424T032500Z
DTSTART;TZID=America/New_York:20080110
SUMMARY:Johnson & Wales vs. Norwich
DESCRIPTION:Men's Basketball - Great Northeast Athletic Conference
LOCATION:Providence, RI
CATEGORIES:QuickScores, Basketball Game
TRANSP:OPAQUE
BEGIN:VALARM
TRIGGER:-PT2H
ACTION:DISPLAY
DESCRIPTION:Johnson & Wales vs. Norwich
END:VALARM
END:VEVENT
BEGIN:VEVENT
UID:gnac-746877-20080112@quickscores.com
DTSTAMP:20260424T032500Z
DTSTART;TZID=America/New_York:20080112
SUMMARY:Norwich vs. Emerson
DESCRIPTION:DH w WBB --- Men's Basketball - Great Northeast Athletic Conference
LOCATION:Northfield, VT
CATEGORIES:QuickScores, Basketball Game
TRANSP:OPAQUE
BEGIN:VALARM
TRIGGER:-PT2H
ACTION:DISPLAY
DESCRIPTION:Norwich vs. Emerson
END:VALARM
END:VEVENT
BEGIN:VEVENT
UID:gnac-746850-20080115@quickscores.com
DTSTAMP:20260424T032500Z
DTSTART;TZID=America/New_York:20080115
SUMMARY:Norwich vs. Emmanuel
DESCRIPTION:Men's Basketball - Great Northeast Athletic Conference
LOCATION:Northfield, VT
CATEGORIES:QuickScores, Basketball Game
TRANSP:OPAQUE
BEGIN:VALARM
TRIGGER:-PT2H
ACTION:DISPLAY
DESCRIPTION:Norwich vs. Emmanuel
END:VALARM
END:VEVENT
BEGIN:VEVENT
UID:gnac-746822-20080117@quickscores.com
DTSTAMP:20260424T032500Z
DTSTART;TZID=America/New_York:20080117
SUMMARY:Rivier vs. Norwich
DESCRIPTION:Men's Basketball - Great Northeast Athletic Conference
LOCATION:Rivier
CATEGORIES:QuickScores, Basketball Game
TRANSP:OPAQUE
BEGIN:VALARM
TRIGGER:-PT2H
ACTION:DISPLAY
DESCRIPTION:Rivier vs. Norwich
END:VALARM
END:VEVENT
BEGIN:VEVENT
UID:gnac-746807-20080119@quickscores.com
DTSTAMP:20260424T032500Z
DTSTART;TZID=America/New_York:20080119
SUMMARY:Norwich vs. Albertus Magnus
DESCRIPTION:DH w WBB --- Men's Basketball - Great Northeast Athletic Conference
LOCATION:Northfield, VT
CATEGORIES:QuickScores, Basketball Game
TRANSP:OPAQUE
BEGIN:VALARM
TRIGGER:-PT2H
ACTION:DISPLAY
DESCRIPTION:Norwich vs. Albertus Magnus
END:VALARM
END:VEVENT
BEGIN:VEVENT
UID:gnac-746847-20080121@quickscores.com
DTSTAMP:20260424T032500Z
DTSTART;TZID=America/New_York:20080121
SUMMARY:Norwich vs. Daniel Webster
DESCRIPTION:MLK Day --- Men's Basketball - Great Northeast Athletic Conference
LOCATION:Northfield, VT
CATEGORIES:QuickScores, Basketball Game
TRANSP:OPAQUE
BEGIN:VALARM
TRIGGER:-PT2H
ACTION:DISPLAY
DESCRIPTION:Norwich vs. Daniel Webster
END:VALARM
END:VEVENT
BEGIN:VEVENT
UID:gnac-746832-20080124@quickscores.com
DTSTAMP:20260424T032500Z
DTSTART;TZID=America/New_York:20080124
SUMMARY:Lasell vs. Norwich
DESCRIPTION:Men's Basketball - Great Northeast Athletic Conference
LOCATION:Lasell Newton
CATEGORIES:QuickScores, Basketball Game
TRANSP:OPAQUE
BEGIN:VALARM
TRIGGER:-PT2H
ACTION:DISPLAY
DESCRIPTION:Lasell vs. Norwich
END:VALARM
END:VEVENT
BEGIN:VEVENT
UID:gnac-746856-20080126@quickscores.com
DTSTAMP:20260424T032500Z
DTSTART;TZID=America/New_York:20080126
SUMMARY:Suffolk vs. Norwich
DESCRIPTION:DH w WBB --- Men's Basketball - Great Northeast Athletic Conference
LOCATION:Suffolk
CATEGORIES:QuickScores, Basketball Game
TRANSP:OPAQUE
BEGIN:VALARM
TRIGGER:-PT2H
ACTION:DISPLAY
DESCRIPTION:Suffolk vs. Norwich
END:VALARM
END:VEVENT
BEGIN:VEVENT
UID:gnac-746893-20080131@quickscores.com
DTSTAMP:20260424T032500Z
DTSTART;TZID=America/New_York:20080131
SUMMARY:Norwich vs. Mount Ida
DESCRIPTION:Men's Basketball - Great Northeast Athletic Conference
LOCATION:Northfield, VT
CATEGORIES:QuickScores, Basketball Game
TRANSP:OPAQUE
BEGIN:VALARM
TRIGGER:-PT2H
ACTION:DISPLAY
DESCRIPTION:Norwich vs. Mount Ida
END:VALARM
END:VEVENT
BEGIN:VEVENT
UID:gnac-746900-20080202@quickscores.com
DTSTAMP:20260424T032500Z
DTSTART;TZID=America/New_York:20080202
SUMMARY:Norwich vs. Johnson & Wales
DESCRIPTION:DH w WBB --- Men's Basketball - Great Northeast Athletic Conference
LOCATION:Northfield, VT
CATEGORIES:QuickScores, Basketball Game
TRANSP:OPAQUE
BEGIN:VALARM
TRIGGER:-PT2H
ACTION:DISPLAY
DESCRIPTION:Norwich vs. Johnson & Wales
END:VALARM
END:VEVENT
BEGIN:VEVENT
UID:gnac-746858-20080204@quickscores.com
DTSTAMP:20260424T032500Z
DTSTART;TZID=America/New_York:20080204
SUMMARY:Emmanuel vs. Norwich
DESCRIPTION:Men's Basketball - Great Northeast Athletic Conference
LOCATION:Jean Yawkey Center
CATEGORIES:QuickScores, Basketball Game
TRANSP:OPAQUE
BEGIN:VALARM
TRIGGER:-PT2H
ACTION:DISPLAY
DESCRIPTION:Emmanuel vs. Norwich
END:VALARM
END:VEVENT
BEGIN:VEVENT
UID:gnac-746820-20080206@quickscores.com
DTSTAMP:20260424T032500Z
DTSTART;TZID=America/New_York:20080206
SUMMARY:Norwich vs. Lasell
DESCRIPTION:Men's Basketball - Great Northeast Athletic Conference
LOCATION:Northfield, VT
CATEGORIES:QuickScores, Basketball Game
TRANSP:OPAQUE
BEGIN:VALARM
TRIGGER:-PT2H
ACTION:DISPLAY
DESCRIPTION:Norwich vs. Lasell
END:VALARM
END:VEVENT
BEGIN:VEVENT
UID:gnac-746866-20080209@quickscores.com
DTSTAMP:20260424T032500Z
DTSTART;TZID=America/New_York:20080209
SUMMARY:Daniel Webster vs. Norwich
DESCRIPTION:DH w WBB --- Men's Basketball - Great Northeast Athletic Conference
LOCATION:Daniel Webster
CATEGORIES:QuickScores, Basketball Game
TRANSP:OPAQUE
BEGIN:VALARM
TRIGGER:-PT2H
ACTION:DISPLAY
DESCRIPTION:Daniel Webster vs. Norwich
END:VALARM
END:VEVENT
BEGIN:VEVENT
UID:gnac-746879-20080216@quickscores.com
DTSTAMP:20260424T032500Z
DTSTART;TZID=America/New_York:20080216
SUMMARY:Saint Joseph's ME vs. Norwich
DESCRIPTION:DH w WBB --- Men's Basketball - Great Northeast Athletic Conference
LOCATION:Standish ME
CATEGORIES:QuickScores, Basketball Game
TRANSP:OPAQUE
BEGIN:VALARM
TRIGGER:-PT2H
ACTION:DISPLAY
DESCRIPTION:Saint Joseph's ME vs. Norwich
END:VALARM
END:VEVENT
BEGIN:VEVENT
UID:gnac-746841-20080219@quickscores.com
DTSTAMP:20260424T032500Z
DTSTART;TZID=America/New_York:20080219
SUMMARY:Norwich vs. Suffolk
DESCRIPTION:Men's Basketball - Great Northeast Athletic Conference
LOCATION:Northfield, VT
CATEGORIES:QuickScores, Basketball Game
TRANSP:OPAQUE
BEGIN:VALARM
TRIGGER:-PT2H
ACTION:DISPLAY
DESCRIPTION:Norwich vs. Suffolk
END:VALARM
END:VEVENT
BEGIN:VEVENT
UID:gnac-746886-20080223@quickscores.com
DTSTAMP:20260424T032500Z
DTSTART;TZID=America/New_York:20080223
SUMMARY:Emerson vs. Norwich
DESCRIPTION:Men's Basketball - Great Northeast Athletic Conference
LOCATION:Piano Row Gymnasium
CATEGORIES:QuickScores, Basketball Game
TRANSP:OPAQUE
BEGIN:VALARM
TRIGGER:-PT2H
ACTION:DISPLAY
DESCRIPTION:Emerson vs. Norwich
END:VALARM
END:VEVENT
END:VCALENDAR
