BEGIN:VCALENDAR
VERSION:2.0
PRODID:-//QuickScores.com//BQ Dynamic iCal Creator//EN
METHOD:PUBLISH
X-WR-CALNAME:Mount Ida - Men&#039;s Basketball - Winter 2007-2008
X-WR-CALDESC:QuickScores game calendar
X-PUBLISHED-TTL:PT24H
REFRESH-INTERVAL;VALUE=DURATION:PT24H
CALSCALE:GREGORIAN
BEGIN:VTIMEZONE
TZID:America/New_York
X-LIC-LOCATION:America/New_York
BEGIN:DAYLIGHT
TZNAME:EDT
TZOFFSETFROM:-0500
TZOFFSETTO:-0400
DTSTART:19700308T020000
RRULE:FREQ=YEARLY;BYMONTH=3;BYDAY=2SU
END:DAYLIGHT
BEGIN:STANDARD
TZNAME:EST
TZOFFSETFROM:-0400
TZOFFSETTO:-0500
DTSTART:19701101T020000
RRULE:FREQ=YEARLY;BYMONTH=11;BYDAY=1SU
END:STANDARD
END:VTIMEZONE
BEGIN:VEVENT
UID:gnac-746907-20071201@quickscores.com
DTSTAMP:20260424T004500Z
DTSTART;TZID=America/New_York:20071201
SUMMARY:Emerson vs. Mount Ida
DESCRIPTION:Men's Basketball - Great Northeast Athletic Conference
LOCATION:Piano Row Gymnasium
CATEGORIES:QuickScores, Basketball Game
TRANSP:OPAQUE
BEGIN:VALARM
TRIGGER:-PT2H
ACTION:DISPLAY
DESCRIPTION:Emerson vs. Mount Ida
END:VALARM
END:VEVENT
BEGIN:VEVENT
UID:gnac-746894-20071208@quickscores.com
DTSTAMP:20260424T004500Z
DTSTART;TZID=America/New_York:20071208
SUMMARY:Mount Ida vs. Norwich
DESCRIPTION:Men's Basketball - Great Northeast Athletic Conference
LOCATION:Mount Ida
CATEGORIES:QuickScores, Basketball Game
TRANSP:OPAQUE
BEGIN:VALARM
TRIGGER:-PT2H
ACTION:DISPLAY
DESCRIPTION:Mount Ida vs. Norwich
END:VALARM
END:VEVENT
BEGIN:VEVENT
UID:gnac-746821-20080110@quickscores.com
DTSTAMP:20260424T004500Z
DTSTART;TZID=America/New_York:20080110
SUMMARY:Daniel Webster vs. Mount Ida
DESCRIPTION:Men's Basketball - Great Northeast Athletic Conference
LOCATION:Daniel Webster
CATEGORIES:QuickScores, Basketball Game
TRANSP:OPAQUE
BEGIN:VALARM
TRIGGER:-PT2H
ACTION:DISPLAY
DESCRIPTION:Daniel Webster vs. Mount Ida
END:VALARM
END:VEVENT
BEGIN:VEVENT
UID:gnac-746863-20080112@quickscores.com
DTSTAMP:20260424T004500Z
DTSTART;TZID=America/New_York:20080112
SUMMARY:Emmanuel vs. Mount Ida
DESCRIPTION:Men's Basketball - Great Northeast Athletic Conference
LOCATION:Jean Yawkey Center
CATEGORIES:QuickScores, Basketball Game
TRANSP:OPAQUE
BEGIN:VALARM
TRIGGER:-PT2H
ACTION:DISPLAY
DESCRIPTION:Emmanuel vs. Mount Ida
END:VALARM
END:VEVENT
BEGIN:VEVENT
UID:gnac-746849-20080115@quickscores.com
DTSTAMP:20260424T004500Z
DTSTART;TZID=America/New_York:20080115
SUMMARY:Mount Ida vs. Johnson & Wales
DESCRIPTION:Men's Basketball - Great Northeast Athletic Conference
LOCATION:Mount Ida
CATEGORIES:QuickScores, Basketball Game
TRANSP:OPAQUE
BEGIN:VALARM
TRIGGER:-PT2H
ACTION:DISPLAY
DESCRIPTION:Mount Ida vs. Johnson & Wales
END:VALARM
END:VEVENT
BEGIN:VEVENT
UID:gnac-746885-20080117@quickscores.com
DTSTAMP:20260424T004500Z
DTSTART;TZID=America/New_York:20080117
SUMMARY:Mount Ida vs. Suffolk
DESCRIPTION:Men's Basketball - Great Northeast Athletic Conference
LOCATION:Mount Ida
CATEGORIES:QuickScores, Basketball Game
TRANSP:OPAQUE
BEGIN:VALARM
TRIGGER:-PT2H
ACTION:DISPLAY
DESCRIPTION:Mount Ida vs. Suffolk
END:VALARM
END:VEVENT
BEGIN:VEVENT
UID:gnac-746837-20080119@quickscores.com
DTSTAMP:20260424T004500Z
DTSTART;TZID=America/New_York:20080119
SUMMARY:Saint Joseph's ME vs. Mount Ida
DESCRIPTION:DH w WBB --- Men's Basketball - Great Northeast Athletic Conference
LOCATION:Standish ME
CATEGORIES:QuickScores, Basketball Game
TRANSP:OPAQUE
BEGIN:VALARM
TRIGGER:-PT2H
ACTION:DISPLAY
DESCRIPTION:Saint Joseph's ME vs. Mount Ida
END:VALARM
END:VEVENT
BEGIN:VEVENT
UID:gnac-757988-20080121@quickscores.com
DTSTAMP:20260424T004500Z
DTSTART;TZID=America/New_York:20080121
SUMMARY:Mount Ida vs. Lasell
DESCRIPTION:MLK Day --- Men's Basketball - Great Northeast Athletic Conference
LOCATION:Mount Ida
CATEGORIES:QuickScores, Basketball Game
TRANSP:OPAQUE
BEGIN:VALARM
TRIGGER:-PT2H
ACTION:DISPLAY
DESCRIPTION:Mount Ida vs. Lasell
END:VALARM
END:VEVENT
BEGIN:VEVENT
UID:gnac-746869-20080124@quickscores.com
DTSTAMP:20260424T004500Z
DTSTART;TZID=America/New_York:20080124
SUMMARY:Johnson & Wales vs. Mount Ida
DESCRIPTION:Men's Basketball - Great Northeast Athletic Conference
LOCATION:Providence, RI
CATEGORIES:QuickScores, Basketball Game
TRANSP:OPAQUE
BEGIN:VALARM
TRIGGER:-PT2H
ACTION:DISPLAY
DESCRIPTION:Johnson & Wales vs. Mount Ida
END:VALARM
END:VEVENT
BEGIN:VEVENT
UID:gnac-746809-20080126@quickscores.com
DTSTAMP:20260424T004500Z
DTSTART;TZID=America/New_York:20080126
SUMMARY:Mount Ida vs. Rivier
DESCRIPTION:Men's Basketball - Great Northeast Athletic Conference
LOCATION:Mount Ida
CATEGORIES:QuickScores, Basketball Game
TRANSP:OPAQUE
BEGIN:VALARM
TRIGGER:-PT2H
ACTION:DISPLAY
DESCRIPTION:Mount Ida vs. Rivier
END:VALARM
END:VEVENT
BEGIN:VEVENT
UID:gnac-746893-20080131@quickscores.com
DTSTAMP:20260424T004500Z
DTSTART;TZID=America/New_York:20080131
SUMMARY:Norwich vs. Mount Ida
DESCRIPTION:Men's Basketball - Great Northeast Athletic Conference
LOCATION:Northfield, VT
CATEGORIES:QuickScores, Basketball Game
TRANSP:OPAQUE
BEGIN:VALARM
TRIGGER:-PT2H
ACTION:DISPLAY
DESCRIPTION:Norwich vs. Mount Ida
END:VALARM
END:VEVENT
BEGIN:VEVENT
UID:gnac-746833-20080204@quickscores.com
DTSTAMP:20260424T004500Z
DTSTART;TZID=America/New_York:20080204
SUMMARY:Mount Ida vs. Daniel Webster
DESCRIPTION:Men's Basketball - Great Northeast Athletic Conference
LOCATION:Mount Ida
CATEGORIES:QuickScores, Basketball Game
TRANSP:OPAQUE
BEGIN:VALARM
TRIGGER:-PT2H
ACTION:DISPLAY
DESCRIPTION:Mount Ida vs. Daniel Webster
END:VALARM
END:VEVENT
BEGIN:VEVENT
UID:gnac-746844-20080206@quickscores.com
DTSTAMP:20260424T004500Z
DTSTART;TZID=America/New_York:20080206
SUMMARY:Mount Ida vs. Emmanuel
DESCRIPTION:Men's Basketball - Great Northeast Athletic Conference
LOCATION:Mount Ida
CATEGORIES:QuickScores, Basketball Game
TRANSP:OPAQUE
BEGIN:VALARM
TRIGGER:-PT2H
ACTION:DISPLAY
DESCRIPTION:Mount Ida vs. Emmanuel
END:VALARM
END:VEVENT
BEGIN:VEVENT
UID:gnac-746872-20080209@quickscores.com
DTSTAMP:20260424T004500Z
DTSTART;TZID=America/New_York:20080209
SUMMARY:Rivier vs. Mount Ida
DESCRIPTION:Men's Basketball - Great Northeast Athletic Conference
LOCATION:Rivier
CATEGORIES:QuickScores, Basketball Game
TRANSP:OPAQUE
BEGIN:VALARM
TRIGGER:-PT2H
ACTION:DISPLAY
DESCRIPTION:Rivier vs. Mount Ida
END:VALARM
END:VEVENT
BEGIN:VEVENT
UID:gnac-746903-20080212@quickscores.com
DTSTAMP:20260424T004500Z
DTSTART;TZID=America/New_York:20080212
SUMMARY:Mount Ida vs. Emerson
DESCRIPTION:Men's Basketball - Great Northeast Athletic Conference
LOCATION:Mount Ida
CATEGORIES:QuickScores, Basketball Game
TRANSP:OPAQUE
BEGIN:VALARM
TRIGGER:-PT2H
ACTION:DISPLAY
DESCRIPTION:Mount Ida vs. Emerson
END:VALARM
END:VEVENT
BEGIN:VEVENT
UID:gnac-746824-20080216@quickscores.com
DTSTAMP:20260424T004500Z
DTSTART;TZID=America/New_York:20080216
SUMMARY:Albertus Magnus vs. Mount Ida
DESCRIPTION:DH w WBB --- Men's Basketball - Great Northeast Athletic Conference
LOCATION:New Haven, CT
CATEGORIES:QuickScores, Basketball Game
TRANSP:OPAQUE
BEGIN:VALARM
TRIGGER:-PT2H
ACTION:DISPLAY
DESCRIPTION:Albertus Magnus vs. Mount Ida
END:VALARM
END:VEVENT
BEGIN:VEVENT
UID:gnac-746852-20080219@quickscores.com
DTSTAMP:20260424T004500Z
DTSTART;TZID=America/New_York:20080219
SUMMARY:Mount Ida vs. Saint Joseph's ME
DESCRIPTION:Men's Basketball - Great Northeast Athletic Conference
LOCATION:Mount Ida
CATEGORIES:QuickScores, Basketball Game
TRANSP:OPAQUE
BEGIN:VALARM
TRIGGER:-PT2H
ACTION:DISPLAY
DESCRIPTION:Mount Ida vs. Saint Joseph's ME
END:VALARM
END:VEVENT
BEGIN:VEVENT
UID:gnac-746876-20080223@quickscores.com
DTSTAMP:20260424T004500Z
DTSTART;TZID=America/New_York:20080223
SUMMARY:Lasell vs. Mount Ida
DESCRIPTION:Men's Basketball - Great Northeast Athletic Conference
LOCATION:Lasell Newton
CATEGORIES:QuickScores, Basketball Game
TRANSP:OPAQUE
BEGIN:VALARM
TRIGGER:-PT2H
ACTION:DISPLAY
DESCRIPTION:Lasell vs. Mount Ida
END:VALARM
END:VEVENT
END:VCALENDAR
