BEGIN:VCALENDAR
VERSION:2.0
PRODID:-//QuickScores.com//BQ Dynamic iCal Creator//EN
METHOD:PUBLISH
X-WR-CALNAME:Norwich - 2020 Softball - Spring 2020
X-WR-CALDESC:QuickScores game calendar
X-PUBLISHED-TTL:PT24H
REFRESH-INTERVAL;VALUE=DURATION:PT24H
CALSCALE:GREGORIAN
BEGIN:VTIMEZONE
TZID:America/New_York
X-LIC-LOCATION:America/New_York
BEGIN:DAYLIGHT
TZNAME:EDT
TZOFFSETFROM:-0500
TZOFFSETTO:-0400
DTSTART:19700308T020000
RRULE:FREQ=YEARLY;BYMONTH=3;BYDAY=2SU
END:DAYLIGHT
BEGIN:STANDARD
TZNAME:EST
TZOFFSETFROM:-0400
TZOFFSETTO:-0500
DTSTART:19701101T020000
RRULE:FREQ=YEARLY;BYMONTH=11;BYDAY=1SU
END:STANDARD
END:VTIMEZONE
BEGIN:VEVENT
UID:gnac-40263916-20200404@quickscores.com
DTSTAMP:20260421T022900Z
DTSTART;TZID=America/New_York:20200404
SUMMARY:Simmons vs. Norwich
DESCRIPTION:2020 NOR can share a bus w WLAX --- 2020 Softball - Great Northeast Athletic Conference
LOCATION:Daly Field Brighton
CATEGORIES:QuickScores, Softball Game
TRANSP:OPAQUE
BEGIN:VALARM
TRIGGER:-PT2H
ACTION:DISPLAY
DESCRIPTION:Simmons vs. Norwich
END:VALARM
END:VEVENT
BEGIN:VEVENT
UID:gnac-40263883-20200405@quickscores.com
DTSTAMP:20260421T022900Z
DTSTART;TZID=America/New_York:20200405
SUMMARY:Saint Joseph's ME vs. Norwich
DESCRIPTION:2020 Softball - Great Northeast Athletic Conference
LOCATION:Standish ME
CATEGORIES:QuickScores, Softball Game
TRANSP:OPAQUE
BEGIN:VALARM
TRIGGER:-PT2H
ACTION:DISPLAY
DESCRIPTION:Saint Joseph's ME vs. Norwich
END:VALARM
END:VEVENT
BEGIN:VEVENT
UID:gnac-40263891-20200409@quickscores.com
DTSTAMP:20260421T022900Z
DTSTART;TZID=America/New_York:20200409
SUMMARY:Norwich vs. Suffolk
DESCRIPTION:2020 Softball - Great Northeast Athletic Conference
LOCATION:Northfield, VT
CATEGORIES:QuickScores, Softball Game
TRANSP:OPAQUE
BEGIN:VALARM
TRIGGER:-PT2H
ACTION:DISPLAY
DESCRIPTION:Norwich vs. Suffolk
END:VALARM
END:VEVENT
BEGIN:VEVENT
UID:gnac-40263909-20200411@quickscores.com
DTSTAMP:20260421T022900Z
DTSTART;TZID=America/New_York:20200411
SUMMARY:Norwich vs. Lasell
DESCRIPTION:2020 LAS can share a bus w WLAX --- 2020 Softball - Great Northeast Athletic Conference
LOCATION:Northfield, VT
CATEGORIES:QuickScores, Softball Game
TRANSP:OPAQUE
BEGIN:VALARM
TRIGGER:-PT2H
ACTION:DISPLAY
DESCRIPTION:Norwich vs. Lasell
END:VALARM
END:VEVENT
BEGIN:VEVENT
UID:gnac-40263893-20200418@quickscores.com
DTSTAMP:20260421T022900Z
DTSTART;TZID=America/New_York:20200418
SUMMARY:Norwich vs. Rivier
DESCRIPTION:2020 RIV can share a bus with WLAX. 2020 NOR Jr. Ring Day --- 2020 Softball - Great Northeast Athletic Conference
LOCATION:Northfield, VT
CATEGORIES:QuickScores, Softball Game
TRANSP:OPAQUE
BEGIN:VALARM
TRIGGER:-PT2H
ACTION:DISPLAY
DESCRIPTION:Norwich vs. Rivier
END:VALARM
END:VEVENT
BEGIN:VEVENT
UID:gnac-40263887-20200419@quickscores.com
DTSTAMP:20260421T022900Z
DTSTART;TZID=America/New_York:20200419
SUMMARY:Emmanuel vs. Norwich
DESCRIPTION:2020 Softball - Great Northeast Athletic Conference
LOCATION:Roberto Clemente Field
CATEGORIES:QuickScores, Softball Game
TRANSP:OPAQUE
BEGIN:VALARM
TRIGGER:-PT2H
ACTION:DISPLAY
DESCRIPTION:Emmanuel vs. Norwich
END:VALARM
END:VEVENT
BEGIN:VEVENT
UID:gnac-40263941-20200424@quickscores.com
DTSTAMP:20260421T022900Z
DTSTART;TZID=America/New_York:20200424
SUMMARY:Regis vs. Norwich
DESCRIPTION:2020 Softball - Great Northeast Athletic Conference
LOCATION:Regis Weston MA
CATEGORIES:QuickScores, Softball Game
TRANSP:OPAQUE
BEGIN:VALARM
TRIGGER:-PT2H
ACTION:DISPLAY
DESCRIPTION:Regis vs. Norwich
END:VALARM
END:VEVENT
BEGIN:VEVENT
UID:gnac-40263897-20200425@quickscores.com
DTSTAMP:20260421T022900Z
DTSTART;TZID=America/New_York:20200425
SUMMARY:Norwich vs. Anna Maria
DESCRIPTION:2020 Softball - Great Northeast Athletic Conference
LOCATION:Northfield, VT
CATEGORIES:QuickScores, Softball Game
TRANSP:OPAQUE
BEGIN:VALARM
TRIGGER:-PT2H
ACTION:DISPLAY
DESCRIPTION:Norwich vs. Anna Maria
END:VALARM
END:VEVENT
END:VCALENDAR
