BEGIN:VCALENDAR
VERSION:2.0
PRODID:-//QuickScores.com//BQ Dynamic iCal Creator//EN
METHOD:PUBLISH
X-WR-CALNAME:Emmanuel - 2020 Softball - Spring 2020
X-WR-CALDESC:QuickScores game calendar
X-PUBLISHED-TTL:PT24H
REFRESH-INTERVAL;VALUE=DURATION:PT24H
CALSCALE:GREGORIAN
BEGIN:VTIMEZONE
TZID:America/New_York
X-LIC-LOCATION:America/New_York
BEGIN:DAYLIGHT
TZNAME:EDT
TZOFFSETFROM:-0500
TZOFFSETTO:-0400
DTSTART:19700308T020000
RRULE:FREQ=YEARLY;BYMONTH=3;BYDAY=2SU
END:DAYLIGHT
BEGIN:STANDARD
TZNAME:EST
TZOFFSETFROM:-0400
TZOFFSETTO:-0500
DTSTART:19701101T020000
RRULE:FREQ=YEARLY;BYMONTH=11;BYDAY=1SU
END:STANDARD
END:VTIMEZONE
BEGIN:VEVENT
UID:gnac-40263912-20200404@quickscores.com
DTSTAMP:20260422T143900Z
DTSTART;TZID=America/New_York:20200404
SUMMARY:Suffolk vs. Emmanuel
DESCRIPTION:2020 Softball - Great Northeast Athletic Conference
LOCATION:East Boston Memorial Field
CATEGORIES:QuickScores, Softball Game
TRANSP:OPAQUE
BEGIN:VALARM
TRIGGER:-PT2H
ACTION:DISPLAY
DESCRIPTION:Suffolk vs. Emmanuel
END:VALARM
END:VEVENT
BEGIN:VEVENT
UID:gnac-40263911-20200405@quickscores.com
DTSTAMP:20260422T143900Z
DTSTART;TZID=America/New_York:20200405
SUMMARY:Emmanuel vs. Anna Maria
DESCRIPTION:2020 Softball - Great Northeast Athletic Conference
LOCATION:Roberto Clemente Field
CATEGORIES:QuickScores, Softball Game
TRANSP:OPAQUE
BEGIN:VALARM
TRIGGER:-PT2H
ACTION:DISPLAY
DESCRIPTION:Emmanuel vs. Anna Maria
END:VALARM
END:VEVENT
BEGIN:VEVENT
UID:gnac-40263898-20200409@quickscores.com
DTSTAMP:20260422T143900Z
DTSTART;TZID=America/New_York:20200409
SUMMARY:Emmanuel vs. Johnson & Wales
DESCRIPTION:2020 Softball - Great Northeast Athletic Conference
LOCATION:Roberto Clemente Field
CATEGORIES:QuickScores, Softball Game
TRANSP:OPAQUE
BEGIN:VALARM
TRIGGER:-PT2H
ACTION:DISPLAY
DESCRIPTION:Emmanuel vs. Johnson & Wales
END:VALARM
END:VEVENT
BEGIN:VEVENT
UID:gnac-40263946-20200411@quickscores.com
DTSTAMP:20260422T143900Z
DTSTART;TZID=America/New_York:20200411
SUMMARY:Emmanuel vs. Regis
DESCRIPTION:2020 Softball - Great Northeast Athletic Conference
LOCATION:Roberto Clemente Field
CATEGORIES:QuickScores, Softball Game
TRANSP:OPAQUE
BEGIN:VALARM
TRIGGER:-PT2H
ACTION:DISPLAY
DESCRIPTION:Emmanuel vs. Regis
END:VALARM
END:VEVENT
BEGIN:VEVENT
UID:gnac-40263892-20200418@quickscores.com
DTSTAMP:20260422T143900Z
DTSTART;TZID=America/New_York:20200418
SUMMARY:Saint Joseph's ME vs. Emmanuel
DESCRIPTION:2020 EMM can share a bus with WLAX --- 2020 Softball - Great Northeast Athletic Conference
LOCATION:Standish ME
CATEGORIES:QuickScores, Softball Game
TRANSP:OPAQUE
BEGIN:VALARM
TRIGGER:-PT2H
ACTION:DISPLAY
DESCRIPTION:Saint Joseph's ME vs. Emmanuel
END:VALARM
END:VEVENT
BEGIN:VEVENT
UID:gnac-40263887-20200419@quickscores.com
DTSTAMP:20260422T143900Z
DTSTART;TZID=America/New_York:20200419
SUMMARY:Emmanuel vs. Norwich
DESCRIPTION:2020 Softball - Great Northeast Athletic Conference
LOCATION:Roberto Clemente Field
CATEGORIES:QuickScores, Softball Game
TRANSP:OPAQUE
BEGIN:VALARM
TRIGGER:-PT2H
ACTION:DISPLAY
DESCRIPTION:Emmanuel vs. Norwich
END:VALARM
END:VEVENT
BEGIN:VEVENT
UID:gnac-40263902-20200424@quickscores.com
DTSTAMP:20260422T143900Z
DTSTART;TZID=America/New_York:20200424
SUMMARY:Rivier vs. Emmanuel
DESCRIPTION:2020 Softball - Great Northeast Athletic Conference
LOCATION:Nashua, NH
CATEGORIES:QuickScores, Softball Game
TRANSP:OPAQUE
BEGIN:VALARM
TRIGGER:-PT2H
ACTION:DISPLAY
DESCRIPTION:Rivier vs. Emmanuel
END:VALARM
END:VEVENT
BEGIN:VEVENT
UID:gnac-40263901-20200425@quickscores.com
DTSTAMP:20260422T143900Z
DTSTART;TZID=America/New_York:20200425
SUMMARY:Lasell vs. Emmanuel
DESCRIPTION:2020 Softball - Great Northeast Athletic Conference
LOCATION:Taylor Field at Lasell College
CATEGORIES:QuickScores, Softball Game
TRANSP:OPAQUE
BEGIN:VALARM
TRIGGER:-PT2H
ACTION:DISPLAY
DESCRIPTION:Lasell vs. Emmanuel
END:VALARM
END:VEVENT
END:VCALENDAR
