BEGIN:VCALENDAR
VERSION:2.0
PRODID:-//QuickScores.com//BQ Dynamic iCal Creator//EN
METHOD:PUBLISH
X-WR-CALNAME:Suffolk - 2018 Women&#039;s Soccer Removing Mount Ida - Fall 2018
X-WR-CALDESC:QuickScores game calendar
X-PUBLISHED-TTL:PT24H
REFRESH-INTERVAL;VALUE=DURATION:PT24H
CALSCALE:GREGORIAN
BEGIN:VTIMEZONE
TZID:America/New_York
X-LIC-LOCATION:America/New_York
BEGIN:DAYLIGHT
TZNAME:EDT
TZOFFSETFROM:-0500
TZOFFSETTO:-0400
DTSTART:19700308T020000
RRULE:FREQ=YEARLY;BYMONTH=3;BYDAY=2SU
END:DAYLIGHT
BEGIN:STANDARD
TZNAME:EST
TZOFFSETFROM:-0400
TZOFFSETTO:-0500
DTSTART:19701101T020000
RRULE:FREQ=YEARLY;BYMONTH=11;BYDAY=1SU
END:STANDARD
END:VTIMEZONE
BEGIN:VEVENT
UID:gnac-37402652-20180908@quickscores.com
DTSTAMP:20260420T152400Z
DTSTART;TZID=America/New_York:20180908
SUMMARY:Suffolk vs. Regis
DESCRIPTION:2018 Women's Soccer Removing Mount Ida - Great Northeast Athletic Conference
LOCATION:East Boston Memorial Field
CATEGORIES:QuickScores, Soccer Game
TRANSP:OPAQUE
BEGIN:VALARM
TRIGGER:-PT2H
ACTION:DISPLAY
DESCRIPTION:Suffolk vs. Regis
END:VALARM
END:VEVENT
BEGIN:VEVENT
UID:gnac-37402583-20180912@quickscores.com
DTSTAMP:20260420T152400Z
DTSTART;TZID=America/New_York:20180912
SUMMARY:Suffolk vs. Anna Maria
DESCRIPTION:2018 Women's Soccer Removing Mount Ida - Great Northeast Athletic Conference
LOCATION:East Boston Memorial Field
CATEGORIES:QuickScores, Soccer Game
TRANSP:OPAQUE
BEGIN:VALARM
TRIGGER:-PT2H
ACTION:DISPLAY
DESCRIPTION:Suffolk vs. Anna Maria
END:VALARM
END:VEVENT
BEGIN:VEVENT
UID:gnac-37402663-20180915@quickscores.com
DTSTAMP:20260420T152400Z
DTSTART;TZID=America/New_York:20180915
SUMMARY:Suffolk vs. Colby Sawyer
DESCRIPTION:2018 Women's Soccer Removing Mount Ida - Great Northeast Athletic Conference
LOCATION:East Boston Memorial Field
CATEGORIES:QuickScores, Soccer Game
TRANSP:OPAQUE
BEGIN:VALARM
TRIGGER:-PT2H
ACTION:DISPLAY
DESCRIPTION:Suffolk vs. Colby Sawyer
END:VALARM
END:VEVENT
BEGIN:VEVENT
UID:gnac-37402600-20180919@quickscores.com
DTSTAMP:20260420T152400Z
DTSTART;TZID=America/New_York:20180919
SUMMARY:Albertus Magnus vs. Suffolk
DESCRIPTION:2018 Women's Soccer Removing Mount Ida - Great Northeast Athletic Conference
LOCATION:New Haven, CT
CATEGORIES:QuickScores, Soccer Game
TRANSP:OPAQUE
BEGIN:VALARM
TRIGGER:-PT2H
ACTION:DISPLAY
DESCRIPTION:Albertus Magnus vs. Suffolk
END:VALARM
END:VEVENT
BEGIN:VEVENT
UID:gnac-37402596-20180922@quickscores.com
DTSTAMP:20260420T152400Z
DTSTART;TZID=America/New_York:20180922
SUMMARY:Suffolk vs. Saint Joseph CT
DESCRIPTION:2018 Women's Soccer Removing Mount Ida - Great Northeast Athletic Conference
LOCATION:East Boston Memorial Field
CATEGORIES:QuickScores, Soccer Game
TRANSP:OPAQUE
BEGIN:VALARM
TRIGGER:-PT2H
ACTION:DISPLAY
DESCRIPTION:Suffolk vs. Saint Joseph CT
END:VALARM
END:VEVENT
BEGIN:VEVENT
UID:gnac-37402603-20180929@quickscores.com
DTSTAMP:20260420T152400Z
DTSTART;TZID=America/New_York:20180929
SUMMARY:Lasell vs. Suffolk
DESCRIPTION:Coaches from LAS and SUF will agree to a new date for this game. --- 2018 Women's Soccer Removing Mount Ida - Great Northeast Athletic Conference
LOCATION:Taylor Field at Lasell College
CATEGORIES:QuickScores, Soccer Game
TRANSP:OPAQUE
BEGIN:VALARM
TRIGGER:-PT2H
ACTION:DISPLAY
DESCRIPTION:Lasell vs. Suffolk
END:VALARM
END:VEVENT
BEGIN:VEVENT
UID:gnac-37402609-20180929@quickscores.com
DTSTAMP:20260420T152400Z
DTSTART;TZID=America/New_York:20180929
SUMMARY:Rivier vs. Suffolk
DESCRIPTION:2018 RIV Homecoming. Because of Mount Ida closing this game was moved from original date to Sat 9/29/18 --- 2018 Women's Soccer Removing Mount Ida - Great Northeast Athletic Conference
LOCATION:Nashua, NH
CATEGORIES:QuickScores, Soccer Game
TRANSP:OPAQUE
BEGIN:VALARM
TRIGGER:-PT2H
ACTION:DISPLAY
DESCRIPTION:Rivier vs. Suffolk
END:VALARM
END:VEVENT
BEGIN:VEVENT
UID:gnac-37402590-20181003@quickscores.com
DTSTAMP:20260420T152400Z
DTSTART;TZID=America/New_York:20181003
SUMMARY:Simmons vs. Suffolk
DESCRIPTION:2018 Women's Soccer Removing Mount Ida - Great Northeast Athletic Conference
LOCATION:Daly Field Brighton
CATEGORIES:QuickScores, Soccer Game
TRANSP:OPAQUE
BEGIN:VALARM
TRIGGER:-PT2H
ACTION:DISPLAY
DESCRIPTION:Simmons vs. Suffolk
END:VALARM
END:VEVENT
BEGIN:VEVENT
UID:gnac-37402572-20181006@quickscores.com
DTSTAMP:20260420T152400Z
DTSTART;TZID=America/New_York:20181006
SUMMARY:Suffolk vs. Saint Joseph's ME
DESCRIPTION:2018 Women's Soccer Removing Mount Ida - Great Northeast Athletic Conference
LOCATION:East Boston Memorial Field
CATEGORIES:QuickScores, Soccer Game
TRANSP:OPAQUE
BEGIN:VALARM
TRIGGER:-PT2H
ACTION:DISPLAY
DESCRIPTION:Suffolk vs. Saint Joseph's ME
END:VALARM
END:VEVENT
BEGIN:VEVENT
UID:gnac-37402578-20181010@quickscores.com
DTSTAMP:20260420T152400Z
DTSTART;TZID=America/New_York:20181010
SUMMARY:Johnson & Wales vs. Suffolk
DESCRIPTION:2018 Women's Soccer Removing Mount Ida - Great Northeast Athletic Conference
LOCATION:Scotts Miracle Gro Athletic Complex
CATEGORIES:QuickScores, Soccer Game
TRANSP:OPAQUE
BEGIN:VALARM
TRIGGER:-PT2H
ACTION:DISPLAY
DESCRIPTION:Johnson & Wales vs. Suffolk
END:VALARM
END:VEVENT
BEGIN:VEVENT
UID:gnac-37402615-20181017@quickscores.com
DTSTAMP:20260420T152400Z
DTSTART;TZID=America/New_York:20181017
SUMMARY:Suffolk vs. Emmanuel
DESCRIPTION:2018 Women's Soccer Removing Mount Ida - Great Northeast Athletic Conference
LOCATION:East Boston Memorial Field
CATEGORIES:QuickScores, Soccer Game
TRANSP:OPAQUE
BEGIN:VALARM
TRIGGER:-PT2H
ACTION:DISPLAY
DESCRIPTION:Suffolk vs. Emmanuel
END:VALARM
END:VEVENT
BEGIN:VEVENT
UID:gnac-37402577-20181020@quickscores.com
DTSTAMP:20260420T152400Z
DTSTART;TZID=America/New_York:20181020
SUMMARY:Norwich vs. Suffolk
DESCRIPTION:2018 Women's Soccer Removing Mount Ida - Great Northeast Athletic Conference
LOCATION:Northfield, VT
CATEGORIES:QuickScores, Soccer Game
TRANSP:OPAQUE
BEGIN:VALARM
TRIGGER:-PT2H
ACTION:DISPLAY
DESCRIPTION:Norwich vs. Suffolk
END:VALARM
END:VEVENT
END:VCALENDAR
