BEGIN:VCALENDAR
VERSION:2.0
PRODID:-//QuickScores.com//BQ Dynamic iCal Creator//EN
METHOD:PUBLISH
X-WR-CALNAME:Rivier - 2018 Women&#039;s Soccer Removing Mount Ida - Fall 2018
X-WR-CALDESC:QuickScores game calendar
X-PUBLISHED-TTL:PT24H
REFRESH-INTERVAL;VALUE=DURATION:PT24H
CALSCALE:GREGORIAN
BEGIN:VTIMEZONE
TZID:America/New_York
X-LIC-LOCATION:America/New_York
BEGIN:DAYLIGHT
TZNAME:EDT
TZOFFSETFROM:-0500
TZOFFSETTO:-0400
DTSTART:19700308T020000
RRULE:FREQ=YEARLY;BYMONTH=3;BYDAY=2SU
END:DAYLIGHT
BEGIN:STANDARD
TZNAME:EST
TZOFFSETFROM:-0400
TZOFFSETTO:-0500
DTSTART:19701101T020000
RRULE:FREQ=YEARLY;BYMONTH=11;BYDAY=1SU
END:STANDARD
END:VTIMEZONE
BEGIN:VEVENT
UID:gnac-37402619-20180910@quickscores.com
DTSTAMP:20260420T032600Z
DTSTART;TZID=America/New_York:20180910
SUMMARY:Rivier vs. Norwich
DESCRIPTION:Original date changed after Mount Ida closed. 9/10/18 is the new agreed upon date --- 2018 Women's Soccer Removing Mount Ida - Great Northeast Athletic Conference
LOCATION:Nashua, NH
CATEGORIES:QuickScores, Soccer Game
TRANSP:OPAQUE
BEGIN:VALARM
TRIGGER:-PT2H
ACTION:DISPLAY
DESCRIPTION:Rivier vs. Norwich
END:VALARM
END:VEVENT
BEGIN:VEVENT
UID:gnac-37402601-20180912@quickscores.com
DTSTAMP:20260420T032600Z
DTSTART;TZID=America/New_York:20180912
SUMMARY:Simmons vs. Rivier
DESCRIPTION:2018 Women's Soccer Removing Mount Ida - Great Northeast Athletic Conference
LOCATION:Daly Field Brighton
CATEGORIES:QuickScores, Soccer Game
TRANSP:OPAQUE
BEGIN:VALARM
TRIGGER:-PT2H
ACTION:DISPLAY
DESCRIPTION:Simmons vs. Rivier
END:VALARM
END:VEVENT
BEGIN:VEVENT
UID:gnac-37402616-20180915@quickscores.com
DTSTAMP:20260420T032600Z
DTSTART;TZID=America/New_York:20180915
SUMMARY:Rivier vs. Saint Joseph's ME
DESCRIPTION:2018 Women's Soccer Removing Mount Ida - Great Northeast Athletic Conference
LOCATION:Nashua, NH
CATEGORIES:QuickScores, Soccer Game
TRANSP:OPAQUE
BEGIN:VALARM
TRIGGER:-PT2H
ACTION:DISPLAY
DESCRIPTION:Rivier vs. Saint Joseph's ME
END:VALARM
END:VEVENT
BEGIN:VEVENT
UID:gnac-37402597-20180919@quickscores.com
DTSTAMP:20260420T032600Z
DTSTART;TZID=America/New_York:20180919
SUMMARY:Emmanuel vs. Rivier
DESCRIPTION:2018 Women's Soccer Removing Mount Ida - Great Northeast Athletic Conference
LOCATION:Roberto Clemente Field
CATEGORIES:QuickScores, Soccer Game
TRANSP:OPAQUE
BEGIN:VALARM
TRIGGER:-PT2H
ACTION:DISPLAY
DESCRIPTION:Emmanuel vs. Rivier
END:VALARM
END:VEVENT
BEGIN:VEVENT
UID:gnac-37402582-20180922@quickscores.com
DTSTAMP:20260420T032600Z
DTSTART;TZID=America/New_York:20180922
SUMMARY:Lasell vs. Rivier
DESCRIPTION:2018 Women's Soccer Removing Mount Ida - Great Northeast Athletic Conference
LOCATION:Taylor Field at Lasell College
CATEGORIES:QuickScores, Soccer Game
TRANSP:OPAQUE
BEGIN:VALARM
TRIGGER:-PT2H
ACTION:DISPLAY
DESCRIPTION:Lasell vs. Rivier
END:VALARM
END:VEVENT
BEGIN:VEVENT
UID:gnac-37402609-20180929@quickscores.com
DTSTAMP:20260420T032600Z
DTSTART;TZID=America/New_York:20180929
SUMMARY:Rivier vs. Suffolk
DESCRIPTION:2018 RIV Homecoming. Because of Mount Ida closing this game was moved from original date to Sat 9/29/18 --- 2018 Women's Soccer Removing Mount Ida - Great Northeast Athletic Conference
LOCATION:Nashua, NH
CATEGORIES:QuickScores, Soccer Game
TRANSP:OPAQUE
BEGIN:VALARM
TRIGGER:-PT2H
ACTION:DISPLAY
DESCRIPTION:Rivier vs. Suffolk
END:VALARM
END:VEVENT
BEGIN:VEVENT
UID:gnac-37402627-20181003@quickscores.com
DTSTAMP:20260420T032600Z
DTSTART;TZID=America/New_York:20181003
SUMMARY:Anna Maria vs. Rivier
DESCRIPTION:2018 Women's Soccer Removing Mount Ida - Great Northeast Athletic Conference
LOCATION:Paxton MA
CATEGORIES:QuickScores, Soccer Game
TRANSP:OPAQUE
BEGIN:VALARM
TRIGGER:-PT2H
ACTION:DISPLAY
DESCRIPTION:Anna Maria vs. Rivier
END:VALARM
END:VEVENT
BEGIN:VEVENT
UID:gnac-37402628-20181006@quickscores.com
DTSTAMP:20260420T032600Z
DTSTART;TZID=America/New_York:20181006
SUMMARY:Saint Joseph CT vs. Rivier
DESCRIPTION:2018 Women's Soccer Removing Mount Ida - Great Northeast Athletic Conference
LOCATION:W. Hartford, CT
CATEGORIES:QuickScores, Soccer Game
TRANSP:OPAQUE
BEGIN:VALARM
TRIGGER:-PT2H
ACTION:DISPLAY
DESCRIPTION:Saint Joseph CT vs. Rivier
END:VALARM
END:VEVENT
BEGIN:VEVENT
UID:gnac-37402651-20181010@quickscores.com
DTSTAMP:20260420T032600Z
DTSTART;TZID=America/New_York:20181010
SUMMARY:Rivier vs. Colby Sawyer
DESCRIPTION:2018 Women's Soccer Removing Mount Ida - Great Northeast Athletic Conference
LOCATION:Nashua, NH
CATEGORIES:QuickScores, Soccer Game
TRANSP:OPAQUE
BEGIN:VALARM
TRIGGER:-PT2H
ACTION:DISPLAY
DESCRIPTION:Rivier vs. Colby Sawyer
END:VALARM
END:VEVENT
BEGIN:VEVENT
UID:gnac-37402630-20181013@quickscores.com
DTSTAMP:20260420T032600Z
DTSTART;TZID=America/New_York:20181013
SUMMARY:Albertus Magnus vs. Rivier
DESCRIPTION:2018 Women's Soccer Removing Mount Ida - Great Northeast Athletic Conference
LOCATION:New Haven, CT
CATEGORIES:QuickScores, Soccer Game
TRANSP:OPAQUE
BEGIN:VALARM
TRIGGER:-PT2H
ACTION:DISPLAY
DESCRIPTION:Albertus Magnus vs. Rivier
END:VALARM
END:VEVENT
BEGIN:VEVENT
UID:gnac-37402649-20181017@quickscores.com
DTSTAMP:20260420T032600Z
DTSTART;TZID=America/New_York:20181017
SUMMARY:Rivier vs. Regis
DESCRIPTION:2018 Women's Soccer Removing Mount Ida - Great Northeast Athletic Conference
LOCATION:Nashua, NH
CATEGORIES:QuickScores, Soccer Game
TRANSP:OPAQUE
BEGIN:VALARM
TRIGGER:-PT2H
ACTION:DISPLAY
DESCRIPTION:Rivier vs. Regis
END:VALARM
END:VEVENT
BEGIN:VEVENT
UID:gnac-37402608-20181020@quickscores.com
DTSTAMP:20260420T032600Z
DTSTART;TZID=America/New_York:20181020
SUMMARY:Rivier vs. Johnson & Wales
DESCRIPTION:2018 Women's Soccer Removing Mount Ida - Great Northeast Athletic Conference
LOCATION:Nashua, NH
CATEGORIES:QuickScores, Soccer Game
TRANSP:OPAQUE
BEGIN:VALARM
TRIGGER:-PT2H
ACTION:DISPLAY
DESCRIPTION:Rivier vs. Johnson & Wales
END:VALARM
END:VEVENT
END:VCALENDAR
