BEGIN:VCALENDAR
VERSION:2.0
PRODID:-//QuickScores.com//BQ Dynamic iCal Creator//EN
METHOD:PUBLISH
X-WR-CALNAME:Anna Maria - 2018 Women&#039;s Soccer Removing Mount Ida - Fall 2018
X-WR-CALDESC:QuickScores game calendar
X-PUBLISHED-TTL:PT24H
REFRESH-INTERVAL;VALUE=DURATION:PT24H
CALSCALE:GREGORIAN
BEGIN:VTIMEZONE
TZID:America/New_York
X-LIC-LOCATION:America/New_York
BEGIN:DAYLIGHT
TZNAME:EDT
TZOFFSETFROM:-0500
TZOFFSETTO:-0400
DTSTART:19700308T020000
RRULE:FREQ=YEARLY;BYMONTH=3;BYDAY=2SU
END:DAYLIGHT
BEGIN:STANDARD
TZNAME:EST
TZOFFSETFROM:-0400
TZOFFSETTO:-0500
DTSTART:19701101T020000
RRULE:FREQ=YEARLY;BYMONTH=11;BYDAY=1SU
END:STANDARD
END:VTIMEZONE
BEGIN:VEVENT
UID:gnac-37402639-20180908@quickscores.com
DTSTAMP:20260420T084500Z
DTSTART;TZID=America/New_York:20180908
SUMMARY:Anna Maria vs. Johnson & Wales
DESCRIPTION:2018 Women's Soccer Removing Mount Ida - Great Northeast Athletic Conference
LOCATION:Paxton MA
CATEGORIES:QuickScores, Soccer Game
TRANSP:OPAQUE
BEGIN:VALARM
TRIGGER:-PT2H
ACTION:DISPLAY
DESCRIPTION:Anna Maria vs. Johnson & Wales
END:VALARM
END:VEVENT
BEGIN:VEVENT
UID:gnac-37402583-20180912@quickscores.com
DTSTAMP:20260420T084500Z
DTSTART;TZID=America/New_York:20180912
SUMMARY:Suffolk vs. Anna Maria
DESCRIPTION:2018 Women's Soccer Removing Mount Ida - Great Northeast Athletic Conference
LOCATION:East Boston Memorial Field
CATEGORIES:QuickScores, Soccer Game
TRANSP:OPAQUE
BEGIN:VALARM
TRIGGER:-PT2H
ACTION:DISPLAY
DESCRIPTION:Suffolk vs. Anna Maria
END:VALARM
END:VEVENT
BEGIN:VEVENT
UID:gnac-37402631-20180915@quickscores.com
DTSTAMP:20260420T084500Z
DTSTART;TZID=America/New_York:20180915
SUMMARY:Norwich vs. Anna Maria
DESCRIPTION:2018 Women's Soccer Removing Mount Ida - Great Northeast Athletic Conference
LOCATION:Northfield, VT
CATEGORIES:QuickScores, Soccer Game
TRANSP:OPAQUE
BEGIN:VALARM
TRIGGER:-PT2H
ACTION:DISPLAY
DESCRIPTION:Norwich vs. Anna Maria
END:VALARM
END:VEVENT
BEGIN:VEVENT
UID:gnac-37402667-20180919@quickscores.com
DTSTAMP:20260420T084500Z
DTSTART;TZID=America/New_York:20180919
SUMMARY:Anna Maria vs. Lasell
DESCRIPTION:2018 Women's Soccer Removing Mount Ida - Great Northeast Athletic Conference
LOCATION:Paxton MA
CATEGORIES:QuickScores, Soccer Game
TRANSP:OPAQUE
BEGIN:VALARM
TRIGGER:-PT2H
ACTION:DISPLAY
DESCRIPTION:Anna Maria vs. Lasell
END:VALARM
END:VEVENT
BEGIN:VEVENT
UID:gnac-37402588-20180922@quickscores.com
DTSTAMP:20260420T084500Z
DTSTART;TZID=America/New_York:20180922
SUMMARY:Anna Maria vs. Albertus Magnus
DESCRIPTION:2018 Women's Soccer Removing Mount Ida - Great Northeast Athletic Conference
LOCATION:Paxton MA
CATEGORIES:QuickScores, Soccer Game
TRANSP:OPAQUE
BEGIN:VALARM
TRIGGER:-PT2H
ACTION:DISPLAY
DESCRIPTION:Anna Maria vs. Albertus Magnus
END:VALARM
END:VEVENT
BEGIN:VEVENT
UID:gnac-37402617-20180926@quickscores.com
DTSTAMP:20260420T084500Z
DTSTART;TZID=America/New_York:20180926
SUMMARY:Simmons vs. Anna Maria
DESCRIPTION:2018 Women's Soccer Removing Mount Ida - Great Northeast Athletic Conference
LOCATION:Daly Field Brighton
CATEGORIES:QuickScores, Soccer Game
TRANSP:OPAQUE
BEGIN:VALARM
TRIGGER:-PT2H
ACTION:DISPLAY
DESCRIPTION:Simmons vs. Anna Maria
END:VALARM
END:VEVENT
BEGIN:VEVENT
UID:gnac-37402625-20180929@quickscores.com
DTSTAMP:20260420T084500Z
DTSTART;TZID=America/New_York:20180929
SUMMARY:Saint Joseph's ME vs. Anna Maria
DESCRIPTION:2018 Women's Soccer Removing Mount Ida - Great Northeast Athletic Conference
LOCATION:Standish ME
CATEGORIES:QuickScores, Soccer Game
TRANSP:OPAQUE
BEGIN:VALARM
TRIGGER:-PT2H
ACTION:DISPLAY
DESCRIPTION:Saint Joseph's ME vs. Anna Maria
END:VALARM
END:VEVENT
BEGIN:VEVENT
UID:gnac-37402627-20181003@quickscores.com
DTSTAMP:20260420T084500Z
DTSTART;TZID=America/New_York:20181003
SUMMARY:Anna Maria vs. Rivier
DESCRIPTION:2018 Women's Soccer Removing Mount Ida - Great Northeast Athletic Conference
LOCATION:Paxton MA
CATEGORIES:QuickScores, Soccer Game
TRANSP:OPAQUE
BEGIN:VALARM
TRIGGER:-PT2H
ACTION:DISPLAY
DESCRIPTION:Anna Maria vs. Rivier
END:VALARM
END:VEVENT
BEGIN:VEVENT
UID:gnac-37402650-20181006@quickscores.com
DTSTAMP:20260420T084500Z
DTSTART;TZID=America/New_York:20181006
SUMMARY:Anna Maria vs. Regis
DESCRIPTION:2018 Women's Soccer Removing Mount Ida - Great Northeast Athletic Conference
LOCATION:Paxton MA
CATEGORIES:QuickScores, Soccer Game
TRANSP:OPAQUE
BEGIN:VALARM
TRIGGER:-PT2H
ACTION:DISPLAY
DESCRIPTION:Anna Maria vs. Regis
END:VALARM
END:VEVENT
BEGIN:VEVENT
UID:gnac-37402618-20181010@quickscores.com
DTSTAMP:20260420T084500Z
DTSTART;TZID=America/New_York:20181010
SUMMARY:Anna Maria vs. Saint Joseph CT
DESCRIPTION:2018 Women's Soccer Removing Mount Ida - Great Northeast Athletic Conference
LOCATION:Paxton MA
CATEGORIES:QuickScores, Soccer Game
TRANSP:OPAQUE
BEGIN:VALARM
TRIGGER:-PT2H
ACTION:DISPLAY
DESCRIPTION:Anna Maria vs. Saint Joseph CT
END:VALARM
END:VEVENT
BEGIN:VEVENT
UID:gnac-37402587-20181013@quickscores.com
DTSTAMP:20260420T084500Z
DTSTART;TZID=America/New_York:20181013
SUMMARY:Emmanuel vs. Anna Maria
DESCRIPTION:2018 Women's Soccer Removing Mount Ida - Great Northeast Athletic Conference
LOCATION:Roberto Clemente Field
CATEGORIES:QuickScores, Soccer Game
TRANSP:OPAQUE
BEGIN:VALARM
TRIGGER:-PT2H
ACTION:DISPLAY
DESCRIPTION:Emmanuel vs. Anna Maria
END:VALARM
END:VEVENT
BEGIN:VEVENT
UID:gnac-37402645-20181020@quickscores.com
DTSTAMP:20260420T084500Z
DTSTART;TZID=America/New_York:20181020
SUMMARY:Colby Sawyer vs. Anna Maria
DESCRIPTION:4/10/18 The home/away for this game was reversed after the departure of Mount Ida to provide a competitive equity. WIith this change all GNAC WS teams will play 6 home and 6 away conference games in 2018 --- 2018 Women's Soccer Removing Mount Ida - Great Northeast Athletic Conference
LOCATION:New London NH
CATEGORIES:QuickScores, Soccer Game
TRANSP:OPAQUE
BEGIN:VALARM
TRIGGER:-PT2H
ACTION:DISPLAY
DESCRIPTION:Colby Sawyer vs. Anna Maria
END:VALARM
END:VEVENT
END:VCALENDAR
