BEGIN:VCALENDAR
VERSION:2.0
PRODID:-//QuickScores.com//BQ Dynamic iCal Creator//EN
METHOD:PUBLISH
X-WR-CALNAME:Albertus Magnus - 2018 Women&#039;s Soccer Removing Mount Ida - Fall 2018
X-WR-CALDESC:QuickScores game calendar
X-PUBLISHED-TTL:PT24H
REFRESH-INTERVAL;VALUE=DURATION:PT24H
CALSCALE:GREGORIAN
BEGIN:VTIMEZONE
TZID:America/New_York
X-LIC-LOCATION:America/New_York
BEGIN:DAYLIGHT
TZNAME:EDT
TZOFFSETFROM:-0500
TZOFFSETTO:-0400
DTSTART:19700308T020000
RRULE:FREQ=YEARLY;BYMONTH=3;BYDAY=2SU
END:DAYLIGHT
BEGIN:STANDARD
TZNAME:EST
TZOFFSETFROM:-0400
TZOFFSETTO:-0500
DTSTART:19701101T020000
RRULE:FREQ=YEARLY;BYMONTH=11;BYDAY=1SU
END:STANDARD
END:VTIMEZONE
BEGIN:VEVENT
UID:gnac-37402634-20180908@quickscores.com
DTSTAMP:20260422T143200Z
DTSTART;TZID=America/New_York:20180908
SUMMARY:Albertus Magnus vs. Norwich
DESCRIPTION:2018 Women's Soccer Removing Mount Ida - Great Northeast Athletic Conference
LOCATION:New Haven, CT
CATEGORIES:QuickScores, Soccer Game
TRANSP:OPAQUE
BEGIN:VALARM
TRIGGER:-PT2H
ACTION:DISPLAY
DESCRIPTION:Albertus Magnus vs. Norwich
END:VALARM
END:VEVENT
BEGIN:VEVENT
UID:gnac-37402599-20180912@quickscores.com
DTSTAMP:20260422T143200Z
DTSTART;TZID=America/New_York:20180912
SUMMARY:Johnson & Wales vs. Albertus Magnus
DESCRIPTION:2018 Women's Soccer Removing Mount Ida - Great Northeast Athletic Conference
LOCATION:Scotts Miracle Gro Athletic Complex
CATEGORIES:QuickScores, Soccer Game
TRANSP:OPAQUE
BEGIN:VALARM
TRIGGER:-PT2H
ACTION:DISPLAY
DESCRIPTION:Johnson & Wales vs. Albertus Magnus
END:VALARM
END:VEVENT
BEGIN:VEVENT
UID:gnac-37402575-20180915@quickscores.com
DTSTAMP:20260422T143200Z
DTSTART;TZID=America/New_York:20180915
SUMMARY:Albertus Magnus vs. Emmanuel
DESCRIPTION:2018 Women's Soccer Removing Mount Ida - Great Northeast Athletic Conference
LOCATION:New Haven, CT
CATEGORIES:QuickScores, Soccer Game
TRANSP:OPAQUE
BEGIN:VALARM
TRIGGER:-PT2H
ACTION:DISPLAY
DESCRIPTION:Albertus Magnus vs. Emmanuel
END:VALARM
END:VEVENT
BEGIN:VEVENT
UID:gnac-37402600-20180919@quickscores.com
DTSTAMP:20260422T143200Z
DTSTART;TZID=America/New_York:20180919
SUMMARY:Albertus Magnus vs. Suffolk
DESCRIPTION:2018 Women's Soccer Removing Mount Ida - Great Northeast Athletic Conference
LOCATION:New Haven, CT
CATEGORIES:QuickScores, Soccer Game
TRANSP:OPAQUE
BEGIN:VALARM
TRIGGER:-PT2H
ACTION:DISPLAY
DESCRIPTION:Albertus Magnus vs. Suffolk
END:VALARM
END:VEVENT
BEGIN:VEVENT
UID:gnac-37402588-20180922@quickscores.com
DTSTAMP:20260422T143200Z
DTSTART;TZID=America/New_York:20180922
SUMMARY:Anna Maria vs. Albertus Magnus
DESCRIPTION:2018 Women's Soccer Removing Mount Ida - Great Northeast Athletic Conference
LOCATION:Paxton MA
CATEGORIES:QuickScores, Soccer Game
TRANSP:OPAQUE
BEGIN:VALARM
TRIGGER:-PT2H
ACTION:DISPLAY
DESCRIPTION:Anna Maria vs. Albertus Magnus
END:VALARM
END:VEVENT
BEGIN:VEVENT
UID:gnac-37402571-20180926@quickscores.com
DTSTAMP:20260422T143200Z
DTSTART;TZID=America/New_York:20180926
SUMMARY:Lasell vs. Albertus Magnus
DESCRIPTION:2018 Women's Soccer Removing Mount Ida - Great Northeast Athletic Conference
LOCATION:Taylor Field at Lasell College
CATEGORIES:QuickScores, Soccer Game
TRANSP:OPAQUE
BEGIN:VALARM
TRIGGER:-PT2H
ACTION:DISPLAY
DESCRIPTION:Lasell vs. Albertus Magnus
END:VALARM
END:VEVENT
BEGIN:VEVENT
UID:gnac-37402661-20180929@quickscores.com
DTSTAMP:20260422T143200Z
DTSTART;TZID=America/New_York:20180929
SUMMARY:Albertus Magnus vs. Colby Sawyer
DESCRIPTION:2018 Women's Soccer Removing Mount Ida - Great Northeast Athletic Conference
LOCATION:New Haven, CT
CATEGORIES:QuickScores, Soccer Game
TRANSP:OPAQUE
BEGIN:VALARM
TRIGGER:-PT2H
ACTION:DISPLAY
DESCRIPTION:Albertus Magnus vs. Colby Sawyer
END:VALARM
END:VEVENT
BEGIN:VEVENT
UID:gnac-37402643-20181003@quickscores.com
DTSTAMP:20260422T143200Z
DTSTART;TZID=America/New_York:20181003
SUMMARY:Regis vs. Albertus Magnus
DESCRIPTION:4/10/18 The home/away for this game was reversed after the departure of Mount Ida to provide a competitive equity. WIith this change all GNAC WS teams will play 6 home and 6 away conference games in 2018 --- 2018 Women's Soccer Removing Mount Ida - Great Northeast Athletic Conference
LOCATION:Regis Weston MA
CATEGORIES:QuickScores, Soccer Game
TRANSP:OPAQUE
BEGIN:VALARM
TRIGGER:-PT2H
ACTION:DISPLAY
DESCRIPTION:Regis vs. Albertus Magnus
END:VALARM
END:VEVENT
BEGIN:VEVENT
UID:gnac-37402612-20181010@quickscores.com
DTSTAMP:20260422T143200Z
DTSTART;TZID=America/New_York:20181010
SUMMARY:Albertus Magnus vs. Simmons
DESCRIPTION:2018 Women's Soccer Removing Mount Ida - Great Northeast Athletic Conference
LOCATION:New Haven, CT
CATEGORIES:QuickScores, Soccer Game
TRANSP:OPAQUE
BEGIN:VALARM
TRIGGER:-PT2H
ACTION:DISPLAY
DESCRIPTION:Albertus Magnus vs. Simmons
END:VALARM
END:VEVENT
BEGIN:VEVENT
UID:gnac-37402630-20181013@quickscores.com
DTSTAMP:20260422T143200Z
DTSTART;TZID=America/New_York:20181013
SUMMARY:Albertus Magnus vs. Rivier
DESCRIPTION:2018 Women's Soccer Removing Mount Ida - Great Northeast Athletic Conference
LOCATION:New Haven, CT
CATEGORIES:QuickScores, Soccer Game
TRANSP:OPAQUE
BEGIN:VALARM
TRIGGER:-PT2H
ACTION:DISPLAY
DESCRIPTION:Albertus Magnus vs. Rivier
END:VALARM
END:VEVENT
BEGIN:VEVENT
UID:gnac-37402622-20181017@quickscores.com
DTSTAMP:20260422T143200Z
DTSTART;TZID=America/New_York:20181017
SUMMARY:Saint Joseph CT vs. Albertus Magnus
DESCRIPTION:2018 Women's Soccer Removing Mount Ida - Great Northeast Athletic Conference
LOCATION:W. Hartford, CT
CATEGORIES:QuickScores, Soccer Game
TRANSP:OPAQUE
BEGIN:VALARM
TRIGGER:-PT2H
ACTION:DISPLAY
DESCRIPTION:Saint Joseph CT vs. Albertus Magnus
END:VALARM
END:VEVENT
BEGIN:VEVENT
UID:gnac-37402595-20181020@quickscores.com
DTSTAMP:20260422T143200Z
DTSTART;TZID=America/New_York:20181020
SUMMARY:Saint Joseph's ME vs. Albertus Magnus
DESCRIPTION:2018 Women's Soccer Removing Mount Ida - Great Northeast Athletic Conference
LOCATION:Standish ME
CATEGORIES:QuickScores, Soccer Game
TRANSP:OPAQUE
BEGIN:VALARM
TRIGGER:-PT2H
ACTION:DISPLAY
DESCRIPTION:Saint Joseph's ME vs. Albertus Magnus
END:VALARM
END:VEVENT
END:VCALENDAR
