BEGIN:VCALENDAR
VERSION:2.0
PRODID:-//QuickScores.com//BQ Dynamic iCal Creator//EN
METHOD:PUBLISH
X-WR-CALNAME:Saint Joseph&#039;s ME - 2019 Men&#039;s Lacrosse Removing Mount Ida May 2018 - Spring 2019
X-WR-CALDESC:QuickScores game calendar
X-PUBLISHED-TTL:PT24H
REFRESH-INTERVAL;VALUE=DURATION:PT24H
CALSCALE:GREGORIAN
BEGIN:VTIMEZONE
TZID:America/New_York
X-LIC-LOCATION:America/New_York
BEGIN:DAYLIGHT
TZNAME:EDT
TZOFFSETFROM:-0500
TZOFFSETTO:-0400
DTSTART:19700308T020000
RRULE:FREQ=YEARLY;BYMONTH=3;BYDAY=2SU
END:DAYLIGHT
BEGIN:STANDARD
TZNAME:EST
TZOFFSETFROM:-0400
TZOFFSETTO:-0500
DTSTART:19701101T020000
RRULE:FREQ=YEARLY;BYMONTH=11;BYDAY=1SU
END:STANDARD
END:VTIMEZONE
BEGIN:VEVENT
UID:gnac-36316057-20190323@quickscores.com
DTSTAMP:20260424T090700Z
DTSTART;TZID=America/New_York:20190323
SUMMARY:Saint Joseph's ME vs. Johnson & Wales
DESCRIPTION:2019 Men's Lacrosse Removing Mount Ida May 2018 - Great Northeast Athletic Conference
LOCATION:Standish ME
CATEGORIES:QuickScores, Lacrosse Game
TRANSP:OPAQUE
BEGIN:VALARM
TRIGGER:-PT2H
ACTION:DISPLAY
DESCRIPTION:Saint Joseph's ME vs. Johnson & Wales
END:VALARM
END:VEVENT
BEGIN:VEVENT
UID:gnac-36316056-20190326@quickscores.com
DTSTAMP:20260424T090700Z
DTSTART;TZID=America/New_York:20190326
SUMMARY:Rivier vs. Saint Joseph's ME
DESCRIPTION:2019 Men's Lacrosse Removing Mount Ida May 2018 - Great Northeast Athletic Conference
LOCATION:Nashua, NH
CATEGORIES:QuickScores, Lacrosse Game
TRANSP:OPAQUE
BEGIN:VALARM
TRIGGER:-PT2H
ACTION:DISPLAY
DESCRIPTION:Rivier vs. Saint Joseph's ME
END:VALARM
END:VEVENT
BEGIN:VEVENT
UID:gnac-36316047-20190330@quickscores.com
DTSTAMP:20260424T090700Z
DTSTART;TZID=America/New_York:20190330
SUMMARY:Regis vs. Saint Joseph's ME
DESCRIPTION:2019 Men's Lacrosse Removing Mount Ida May 2018 - Great Northeast Athletic Conference
LOCATION:Regis Weston MA
CATEGORIES:QuickScores, Lacrosse Game
TRANSP:OPAQUE
BEGIN:VALARM
TRIGGER:-PT2H
ACTION:DISPLAY
DESCRIPTION:Regis vs. Saint Joseph's ME
END:VALARM
END:VEVENT
BEGIN:VEVENT
UID:gnac-36316017-20190406@quickscores.com
DTSTAMP:20260424T090700Z
DTSTART;TZID=America/New_York:20190406
SUMMARY:Saint Joseph's ME vs. Anna Maria
DESCRIPTION:2019 Anna Maria can share a bus with Softball --- 2019 Men's Lacrosse Removing Mount Ida May 2018 - Great Northeast Athletic Conference
LOCATION:Standish ME
CATEGORIES:QuickScores, Lacrosse Game
TRANSP:OPAQUE
BEGIN:VALARM
TRIGGER:-PT2H
ACTION:DISPLAY
DESCRIPTION:Saint Joseph's ME vs. Anna Maria
END:VALARM
END:VEVENT
BEGIN:VEVENT
UID:gnac-36316022-20190413@quickscores.com
DTSTAMP:20260424T090700Z
DTSTART;TZID=America/New_York:20190413
SUMMARY:Emmanuel vs. Saint Joseph's ME
DESCRIPTION:2019 Men's Lacrosse Removing Mount Ida May 2018 - Great Northeast Athletic Conference
LOCATION:Roberto Clemente Field
CATEGORIES:QuickScores, Lacrosse Game
TRANSP:OPAQUE
BEGIN:VALARM
TRIGGER:-PT2H
ACTION:DISPLAY
DESCRIPTION:Emmanuel vs. Saint Joseph's ME
END:VALARM
END:VEVENT
BEGIN:VEVENT
UID:gnac-36316051-20190416@quickscores.com
DTSTAMP:20260424T090700Z
DTSTART;TZID=America/New_York:20190416
SUMMARY:Saint Joseph's ME vs. Lasell
DESCRIPTION:2019 Men's Lacrosse Removing Mount Ida May 2018 - Great Northeast Athletic Conference
LOCATION:Standish ME
CATEGORIES:QuickScores, Lacrosse Game
TRANSP:OPAQUE
BEGIN:VALARM
TRIGGER:-PT2H
ACTION:DISPLAY
DESCRIPTION:Saint Joseph's ME vs. Lasell
END:VALARM
END:VEVENT
BEGIN:VEVENT
UID:gnac-36316052-20190420@quickscores.com
DTSTAMP:20260424T090700Z
DTSTART;TZID=America/New_York:20190420
SUMMARY:Albertus Magnus vs. Saint Joseph's ME
DESCRIPTION:2019 Men's Lacrosse Removing Mount Ida May 2018 - Great Northeast Athletic Conference
LOCATION:New Haven, CT
CATEGORIES:QuickScores, Lacrosse Game
TRANSP:OPAQUE
BEGIN:VALARM
TRIGGER:-PT2H
ACTION:DISPLAY
DESCRIPTION:Albertus Magnus vs. Saint Joseph's ME
END:VALARM
END:VEVENT
BEGIN:VEVENT
UID:gnac-36316055-20190423@quickscores.com
DTSTAMP:20260424T090700Z
DTSTART;TZID=America/New_York:20190423
SUMMARY:Saint Joseph's ME vs. Norwich
DESCRIPTION:2019 Men's Lacrosse Removing Mount Ida May 2018 - Great Northeast Athletic Conference
LOCATION:Standish ME
CATEGORIES:QuickScores, Lacrosse Game
TRANSP:OPAQUE
BEGIN:VALARM
TRIGGER:-PT2H
ACTION:DISPLAY
DESCRIPTION:Saint Joseph's ME vs. Norwich
END:VALARM
END:VEVENT
END:VCALENDAR
