BEGIN:VCALENDAR
VERSION:2.0
PRODID:-//QuickScores.com//BQ Dynamic iCal Creator//EN
METHOD:PUBLISH
X-WR-CALNAME:Regis - 2019 Men&#039;s Lacrosse Removing Mount Ida May 2018 - Spring 2019
X-WR-CALDESC:QuickScores game calendar
X-PUBLISHED-TTL:PT24H
REFRESH-INTERVAL;VALUE=DURATION:PT24H
CALSCALE:GREGORIAN
BEGIN:VTIMEZONE
TZID:America/New_York
X-LIC-LOCATION:America/New_York
BEGIN:DAYLIGHT
TZNAME:EDT
TZOFFSETFROM:-0500
TZOFFSETTO:-0400
DTSTART:19700308T020000
RRULE:FREQ=YEARLY;BYMONTH=3;BYDAY=2SU
END:DAYLIGHT
BEGIN:STANDARD
TZNAME:EST
TZOFFSETFROM:-0400
TZOFFSETTO:-0500
DTSTART:19701101T020000
RRULE:FREQ=YEARLY;BYMONTH=11;BYDAY=1SU
END:STANDARD
END:VTIMEZONE
BEGIN:VEVENT
UID:gnac-36316044-20190316@quickscores.com
DTSTAMP:20260424T165900Z
DTSTART;TZID=America/New_York:20190316
SUMMARY:Regis vs. Lasell
DESCRIPTION:2019 Men's Lacrosse Removing Mount Ida May 2018 - Great Northeast Athletic Conference
LOCATION:Regis Weston MA
CATEGORIES:QuickScores, Lacrosse Game
TRANSP:OPAQUE
BEGIN:VALARM
TRIGGER:-PT2H
ACTION:DISPLAY
DESCRIPTION:Regis vs. Lasell
END:VALARM
END:VEVENT
BEGIN:VEVENT
UID:gnac-36316063-20190319@quickscores.com
DTSTAMP:20260424T165900Z
DTSTART;TZID=America/New_York:20190319
SUMMARY:Albertus Magnus vs. Regis
DESCRIPTION:2019 Men's Lacrosse Removing Mount Ida May 2018 - Great Northeast Athletic Conference
LOCATION:New Haven, CT
CATEGORIES:QuickScores, Lacrosse Game
TRANSP:OPAQUE
BEGIN:VALARM
TRIGGER:-PT2H
ACTION:DISPLAY
DESCRIPTION:Albertus Magnus vs. Regis
END:VALARM
END:VEVENT
BEGIN:VEVENT
UID:gnac-36316050-20190326@quickscores.com
DTSTAMP:20260424T165900Z
DTSTART;TZID=America/New_York:20190326
SUMMARY:Emmanuel vs. Regis
DESCRIPTION:2019 Men's Lacrosse Removing Mount Ida May 2018 - Great Northeast Athletic Conference
LOCATION:Roberto Clemente Field
CATEGORIES:QuickScores, Lacrosse Game
TRANSP:OPAQUE
BEGIN:VALARM
TRIGGER:-PT2H
ACTION:DISPLAY
DESCRIPTION:Emmanuel vs. Regis
END:VALARM
END:VEVENT
BEGIN:VEVENT
UID:gnac-36316047-20190330@quickscores.com
DTSTAMP:20260424T165900Z
DTSTART;TZID=America/New_York:20190330
SUMMARY:Regis vs. Saint Joseph's ME
DESCRIPTION:2019 Men's Lacrosse Removing Mount Ida May 2018 - Great Northeast Athletic Conference
LOCATION:Regis Weston MA
CATEGORIES:QuickScores, Lacrosse Game
TRANSP:OPAQUE
BEGIN:VALARM
TRIGGER:-PT2H
ACTION:DISPLAY
DESCRIPTION:Regis vs. Saint Joseph's ME
END:VALARM
END:VEVENT
BEGIN:VEVENT
UID:gnac-36316062-20190409@quickscores.com
DTSTAMP:20260424T165900Z
DTSTART;TZID=America/New_York:20190409
SUMMARY:Anna Maria vs. Regis
DESCRIPTION:2019 Men's Lacrosse Removing Mount Ida May 2018 - Great Northeast Athletic Conference
LOCATION:Paxton MA
CATEGORIES:QuickScores, Lacrosse Game
TRANSP:OPAQUE
BEGIN:VALARM
TRIGGER:-PT2H
ACTION:DISPLAY
DESCRIPTION:Anna Maria vs. Regis
END:VALARM
END:VEVENT
BEGIN:VEVENT
UID:gnac-36316046-20190413@quickscores.com
DTSTAMP:20260424T165900Z
DTSTART;TZID=America/New_York:20190413
SUMMARY:Regis vs. Norwich
DESCRIPTION:2019 NOR can share a bus with Men's Tennis --- 2019 Men's Lacrosse Removing Mount Ida May 2018 - Great Northeast Athletic Conference
LOCATION:Regis Weston MA
CATEGORIES:QuickScores, Lacrosse Game
TRANSP:OPAQUE
BEGIN:VALARM
TRIGGER:-PT2H
ACTION:DISPLAY
DESCRIPTION:Regis vs. Norwich
END:VALARM
END:VEVENT
BEGIN:VEVENT
UID:gnac-36316061-20190416@quickscores.com
DTSTAMP:20260424T165900Z
DTSTART;TZID=America/New_York:20190416
SUMMARY:Johnson & Wales vs. Regis
DESCRIPTION:2019 Men's Lacrosse Removing Mount Ida May 2018 - Great Northeast Athletic Conference
LOCATION:Scotts Miracle Gro Athletic Complex
CATEGORIES:QuickScores, Lacrosse Game
TRANSP:OPAQUE
BEGIN:VALARM
TRIGGER:-PT2H
ACTION:DISPLAY
DESCRIPTION:Johnson & Wales vs. Regis
END:VALARM
END:VEVENT
BEGIN:VEVENT
UID:gnac-36316039-20190423@quickscores.com
DTSTAMP:20260424T165900Z
DTSTART;TZID=America/New_York:20190423
SUMMARY:Regis vs. Rivier
DESCRIPTION:2019 Men's Lacrosse Removing Mount Ida May 2018 - Great Northeast Athletic Conference
LOCATION:Regis Weston MA
CATEGORIES:QuickScores, Lacrosse Game
TRANSP:OPAQUE
BEGIN:VALARM
TRIGGER:-PT2H
ACTION:DISPLAY
DESCRIPTION:Regis vs. Rivier
END:VALARM
END:VEVENT
END:VCALENDAR
