BEGIN:VCALENDAR
VERSION:2.0
PRODID:-//QuickScores.com//BQ Dynamic iCal Creator//EN
METHOD:PUBLISH
X-WR-CALNAME:Lasell - 2019 Men&#039;s Lacrosse Removing Mount Ida May 2018 - Spring 2019
X-WR-CALDESC:QuickScores game calendar
X-PUBLISHED-TTL:PT24H
REFRESH-INTERVAL;VALUE=DURATION:PT24H
CALSCALE:GREGORIAN
BEGIN:VTIMEZONE
TZID:America/New_York
X-LIC-LOCATION:America/New_York
BEGIN:DAYLIGHT
TZNAME:EDT
TZOFFSETFROM:-0500
TZOFFSETTO:-0400
DTSTART:19700308T020000
RRULE:FREQ=YEARLY;BYMONTH=3;BYDAY=2SU
END:DAYLIGHT
BEGIN:STANDARD
TZNAME:EST
TZOFFSETFROM:-0400
TZOFFSETTO:-0500
DTSTART:19701101T020000
RRULE:FREQ=YEARLY;BYMONTH=11;BYDAY=1SU
END:STANDARD
END:VTIMEZONE
BEGIN:VEVENT
UID:gnac-36316044-20190316@quickscores.com
DTSTAMP:20260425T103900Z
DTSTART;TZID=America/New_York:20190316
SUMMARY:Regis vs. Lasell
DESCRIPTION:2019 Men's Lacrosse Removing Mount Ida May 2018 - Great Northeast Athletic Conference
LOCATION:Regis Weston MA
CATEGORIES:QuickScores, Lacrosse Game
TRANSP:OPAQUE
BEGIN:VALARM
TRIGGER:-PT2H
ACTION:DISPLAY
DESCRIPTION:Regis vs. Lasell
END:VALARM
END:VEVENT
BEGIN:VEVENT
UID:gnac-36316013-20190323@quickscores.com
DTSTAMP:20260425T103900Z
DTSTART;TZID=America/New_York:20190323
SUMMARY:Lasell vs. Albertus Magnus
DESCRIPTION:2019 Men's Lacrosse Removing Mount Ida May 2018 - Great Northeast Athletic Conference
LOCATION:Lasell Newton
CATEGORIES:QuickScores, Lacrosse Game
TRANSP:OPAQUE
BEGIN:VALARM
TRIGGER:-PT2H
ACTION:DISPLAY
DESCRIPTION:Lasell vs. Albertus Magnus
END:VALARM
END:VEVENT
BEGIN:VEVENT
UID:gnac-36316024-20190330@quickscores.com
DTSTAMP:20260425T103900Z
DTSTART;TZID=America/New_York:20190330
SUMMARY:Lasell vs. Rivier
DESCRIPTION:2019 Men's Lacrosse Removing Mount Ida May 2018 - Great Northeast Athletic Conference
LOCATION:Lasell Newton
CATEGORIES:QuickScores, Lacrosse Game
TRANSP:OPAQUE
BEGIN:VALARM
TRIGGER:-PT2H
ACTION:DISPLAY
DESCRIPTION:Lasell vs. Rivier
END:VALARM
END:VEVENT
BEGIN:VEVENT
UID:gnac-36316041-20190406@quickscores.com
DTSTAMP:20260425T103900Z
DTSTART;TZID=America/New_York:20190406
SUMMARY:Norwich vs. Lasell
DESCRIPTION:2019 LAS can share a bus with Baseball --- 2019 Men's Lacrosse Removing Mount Ida May 2018 - Great Northeast Athletic Conference
LOCATION:Northfield, VT
CATEGORIES:QuickScores, Lacrosse Game
TRANSP:OPAQUE
BEGIN:VALARM
TRIGGER:-PT2H
ACTION:DISPLAY
DESCRIPTION:Norwich vs. Lasell
END:VALARM
END:VEVENT
BEGIN:VEVENT
UID:gnac-36316801-20190409@quickscores.com
DTSTAMP:20260425T103900Z
DTSTART;TZID=America/New_York:20190409
SUMMARY:Emmanuel vs. Lasell
DESCRIPTION:2019 Men's Lacrosse Removing Mount Ida May 2018 - Great Northeast Athletic Conference
LOCATION:Roberto Clemente Field
CATEGORIES:QuickScores, Lacrosse Game
TRANSP:OPAQUE
BEGIN:VALARM
TRIGGER:-PT2H
ACTION:DISPLAY
DESCRIPTION:Emmanuel vs. Lasell
END:VALARM
END:VEVENT
BEGIN:VEVENT
UID:gnac-36316051-20190416@quickscores.com
DTSTAMP:20260425T103900Z
DTSTART;TZID=America/New_York:20190416
SUMMARY:Saint Joseph's ME vs. Lasell
DESCRIPTION:2019 Men's Lacrosse Removing Mount Ida May 2018 - Great Northeast Athletic Conference
LOCATION:Standish ME
CATEGORIES:QuickScores, Lacrosse Game
TRANSP:OPAQUE
BEGIN:VALARM
TRIGGER:-PT2H
ACTION:DISPLAY
DESCRIPTION:Saint Joseph's ME vs. Lasell
END:VALARM
END:VEVENT
BEGIN:VEVENT
UID:gnac-36316037-20190420@quickscores.com
DTSTAMP:20260425T103900Z
DTSTART;TZID=America/New_York:20190420
SUMMARY:Lasell vs. Anna Maria
DESCRIPTION:2019 Men's Lacrosse Removing Mount Ida May 2018 - Great Northeast Athletic Conference
LOCATION:Lasell Newton
CATEGORIES:QuickScores, Lacrosse Game
TRANSP:OPAQUE
BEGIN:VALARM
TRIGGER:-PT2H
ACTION:DISPLAY
DESCRIPTION:Lasell vs. Anna Maria
END:VALARM
END:VEVENT
BEGIN:VEVENT
UID:gnac-36316060-20190423@quickscores.com
DTSTAMP:20260425T103900Z
DTSTART;TZID=America/New_York:20190423
SUMMARY:Lasell vs. Johnson & Wales
DESCRIPTION:2019 Men's Lacrosse Removing Mount Ida May 2018 - Great Northeast Athletic Conference
LOCATION:Lasell Newton
CATEGORIES:QuickScores, Lacrosse Game
TRANSP:OPAQUE
BEGIN:VALARM
TRIGGER:-PT2H
ACTION:DISPLAY
DESCRIPTION:Lasell vs. Johnson & Wales
END:VALARM
END:VEVENT
END:VCALENDAR
