BEGIN:VCALENDAR
VERSION:2.0
PRODID:-//QuickScores.com//BQ Dynamic iCal Creator//EN
METHOD:PUBLISH
X-WR-CALNAME:Johnson &amp; Wales - 2019 Men&#039;s Lacrosse Removing Mount Ida May 2018 - Spring 2019
X-WR-CALDESC:QuickScores game calendar
X-PUBLISHED-TTL:PT24H
REFRESH-INTERVAL;VALUE=DURATION:PT24H
CALSCALE:GREGORIAN
BEGIN:VTIMEZONE
TZID:America/New_York
X-LIC-LOCATION:America/New_York
BEGIN:DAYLIGHT
TZNAME:EDT
TZOFFSETFROM:-0500
TZOFFSETTO:-0400
DTSTART:19700308T020000
RRULE:FREQ=YEARLY;BYMONTH=3;BYDAY=2SU
END:DAYLIGHT
BEGIN:STANDARD
TZNAME:EST
TZOFFSETFROM:-0400
TZOFFSETTO:-0500
DTSTART:19701101T020000
RRULE:FREQ=YEARLY;BYMONTH=11;BYDAY=1SU
END:STANDARD
END:VTIMEZONE
BEGIN:VEVENT
UID:gnac-36316057-20190323@quickscores.com
DTSTAMP:20260424T165700Z
DTSTART;TZID=America/New_York:20190323
SUMMARY:Saint Joseph's ME vs. Johnson & Wales
DESCRIPTION:2019 Men's Lacrosse Removing Mount Ida May 2018 - Great Northeast Athletic Conference
LOCATION:Standish ME
CATEGORIES:QuickScores, Lacrosse Game
TRANSP:OPAQUE
BEGIN:VALARM
TRIGGER:-PT2H
ACTION:DISPLAY
DESCRIPTION:Saint Joseph's ME vs. Johnson & Wales
END:VALARM
END:VEVENT
BEGIN:VEVENT
UID:gnac-36316025-20190326@quickscores.com
DTSTAMP:20260424T165700Z
DTSTART;TZID=America/New_York:20190326
SUMMARY:Johnson & Wales vs. Anna Maria
DESCRIPTION:2019 Men's Lacrosse Removing Mount Ida May 2018 - Great Northeast Athletic Conference
LOCATION:Scotts Miracle Gro Athletic Complex
CATEGORIES:QuickScores, Lacrosse Game
TRANSP:OPAQUE
BEGIN:VALARM
TRIGGER:-PT2H
ACTION:DISPLAY
DESCRIPTION:Johnson & Wales vs. Anna Maria
END:VALARM
END:VEVENT
BEGIN:VEVENT
UID:gnac-36316023-20190330@quickscores.com
DTSTAMP:20260424T165700Z
DTSTART;TZID=America/New_York:20190330
SUMMARY:Emmanuel vs. Johnson & Wales
DESCRIPTION:2019 Men's Lacrosse Removing Mount Ida May 2018 - Great Northeast Athletic Conference
LOCATION:Roberto Clemente Field
CATEGORIES:QuickScores, Lacrosse Game
TRANSP:OPAQUE
BEGIN:VALARM
TRIGGER:-PT2H
ACTION:DISPLAY
DESCRIPTION:Emmanuel vs. Johnson & Wales
END:VALARM
END:VEVENT
BEGIN:VEVENT
UID:gnac-36316054-20190403@quickscores.com
DTSTAMP:20260424T165700Z
DTSTART;TZID=America/New_York:20190403
SUMMARY:Johnson & Wales vs. Norwich
DESCRIPTION:2019 NOR can share a bus with Softball --- 2019 Men's Lacrosse Removing Mount Ida May 2018 - Great Northeast Athletic Conference
LOCATION:Scotts Miracle Gro Athletic Complex
CATEGORIES:QuickScores, Lacrosse Game
TRANSP:OPAQUE
BEGIN:VALARM
TRIGGER:-PT2H
ACTION:DISPLAY
DESCRIPTION:Johnson & Wales vs. Norwich
END:VALARM
END:VEVENT
BEGIN:VEVENT
UID:gnac-36316034-20190406@quickscores.com
DTSTAMP:20260424T165700Z
DTSTART;TZID=America/New_York:20190406
SUMMARY:Johnson & Wales vs. Rivier
DESCRIPTION:2019 Men's Lacrosse Removing Mount Ida May 2018 - Great Northeast Athletic Conference
LOCATION:Scotts Miracle Gro Athletic Complex
CATEGORIES:QuickScores, Lacrosse Game
TRANSP:OPAQUE
BEGIN:VALARM
TRIGGER:-PT2H
ACTION:DISPLAY
DESCRIPTION:Johnson & Wales vs. Rivier
END:VALARM
END:VEVENT
BEGIN:VEVENT
UID:gnac-36316012-20190409@quickscores.com
DTSTAMP:20260424T165700Z
DTSTART;TZID=America/New_York:20190409
SUMMARY:Albertus Magnus vs. Johnson & Wales
DESCRIPTION:2019 Men's Lacrosse Removing Mount Ida May 2018 - Great Northeast Athletic Conference
LOCATION:New Haven, CT
CATEGORIES:QuickScores, Lacrosse Game
TRANSP:OPAQUE
BEGIN:VALARM
TRIGGER:-PT2H
ACTION:DISPLAY
DESCRIPTION:Albertus Magnus vs. Johnson & Wales
END:VALARM
END:VEVENT
BEGIN:VEVENT
UID:gnac-36316061-20190416@quickscores.com
DTSTAMP:20260424T165700Z
DTSTART;TZID=America/New_York:20190416
SUMMARY:Johnson & Wales vs. Regis
DESCRIPTION:2019 Men's Lacrosse Removing Mount Ida May 2018 - Great Northeast Athletic Conference
LOCATION:Scotts Miracle Gro Athletic Complex
CATEGORIES:QuickScores, Lacrosse Game
TRANSP:OPAQUE
BEGIN:VALARM
TRIGGER:-PT2H
ACTION:DISPLAY
DESCRIPTION:Johnson & Wales vs. Regis
END:VALARM
END:VEVENT
BEGIN:VEVENT
UID:gnac-36316060-20190423@quickscores.com
DTSTAMP:20260424T165700Z
DTSTART;TZID=America/New_York:20190423
SUMMARY:Lasell vs. Johnson & Wales
DESCRIPTION:2019 Men's Lacrosse Removing Mount Ida May 2018 - Great Northeast Athletic Conference
LOCATION:Lasell Newton
CATEGORIES:QuickScores, Lacrosse Game
TRANSP:OPAQUE
BEGIN:VALARM
TRIGGER:-PT2H
ACTION:DISPLAY
DESCRIPTION:Lasell vs. Johnson & Wales
END:VALARM
END:VEVENT
END:VCALENDAR
