BEGIN:VCALENDAR
VERSION:2.0
PRODID:-//QuickScores.com//BQ Dynamic iCal Creator//EN
METHOD:PUBLISH
X-WR-CALNAME:Saint Joseph CT - 2019 Softball Updated To Divisional Play 5/23/18 - Spring 2019
X-WR-CALDESC:QuickScores game calendar
X-PUBLISHED-TTL:PT24H
REFRESH-INTERVAL;VALUE=DURATION:PT24H
CALSCALE:GREGORIAN
BEGIN:VTIMEZONE
TZID:America/New_York
X-LIC-LOCATION:America/New_York
BEGIN:DAYLIGHT
TZNAME:EDT
TZOFFSETFROM:-0500
TZOFFSETTO:-0400
DTSTART:19700308T020000
RRULE:FREQ=YEARLY;BYMONTH=3;BYDAY=2SU
END:DAYLIGHT
BEGIN:STANDARD
TZNAME:EST
TZOFFSETFROM:-0400
TZOFFSETTO:-0500
DTSTART:19701101T020000
RRULE:FREQ=YEARLY;BYMONTH=11;BYDAY=1SU
END:STANDARD
END:VTIMEZONE
BEGIN:VEVENT
UID:gnac-36306248-20190406@quickscores.com
DTSTAMP:20260422T071200Z
DTSTART;TZID=America/New_York:20190406
SUMMARY:Saint Joseph CT vs. Johnson & Wales
DESCRIPTION:2019 Softball Updated To Divisional Play 5/23/18 - Great Northeast Athletic Conference
LOCATION:W. Hartford, CT
CATEGORIES:QuickScores, Softball Game
TRANSP:OPAQUE
BEGIN:VALARM
TRIGGER:-PT2H
ACTION:DISPLAY
DESCRIPTION:Saint Joseph CT vs. Johnson & Wales
END:VALARM
END:VEVENT
BEGIN:VEVENT
UID:gnac-36306308-20190407@quickscores.com
DTSTAMP:20260422T071200Z
DTSTART;TZID=America/New_York:20190407
SUMMARY:Regis vs. Saint Joseph CT
DESCRIPTION:2019 Softball Updated To Divisional Play 5/23/18 - Great Northeast Athletic Conference
LOCATION:Regis Weston MA
CATEGORIES:QuickScores, Softball Game
TRANSP:OPAQUE
BEGIN:VALARM
TRIGGER:-PT2H
ACTION:DISPLAY
DESCRIPTION:Regis vs. Saint Joseph CT
END:VALARM
END:VEVENT
BEGIN:VEVENT
UID:gnac-36306245-20190413@quickscores.com
DTSTAMP:20260422T071200Z
DTSTART;TZID=America/New_York:20190413
SUMMARY:Lasell vs. Saint Joseph CT
DESCRIPTION:2019 Softball Updated To Divisional Play 5/23/18 - Great Northeast Athletic Conference
LOCATION:Taylor Field at Lasell College
CATEGORIES:QuickScores, Softball Game
TRANSP:OPAQUE
BEGIN:VALARM
TRIGGER:-PT2H
ACTION:DISPLAY
DESCRIPTION:Lasell vs. Saint Joseph CT
END:VALARM
END:VEVENT
BEGIN:VEVENT
UID:gnac-36306234-20190414@quickscores.com
DTSTAMP:20260422T071200Z
DTSTART;TZID=America/New_York:20190414
SUMMARY:Saint Joseph CT vs. Suffolk
DESCRIPTION:2019 Softball Updated To Divisional Play 5/23/18 - Great Northeast Athletic Conference
LOCATION:W. Hartford, CT
CATEGORIES:QuickScores, Softball Game
TRANSP:OPAQUE
BEGIN:VALARM
TRIGGER:-PT2H
ACTION:DISPLAY
DESCRIPTION:Saint Joseph CT vs. Suffolk
END:VALARM
END:VEVENT
BEGIN:VEVENT
UID:gnac-36306256-20190418@quickscores.com
DTSTAMP:20260422T071200Z
DTSTART;TZID=America/New_York:20190418
SUMMARY:Albertus Magnus vs. Saint Joseph CT
DESCRIPTION:2019 Softball Updated To Divisional Play 5/23/18 - Great Northeast Athletic Conference
LOCATION:New Haven, CT
CATEGORIES:QuickScores, Softball Game
TRANSP:OPAQUE
BEGIN:VALARM
TRIGGER:-PT2H
ACTION:DISPLAY
DESCRIPTION:Albertus Magnus vs. Saint Joseph CT
END:VALARM
END:VEVENT
BEGIN:VEVENT
UID:gnac-36306252-20190420@quickscores.com
DTSTAMP:20260422T071200Z
DTSTART;TZID=America/New_York:20190420
SUMMARY:Saint Joseph CT vs. Rivier
DESCRIPTION:2019 Softball Updated To Divisional Play 5/23/18 - Great Northeast Athletic Conference
LOCATION:W. Hartford, CT
CATEGORIES:QuickScores, Softball Game
TRANSP:OPAQUE
BEGIN:VALARM
TRIGGER:-PT2H
ACTION:DISPLAY
DESCRIPTION:Saint Joseph CT vs. Rivier
END:VALARM
END:VEVENT
BEGIN:VEVENT
UID:gnac-36306263-20190426@quickscores.com
DTSTAMP:20260422T071200Z
DTSTART;TZID=America/New_York:20190426
SUMMARY:Saint Joseph CT vs. Saint Joseph's ME
DESCRIPTION:2019 Softball Updated To Divisional Play 5/23/18 - Great Northeast Athletic Conference
LOCATION:W. Hartford, CT
CATEGORIES:QuickScores, Softball Game
TRANSP:OPAQUE
BEGIN:VALARM
TRIGGER:-PT2H
ACTION:DISPLAY
DESCRIPTION:Saint Joseph CT vs. Saint Joseph's ME
END:VALARM
END:VEVENT
BEGIN:VEVENT
UID:gnac-36306270-20190427@quickscores.com
DTSTAMP:20260422T071200Z
DTSTART;TZID=America/New_York:20190427
SUMMARY:Simmons vs. Saint Joseph CT
DESCRIPTION:2019 Softball Updated To Divisional Play 5/23/18 - Great Northeast Athletic Conference
LOCATION:Daly Field Brighton
CATEGORIES:QuickScores, Softball Game
TRANSP:OPAQUE
BEGIN:VALARM
TRIGGER:-PT2H
ACTION:DISPLAY
DESCRIPTION:Simmons vs. Saint Joseph CT
END:VALARM
END:VEVENT
END:VCALENDAR
