BEGIN:VCALENDAR
VERSION:2.0
PRODID:-//QuickScores.com//BQ Dynamic iCal Creator//EN
METHOD:PUBLISH
X-WR-CALNAME:Norwich - 2019 Softball Updated To Divisional Play 5/23/18 - Spring 2019
X-WR-CALDESC:QuickScores game calendar
X-PUBLISHED-TTL:PT24H
REFRESH-INTERVAL;VALUE=DURATION:PT24H
CALSCALE:GREGORIAN
BEGIN:VTIMEZONE
TZID:America/New_York
X-LIC-LOCATION:America/New_York
BEGIN:DAYLIGHT
TZNAME:EDT
TZOFFSETFROM:-0500
TZOFFSETTO:-0400
DTSTART:19700308T020000
RRULE:FREQ=YEARLY;BYMONTH=3;BYDAY=2SU
END:DAYLIGHT
BEGIN:STANDARD
TZNAME:EST
TZOFFSETFROM:-0400
TZOFFSETTO:-0500
DTSTART:19701101T020000
RRULE:FREQ=YEARLY;BYMONTH=11;BYDAY=1SU
END:STANDARD
END:VTIMEZONE
BEGIN:VEVENT
UID:gnac-36306236-20190406@quickscores.com
DTSTAMP:20260420T025700Z
DTSTART;TZID=America/New_York:20190406
SUMMARY:Anna Maria vs. Norwich
DESCRIPTION:2019 Softball Updated To Divisional Play 5/23/18 - Great Northeast Athletic Conference
LOCATION:Paxton MA
CATEGORIES:QuickScores, Softball Game
TRANSP:OPAQUE
BEGIN:VALARM
TRIGGER:-PT2H
ACTION:DISPLAY
DESCRIPTION:Anna Maria vs. Norwich
END:VALARM
END:VEVENT
BEGIN:VEVENT
UID:gnac-36306217-20190407@quickscores.com
DTSTAMP:20260420T025700Z
DTSTART;TZID=America/New_York:20190407
SUMMARY:Norwich vs. Saint Joseph's ME
DESCRIPTION:2019 Softball Updated To Divisional Play 5/23/18 - Great Northeast Athletic Conference
LOCATION:Northfield, VT
CATEGORIES:QuickScores, Softball Game
TRANSP:OPAQUE
BEGIN:VALARM
TRIGGER:-PT2H
ACTION:DISPLAY
DESCRIPTION:Norwich vs. Saint Joseph's ME
END:VALARM
END:VEVENT
BEGIN:VEVENT
UID:gnac-36306226-20190413@quickscores.com
DTSTAMP:20260420T025700Z
DTSTART;TZID=America/New_York:20190413
SUMMARY:Suffolk vs. Norwich
DESCRIPTION:2019 Softball Updated To Divisional Play 5/23/18 - Great Northeast Athletic Conference
LOCATION:East Boston Memorial Field
CATEGORIES:QuickScores, Softball Game
TRANSP:OPAQUE
BEGIN:VALARM
TRIGGER:-PT2H
ACTION:DISPLAY
DESCRIPTION:Suffolk vs. Norwich
END:VALARM
END:VEVENT
BEGIN:VEVENT
UID:gnac-36306222-20190414@quickscores.com
DTSTAMP:20260420T025700Z
DTSTART;TZID=America/New_York:20190414
SUMMARY:Norwich vs. Emmanuel
DESCRIPTION:2019 Softball Updated To Divisional Play 5/23/18 - Great Northeast Athletic Conference
LOCATION:Northfield, VT
CATEGORIES:QuickScores, Softball Game
TRANSP:OPAQUE
BEGIN:VALARM
TRIGGER:-PT2H
ACTION:DISPLAY
DESCRIPTION:Norwich vs. Emmanuel
END:VALARM
END:VEVENT
BEGIN:VEVENT
UID:gnac-36306254-20190418@quickscores.com
DTSTAMP:20260420T025700Z
DTSTART;TZID=America/New_York:20190418
SUMMARY:Lasell vs. Norwich
DESCRIPTION:2019 Softball Updated To Divisional Play 5/23/18 - Great Northeast Athletic Conference
LOCATION:Taylor Field at Lasell College
CATEGORIES:QuickScores, Softball Game
TRANSP:OPAQUE
BEGIN:VALARM
TRIGGER:-PT2H
ACTION:DISPLAY
DESCRIPTION:Lasell vs. Norwich
END:VALARM
END:VEVENT
BEGIN:VEVENT
UID:gnac-36306303-20190420@quickscores.com
DTSTAMP:20260420T025700Z
DTSTART;TZID=America/New_York:20190420
SUMMARY:Norwich vs. Regis
DESCRIPTION:2019 Softball Updated To Divisional Play 5/23/18 - Great Northeast Athletic Conference
LOCATION:Northfield, VT
CATEGORIES:QuickScores, Softball Game
TRANSP:OPAQUE
BEGIN:VALARM
TRIGGER:-PT2H
ACTION:DISPLAY
DESCRIPTION:Norwich vs. Regis
END:VALARM
END:VEVENT
BEGIN:VEVENT
UID:gnac-36306264-20190426@quickscores.com
DTSTAMP:20260420T025700Z
DTSTART;TZID=America/New_York:20190426
SUMMARY:Norwich vs. Simmons
DESCRIPTION:2019 Softball Updated To Divisional Play 5/23/18 - Great Northeast Athletic Conference
LOCATION:Northfield, VT
CATEGORIES:QuickScores, Softball Game
TRANSP:OPAQUE
BEGIN:VALARM
TRIGGER:-PT2H
ACTION:DISPLAY
DESCRIPTION:Norwich vs. Simmons
END:VALARM
END:VEVENT
BEGIN:VEVENT
UID:gnac-36306230-20190427@quickscores.com
DTSTAMP:20260420T025700Z
DTSTART;TZID=America/New_York:20190427
SUMMARY:Rivier vs. Norwich
DESCRIPTION:2019 Softball Updated To Divisional Play 5/23/18 - Great Northeast Athletic Conference
LOCATION:Nashua, NH
CATEGORIES:QuickScores, Softball Game
TRANSP:OPAQUE
BEGIN:VALARM
TRIGGER:-PT2H
ACTION:DISPLAY
DESCRIPTION:Rivier vs. Norwich
END:VALARM
END:VEVENT
END:VCALENDAR
