BEGIN:VCALENDAR
VERSION:2.0
PRODID:-//QuickScores.com//BQ Dynamic iCal Creator//EN
METHOD:PUBLISH
X-WR-CALNAME:Anna Maria - 2019 Softball Updated To Divisional Play 5/23/18 - Spring 2019
X-WR-CALDESC:QuickScores game calendar
X-PUBLISHED-TTL:PT24H
REFRESH-INTERVAL;VALUE=DURATION:PT24H
CALSCALE:GREGORIAN
BEGIN:VTIMEZONE
TZID:America/New_York
X-LIC-LOCATION:America/New_York
BEGIN:DAYLIGHT
TZNAME:EDT
TZOFFSETFROM:-0500
TZOFFSETTO:-0400
DTSTART:19700308T020000
RRULE:FREQ=YEARLY;BYMONTH=3;BYDAY=2SU
END:DAYLIGHT
BEGIN:STANDARD
TZNAME:EST
TZOFFSETFROM:-0400
TZOFFSETTO:-0500
DTSTART:19701101T020000
RRULE:FREQ=YEARLY;BYMONTH=11;BYDAY=1SU
END:STANDARD
END:VTIMEZONE
BEGIN:VEVENT
UID:gnac-36306236-20190406@quickscores.com
DTSTAMP:20260423T054200Z
DTSTART;TZID=America/New_York:20190406
SUMMARY:Anna Maria vs. Norwich
DESCRIPTION:2019 Softball Updated To Divisional Play 5/23/18 - Great Northeast Athletic Conference
LOCATION:Paxton MA
CATEGORIES:QuickScores, Softball Game
TRANSP:OPAQUE
BEGIN:VALARM
TRIGGER:-PT2H
ACTION:DISPLAY
DESCRIPTION:Anna Maria vs. Norwich
END:VALARM
END:VEVENT
BEGIN:VEVENT
UID:gnac-36306247-20190407@quickscores.com
DTSTAMP:20260423T054200Z
DTSTART;TZID=America/New_York:20190407
SUMMARY:Suffolk vs. Anna Maria
DESCRIPTION:2019 Softball Updated To Divisional Play 5/23/18 - Great Northeast Athletic Conference
LOCATION:East Boston Memorial Field
CATEGORIES:QuickScores, Softball Game
TRANSP:OPAQUE
BEGIN:VALARM
TRIGGER:-PT2H
ACTION:DISPLAY
DESCRIPTION:Suffolk vs. Anna Maria
END:VALARM
END:VEVENT
BEGIN:VEVENT
UID:gnac-36306271-20190413@quickscores.com
DTSTAMP:20260423T054200Z
DTSTART;TZID=America/New_York:20190413
SUMMARY:Anna Maria vs. Albertus Magnus
DESCRIPTION:2019 Softball Updated To Divisional Play 5/23/18 - Great Northeast Athletic Conference
LOCATION:Paxton MA
CATEGORIES:QuickScores, Softball Game
TRANSP:OPAQUE
BEGIN:VALARM
TRIGGER:-PT2H
ACTION:DISPLAY
DESCRIPTION:Anna Maria vs. Albertus Magnus
END:VALARM
END:VEVENT
BEGIN:VEVENT
UID:gnac-36306223-20190414@quickscores.com
DTSTAMP:20260423T054200Z
DTSTART;TZID=America/New_York:20190414
SUMMARY:Saint Joseph's ME vs. Anna Maria
DESCRIPTION:2019 Softball Updated To Divisional Play 5/23/18 - Great Northeast Athletic Conference
LOCATION:Standish ME
CATEGORIES:QuickScores, Softball Game
TRANSP:OPAQUE
BEGIN:VALARM
TRIGGER:-PT2H
ACTION:DISPLAY
DESCRIPTION:Saint Joseph's ME vs. Anna Maria
END:VALARM
END:VEVENT
BEGIN:VEVENT
UID:gnac-36306281-20190418@quickscores.com
DTSTAMP:20260423T054200Z
DTSTART;TZID=America/New_York:20190418
SUMMARY:Anna Maria vs. Rivier
DESCRIPTION:A --- 2019 Softball Updated To Divisional Play 5/23/18 - Great Northeast Athletic Conference
LOCATION:Paxton MA
CATEGORIES:QuickScores, Softball Game
TRANSP:OPAQUE
BEGIN:VALARM
TRIGGER:-PT2H
ACTION:DISPLAY
DESCRIPTION:Anna Maria vs. Rivier
END:VALARM
END:VEVENT
BEGIN:VEVENT
UID:gnac-36306291-20190420@quickscores.com
DTSTAMP:20260423T054200Z
DTSTART;TZID=America/New_York:20190420
SUMMARY:Johnson & Wales vs. Anna Maria
DESCRIPTION:2019 Softball Updated To Divisional Play 5/23/18 - Great Northeast Athletic Conference
LOCATION:Scotts Miracle Gro Athletic Complex
CATEGORIES:QuickScores, Softball Game
TRANSP:OPAQUE
BEGIN:VALARM
TRIGGER:-PT2H
ACTION:DISPLAY
DESCRIPTION:Johnson & Wales vs. Anna Maria
END:VALARM
END:VEVENT
BEGIN:VEVENT
UID:gnac-36306257-20190426@quickscores.com
DTSTAMP:20260423T054200Z
DTSTART;TZID=America/New_York:20190426
SUMMARY:Anna Maria vs. Emmanuel
DESCRIPTION:2019 Softball Updated To Divisional Play 5/23/18 - Great Northeast Athletic Conference
LOCATION:Paxton MA
CATEGORIES:QuickScores, Softball Game
TRANSP:OPAQUE
BEGIN:VALARM
TRIGGER:-PT2H
ACTION:DISPLAY
DESCRIPTION:Anna Maria vs. Emmanuel
END:VALARM
END:VEVENT
BEGIN:VEVENT
UID:gnac-36306233-20190427@quickscores.com
DTSTAMP:20260423T054200Z
DTSTART;TZID=America/New_York:20190427
SUMMARY:Lasell vs. Anna Maria
DESCRIPTION:2019 Softball Updated To Divisional Play 5/23/18 - Great Northeast Athletic Conference
LOCATION:Taylor Field at Lasell College
CATEGORIES:QuickScores, Softball Game
TRANSP:OPAQUE
BEGIN:VALARM
TRIGGER:-PT2H
ACTION:DISPLAY
DESCRIPTION:Lasell vs. Anna Maria
END:VALARM
END:VEVENT
END:VCALENDAR
