BEGIN:VCALENDAR
VERSION:2.0
PRODID:-//QuickScores.com//BQ Dynamic iCal Creator//EN
METHOD:PUBLISH
X-WR-CALNAME:Suffolk - Removing Mount Ida May 2018 - 2018-19 Wbb Adding Colby Sawyer. - Winter 2018-2019
X-WR-CALDESC:QuickScores game calendar
X-PUBLISHED-TTL:PT24H
REFRESH-INTERVAL;VALUE=DURATION:PT24H
CALSCALE:GREGORIAN
BEGIN:VTIMEZONE
TZID:America/New_York
X-LIC-LOCATION:America/New_York
BEGIN:DAYLIGHT
TZNAME:EDT
TZOFFSETFROM:-0500
TZOFFSETTO:-0400
DTSTART:19700308T020000
RRULE:FREQ=YEARLY;BYMONTH=3;BYDAY=2SU
END:DAYLIGHT
BEGIN:STANDARD
TZNAME:EST
TZOFFSETFROM:-0400
TZOFFSETTO:-0500
DTSTART:19701101T020000
RRULE:FREQ=YEARLY;BYMONTH=11;BYDAY=1SU
END:STANDARD
END:VTIMEZONE
BEGIN:VEVENT
UID:gnac-35854722-20190108@quickscores.com
DTSTAMP:20260423T073200Z
DTSTART;TZID=America/New_York:20190108
SUMMARY:Suffolk vs. Rivier
DESCRIPTION:2019 RIV can share a bus with MBB going to EMM --- Removing Mount Ida May 2018 - 2018-19 Wbb Adding Colby Sawyer. - Great Northeast Athletic Conference
LOCATION:Suffolk
CATEGORIES:QuickScores, Basketball Game
TRANSP:OPAQUE
BEGIN:VALARM
TRIGGER:-PT2H
ACTION:DISPLAY
DESCRIPTION:Suffolk vs. Rivier
END:VALARM
END:VEVENT
BEGIN:VEVENT
UID:gnac-35854748-20190110@quickscores.com
DTSTAMP:20260423T073200Z
DTSTART;TZID=America/New_York:20190110
SUMMARY:Saint Joseph CT vs. Suffolk
DESCRIPTION:Removing Mount Ida May 2018 - 2018-19 Wbb Adding Colby Sawyer. - Great Northeast Athletic Conference
LOCATION:W. Hartford, CT
CATEGORIES:QuickScores, Basketball Game
TRANSP:OPAQUE
BEGIN:VALARM
TRIGGER:-PT2H
ACTION:DISPLAY
DESCRIPTION:Saint Joseph CT vs. Suffolk
END:VALARM
END:VEVENT
BEGIN:VEVENT
UID:gnac-35854716-20190117@quickscores.com
DTSTAMP:20260423T073200Z
DTSTART;TZID=America/New_York:20190117
SUMMARY:Norwich vs. Suffolk
DESCRIPTION:Removing Mount Ida May 2018 - 2018-19 Wbb Adding Colby Sawyer. - Great Northeast Athletic Conference
LOCATION:Northfield, VT
CATEGORIES:QuickScores, Basketball Game
TRANSP:OPAQUE
BEGIN:VALARM
TRIGGER:-PT2H
ACTION:DISPLAY
DESCRIPTION:Norwich vs. Suffolk
END:VALARM
END:VEVENT
BEGIN:VEVENT
UID:gnac-35854783-20190119@quickscores.com
DTSTAMP:20260423T073200Z
DTSTART;TZID=America/New_York:20190119
SUMMARY:Suffolk vs. Johnson and Wales
DESCRIPTION:Removing Mount Ida May 2018 - 2018-19 Wbb Adding Colby Sawyer. - Great Northeast Athletic Conference
LOCATION:Suffolk
CATEGORIES:QuickScores, Basketball Game
TRANSP:OPAQUE
BEGIN:VALARM
TRIGGER:-PT2H
ACTION:DISPLAY
DESCRIPTION:Suffolk vs. Johnson and Wales
END:VALARM
END:VEVENT
BEGIN:VEVENT
UID:gnac-35854751-20190122@quickscores.com
DTSTAMP:20260423T073200Z
DTSTART;TZID=America/New_York:20190122
SUMMARY:Suffolk vs. Regis
DESCRIPTION:Removing Mount Ida May 2018 - 2018-19 Wbb Adding Colby Sawyer. - Great Northeast Athletic Conference
LOCATION:Suffolk
CATEGORIES:QuickScores, Basketball Game
TRANSP:OPAQUE
BEGIN:VALARM
TRIGGER:-PT2H
ACTION:DISPLAY
DESCRIPTION:Suffolk vs. Regis
END:VALARM
END:VEVENT
BEGIN:VEVENT
UID:gnac-35854730-20190124@quickscores.com
DTSTAMP:20260423T073200Z
DTSTART;TZID=America/New_York:20190124
SUMMARY:Suffolk vs. Anna Maria
DESCRIPTION:Removing Mount Ida May 2018 - 2018-19 Wbb Adding Colby Sawyer. - Great Northeast Athletic Conference
LOCATION:Suffolk
CATEGORIES:QuickScores, Basketball Game
TRANSP:OPAQUE
BEGIN:VALARM
TRIGGER:-PT2H
ACTION:DISPLAY
DESCRIPTION:Suffolk vs. Anna Maria
END:VALARM
END:VEVENT
BEGIN:VEVENT
UID:gnac-35854743-20190126@quickscores.com
DTSTAMP:20260423T073200Z
DTSTART;TZID=America/New_York:20190126
SUMMARY:Saint Joseph's ME vs. Suffolk
DESCRIPTION:Removing Mount Ida May 2018 - 2018-19 Wbb Adding Colby Sawyer. - Great Northeast Athletic Conference
LOCATION:Standish ME
CATEGORIES:QuickScores, Basketball Game
TRANSP:OPAQUE
BEGIN:VALARM
TRIGGER:-PT2H
ACTION:DISPLAY
DESCRIPTION:Saint Joseph's ME vs. Suffolk
END:VALARM
END:VEVENT
BEGIN:VEVENT
UID:gnac-35854797-20190131@quickscores.com
DTSTAMP:20260423T073200Z
DTSTART;TZID=America/New_York:20190131
SUMMARY:Suffolk vs. Lasell
DESCRIPTION:Removing Mount Ida May 2018 - 2018-19 Wbb Adding Colby Sawyer. - Great Northeast Athletic Conference
LOCATION:Suffolk
CATEGORIES:QuickScores, Basketball Game
TRANSP:OPAQUE
BEGIN:VALARM
TRIGGER:-PT2H
ACTION:DISPLAY
DESCRIPTION:Suffolk vs. Lasell
END:VALARM
END:VEVENT
BEGIN:VEVENT
UID:gnac-35854702-20190202@quickscores.com
DTSTAMP:20260423T073200Z
DTSTART;TZID=America/New_York:20190202
SUMMARY:Simmons vs. Suffolk
DESCRIPTION:Removing Mount Ida May 2018 - 2018-19 Wbb Adding Colby Sawyer. - Great Northeast Athletic Conference
LOCATION:Holmes Sports Center
CATEGORIES:QuickScores, Basketball Game
TRANSP:OPAQUE
BEGIN:VALARM
TRIGGER:-PT2H
ACTION:DISPLAY
DESCRIPTION:Simmons vs. Suffolk
END:VALARM
END:VEVENT
BEGIN:VEVENT
UID:gnac-35854803-20190209@quickscores.com
DTSTAMP:20260423T073200Z
DTSTART;TZID=America/New_York:20190209
SUMMARY:Colby Sawyer vs. Suffolk
DESCRIPTION:Removing Mount Ida May 2018 - 2018-19 Wbb Adding Colby Sawyer. - Great Northeast Athletic Conference
LOCATION:New London NH
CATEGORIES:QuickScores, Basketball Game
TRANSP:OPAQUE
BEGIN:VALARM
TRIGGER:-PT2H
ACTION:DISPLAY
DESCRIPTION:Colby Sawyer vs. Suffolk
END:VALARM
END:VEVENT
BEGIN:VEVENT
UID:gnac-35854718-20190212@quickscores.com
DTSTAMP:20260423T073200Z
DTSTART;TZID=America/New_York:20190212
SUMMARY:Suffolk vs. Emmanuel
DESCRIPTION:Removing Mount Ida May 2018 - 2018-19 Wbb Adding Colby Sawyer. - Great Northeast Athletic Conference
LOCATION:Suffolk
CATEGORIES:QuickScores, Basketball Game
TRANSP:OPAQUE
BEGIN:VALARM
TRIGGER:-PT2H
ACTION:DISPLAY
DESCRIPTION:Suffolk vs. Emmanuel
END:VALARM
END:VEVENT
BEGIN:VEVENT
UID:gnac-35854772-20190216@quickscores.com
DTSTAMP:20260423T073200Z
DTSTART;TZID=America/New_York:20190216
SUMMARY:Albertus Magnus vs. Suffolk
DESCRIPTION:2019  DH w MBB --- Removing Mount Ida May 2018 - 2018-19 Wbb Adding Colby Sawyer. - Great Northeast Athletic Conference
LOCATION:New Haven, CT
CATEGORIES:QuickScores, Basketball Game
TRANSP:OPAQUE
BEGIN:VALARM
TRIGGER:-PT2H
ACTION:DISPLAY
DESCRIPTION:Albertus Magnus vs. Suffolk
END:VALARM
END:VEVENT
END:VCALENDAR
