BEGIN:VCALENDAR
VERSION:2.0
PRODID:-//QuickScores.com//BQ Dynamic iCal Creator//EN
METHOD:PUBLISH
X-WR-CALNAME:Simmons - Removing Mount Ida May 2018 - 2018-19 Wbb Adding Colby Sawyer. - Winter 2018-2019
X-WR-CALDESC:QuickScores game calendar
X-PUBLISHED-TTL:PT24H
REFRESH-INTERVAL;VALUE=DURATION:PT24H
CALSCALE:GREGORIAN
BEGIN:VTIMEZONE
TZID:America/New_York
X-LIC-LOCATION:America/New_York
BEGIN:DAYLIGHT
TZNAME:EDT
TZOFFSETFROM:-0500
TZOFFSETTO:-0400
DTSTART:19700308T020000
RRULE:FREQ=YEARLY;BYMONTH=3;BYDAY=2SU
END:DAYLIGHT
BEGIN:STANDARD
TZNAME:EST
TZOFFSETFROM:-0400
TZOFFSETTO:-0500
DTSTART:19701101T020000
RRULE:FREQ=YEARLY;BYMONTH=11;BYDAY=1SU
END:STANDARD
END:VTIMEZONE
BEGIN:VEVENT
UID:gnac-35854784-20190108@quickscores.com
DTSTAMP:20260419T232800Z
DTSTART;TZID=America/New_York:20190108
SUMMARY:Simmons vs. Lasell
DESCRIPTION:Removing Mount Ida May 2018 - 2018-19 Wbb Adding Colby Sawyer. - Great Northeast Athletic Conference
LOCATION:Holmes Sports Center
CATEGORIES:QuickScores, Basketball Game
TRANSP:OPAQUE
BEGIN:VALARM
TRIGGER:-PT2H
ACTION:DISPLAY
DESCRIPTION:Simmons vs. Lasell
END:VALARM
END:VEVENT
BEGIN:VEVENT
UID:gnac-35854754-20190110@quickscores.com
DTSTAMP:20260419T232800Z
DTSTART;TZID=America/New_York:20190110
SUMMARY:Norwich vs. Simmons
DESCRIPTION:Removing Mount Ida May 2018 - 2018-19 Wbb Adding Colby Sawyer. - Great Northeast Athletic Conference
LOCATION:Northfield, VT
CATEGORIES:QuickScores, Basketball Game
TRANSP:OPAQUE
BEGIN:VALARM
TRIGGER:-PT2H
ACTION:DISPLAY
DESCRIPTION:Norwich vs. Simmons
END:VALARM
END:VEVENT
BEGIN:VEVENT
UID:gnac-35854787-20190117@quickscores.com
DTSTAMP:20260419T232800Z
DTSTART;TZID=America/New_York:20190117
SUMMARY:Simmons vs. Albertus Magnus
DESCRIPTION:Removing Mount Ida May 2018 - 2018-19 Wbb Adding Colby Sawyer. - Great Northeast Athletic Conference
LOCATION:Holmes Sports Center
CATEGORIES:QuickScores, Basketball Game
TRANSP:OPAQUE
BEGIN:VALARM
TRIGGER:-PT2H
ACTION:DISPLAY
DESCRIPTION:Simmons vs. Albertus Magnus
END:VALARM
END:VEVENT
BEGIN:VEVENT
UID:gnac-35854806-20190122@quickscores.com
DTSTAMP:20260419T232800Z
DTSTART;TZID=America/New_York:20190122
SUMMARY:Emmanuel vs. Simmons
DESCRIPTION:Removing Mount Ida May 2018 - 2018-19 Wbb Adding Colby Sawyer. - Great Northeast Athletic Conference
LOCATION:Jean Yawkey Center
CATEGORIES:QuickScores, Basketball Game
TRANSP:OPAQUE
BEGIN:VALARM
TRIGGER:-PT2H
ACTION:DISPLAY
DESCRIPTION:Emmanuel vs. Simmons
END:VALARM
END:VEVENT
BEGIN:VEVENT
UID:gnac-35854752-20190124@quickscores.com
DTSTAMP:20260419T232800Z
DTSTART;TZID=America/New_York:20190124
SUMMARY:Simmons vs. Saint Joseph's ME
DESCRIPTION:Removing Mount Ida May 2018 - 2018-19 Wbb Adding Colby Sawyer. - Great Northeast Athletic Conference
LOCATION:Holmes Sports Center
CATEGORIES:QuickScores, Basketball Game
TRANSP:OPAQUE
BEGIN:VALARM
TRIGGER:-PT2H
ACTION:DISPLAY
DESCRIPTION:Simmons vs. Saint Joseph's ME
END:VALARM
END:VEVENT
BEGIN:VEVENT
UID:gnac-35854712-20190126@quickscores.com
DTSTAMP:20260419T232800Z
DTSTART;TZID=America/New_York:20190126
SUMMARY:Simmons vs. Colby Sawyer
DESCRIPTION:Removing Mount Ida May 2018 - 2018-19 Wbb Adding Colby Sawyer. - Great Northeast Athletic Conference
LOCATION:Holmes Sports Center
CATEGORIES:QuickScores, Basketball Game
TRANSP:OPAQUE
BEGIN:VALARM
TRIGGER:-PT2H
ACTION:DISPLAY
DESCRIPTION:Simmons vs. Colby Sawyer
END:VALARM
END:VEVENT
BEGIN:VEVENT
UID:gnac-35854736-20190131@quickscores.com
DTSTAMP:20260419T232800Z
DTSTART;TZID=America/New_York:20190131
SUMMARY:Saint Joseph CT vs. Simmons
DESCRIPTION:Removing Mount Ida May 2018 - 2018-19 Wbb Adding Colby Sawyer. - Great Northeast Athletic Conference
LOCATION:W. Hartford, CT
CATEGORIES:QuickScores, Basketball Game
TRANSP:OPAQUE
BEGIN:VALARM
TRIGGER:-PT2H
ACTION:DISPLAY
DESCRIPTION:Saint Joseph CT vs. Simmons
END:VALARM
END:VEVENT
BEGIN:VEVENT
UID:gnac-35854702-20190202@quickscores.com
DTSTAMP:20260419T232800Z
DTSTART;TZID=America/New_York:20190202
SUMMARY:Simmons vs. Suffolk
DESCRIPTION:Removing Mount Ida May 2018 - 2018-19 Wbb Adding Colby Sawyer. - Great Northeast Athletic Conference
LOCATION:Holmes Sports Center
CATEGORIES:QuickScores, Basketball Game
TRANSP:OPAQUE
BEGIN:VALARM
TRIGGER:-PT2H
ACTION:DISPLAY
DESCRIPTION:Simmons vs. Suffolk
END:VALARM
END:VEVENT
BEGIN:VEVENT
UID:gnac-35854775-20190205@quickscores.com
DTSTAMP:20260419T232800Z
DTSTART;TZID=America/New_York:20190205
SUMMARY:Anna Maria vs. Simmons
DESCRIPTION:Removing Mount Ida May 2018 - 2018-19 Wbb Adding Colby Sawyer. - Great Northeast Athletic Conference
LOCATION:Paxton MA
CATEGORIES:QuickScores, Basketball Game
TRANSP:OPAQUE
BEGIN:VALARM
TRIGGER:-PT2H
ACTION:DISPLAY
DESCRIPTION:Anna Maria vs. Simmons
END:VALARM
END:VEVENT
BEGIN:VEVENT
UID:gnac-35854717-20190209@quickscores.com
DTSTAMP:20260419T232800Z
DTSTART;TZID=America/New_York:20190209
SUMMARY:Rivier vs. Simmons
DESCRIPTION:Removing Mount Ida May 2018 - 2018-19 Wbb Adding Colby Sawyer. - Great Northeast Athletic Conference
LOCATION:Nashua, NH
CATEGORIES:QuickScores, Basketball Game
TRANSP:OPAQUE
BEGIN:VALARM
TRIGGER:-PT2H
ACTION:DISPLAY
DESCRIPTION:Rivier vs. Simmons
END:VALARM
END:VEVENT
BEGIN:VEVENT
UID:gnac-35854781-20190212@quickscores.com
DTSTAMP:20260419T232800Z
DTSTART;TZID=America/New_York:20190212
SUMMARY:Regis vs. Simmons
DESCRIPTION:Removing Mount Ida May 2018 - 2018-19 Wbb Adding Colby Sawyer. - Great Northeast Athletic Conference
LOCATION:Regis Weston MA
CATEGORIES:QuickScores, Basketball Game
TRANSP:OPAQUE
BEGIN:VALARM
TRIGGER:-PT2H
ACTION:DISPLAY
DESCRIPTION:Regis vs. Simmons
END:VALARM
END:VEVENT
BEGIN:VEVENT
UID:gnac-35854727-20190216@quickscores.com
DTSTAMP:20260419T232800Z
DTSTART;TZID=America/New_York:20190216
SUMMARY:Simmons vs. Johnson and Wales
DESCRIPTION:2019 can share a bus w MBB going to EMM --- Removing Mount Ida May 2018 - 2018-19 Wbb Adding Colby Sawyer. - Great Northeast Athletic Conference
LOCATION:Holmes Sports Center
CATEGORIES:QuickScores, Basketball Game
TRANSP:OPAQUE
BEGIN:VALARM
TRIGGER:-PT2H
ACTION:DISPLAY
DESCRIPTION:Simmons vs. Johnson and Wales
END:VALARM
END:VEVENT
END:VCALENDAR
