BEGIN:VCALENDAR
VERSION:2.0
PRODID:-//QuickScores.com//BQ Dynamic iCal Creator//EN
METHOD:PUBLISH
X-WR-CALNAME:Regis - Removing Mount Ida May 2018 - 2018-19 Wbb Adding Colby Sawyer. - Winter 2018-2019
X-WR-CALDESC:QuickScores game calendar
X-PUBLISHED-TTL:PT24H
REFRESH-INTERVAL;VALUE=DURATION:PT24H
CALSCALE:GREGORIAN
BEGIN:VTIMEZONE
TZID:America/New_York
X-LIC-LOCATION:America/New_York
BEGIN:DAYLIGHT
TZNAME:EDT
TZOFFSETFROM:-0500
TZOFFSETTO:-0400
DTSTART:19700308T020000
RRULE:FREQ=YEARLY;BYMONTH=3;BYDAY=2SU
END:DAYLIGHT
BEGIN:STANDARD
TZNAME:EST
TZOFFSETFROM:-0400
TZOFFSETTO:-0500
DTSTART:19701101T020000
RRULE:FREQ=YEARLY;BYMONTH=11;BYDAY=1SU
END:STANDARD
END:VTIMEZONE
BEGIN:VEVENT
UID:gnac-35854723-20190108@quickscores.com
DTSTAMP:20260425T230300Z
DTSTART;TZID=America/New_York:20190108
SUMMARY:Regis vs. Saint Joseph's ME
DESCRIPTION:2019 STJME can share a bus with MBB playing at Lasell --- Removing Mount Ida May 2018 - 2018-19 Wbb Adding Colby Sawyer. - Great Northeast Athletic Conference
LOCATION:Regis Weston MA
CATEGORIES:QuickScores, Basketball Game
TRANSP:OPAQUE
BEGIN:VALARM
TRIGGER:-PT2H
ACTION:DISPLAY
DESCRIPTION:Regis vs. Saint Joseph's ME
END:VALARM
END:VEVENT
BEGIN:VEVENT
UID:gnac-35854795-20190110@quickscores.com
DTSTAMP:20260425T230300Z
DTSTART;TZID=America/New_York:20190110
SUMMARY:Emmanuel vs. Regis
DESCRIPTION:Removing Mount Ida May 2018 - 2018-19 Wbb Adding Colby Sawyer. - Great Northeast Athletic Conference
LOCATION:Jean Yawkey Center
CATEGORIES:QuickScores, Basketball Game
TRANSP:OPAQUE
BEGIN:VALARM
TRIGGER:-PT2H
ACTION:DISPLAY
DESCRIPTION:Emmanuel vs. Regis
END:VALARM
END:VEVENT
BEGIN:VEVENT
UID:gnac-35854785-20190112@quickscores.com
DTSTAMP:20260425T230300Z
DTSTART;TZID=America/New_York:20190112
SUMMARY:Regis vs. Norwich
DESCRIPTION:2019 DH --- Removing Mount Ida May 2018 - 2018-19 Wbb Adding Colby Sawyer. - Great Northeast Athletic Conference
LOCATION:Regis Weston MA
CATEGORIES:QuickScores, Basketball Game
TRANSP:OPAQUE
BEGIN:VALARM
TRIGGER:-PT2H
ACTION:DISPLAY
DESCRIPTION:Regis vs. Norwich
END:VALARM
END:VEVENT
BEGIN:VEVENT
UID:gnac-35854791-20190117@quickscores.com
DTSTAMP:20260425T230300Z
DTSTART;TZID=America/New_York:20190117
SUMMARY:Anna Maria vs. Regis
DESCRIPTION:Removing Mount Ida May 2018 - 2018-19 Wbb Adding Colby Sawyer. - Great Northeast Athletic Conference
LOCATION:Paxton MA
CATEGORIES:QuickScores, Basketball Game
TRANSP:OPAQUE
BEGIN:VALARM
TRIGGER:-PT2H
ACTION:DISPLAY
DESCRIPTION:Anna Maria vs. Regis
END:VALARM
END:VEVENT
BEGIN:VEVENT
UID:gnac-35854760-20190119@quickscores.com
DTSTAMP:20260425T230300Z
DTSTART;TZID=America/New_York:20190119
SUMMARY:Lasell vs. Regis
DESCRIPTION:Removing Mount Ida May 2018 - 2018-19 Wbb Adding Colby Sawyer. - Great Northeast Athletic Conference
LOCATION:Lasell Newton
CATEGORIES:QuickScores, Basketball Game
TRANSP:OPAQUE
BEGIN:VALARM
TRIGGER:-PT2H
ACTION:DISPLAY
DESCRIPTION:Lasell vs. Regis
END:VALARM
END:VEVENT
BEGIN:VEVENT
UID:gnac-35854751-20190122@quickscores.com
DTSTAMP:20260425T230300Z
DTSTART;TZID=America/New_York:20190122
SUMMARY:Suffolk vs. Regis
DESCRIPTION:Removing Mount Ida May 2018 - 2018-19 Wbb Adding Colby Sawyer. - Great Northeast Athletic Conference
LOCATION:Suffolk
CATEGORIES:QuickScores, Basketball Game
TRANSP:OPAQUE
BEGIN:VALARM
TRIGGER:-PT2H
ACTION:DISPLAY
DESCRIPTION:Suffolk vs. Regis
END:VALARM
END:VEVENT
BEGIN:VEVENT
UID:gnac-35854770-20190126@quickscores.com
DTSTAMP:20260425T230300Z
DTSTART;TZID=America/New_York:20190126
SUMMARY:Regis vs. Johnson and Wales
DESCRIPTION:2019  DH w MBB --- Removing Mount Ida May 2018 - 2018-19 Wbb Adding Colby Sawyer. - Great Northeast Athletic Conference
LOCATION:Regis Weston MA
CATEGORIES:QuickScores, Basketball Game
TRANSP:OPAQUE
BEGIN:VALARM
TRIGGER:-PT2H
ACTION:DISPLAY
DESCRIPTION:Regis vs. Johnson and Wales
END:VALARM
END:VEVENT
BEGIN:VEVENT
UID:gnac-35854802-20190131@quickscores.com
DTSTAMP:20260425T230300Z
DTSTART;TZID=America/New_York:20190131
SUMMARY:Colby Sawyer vs. Regis
DESCRIPTION:Removing Mount Ida May 2018 - 2018-19 Wbb Adding Colby Sawyer. - Great Northeast Athletic Conference
LOCATION:New London NH
CATEGORIES:QuickScores, Basketball Game
TRANSP:OPAQUE
BEGIN:VALARM
TRIGGER:-PT2H
ACTION:DISPLAY
DESCRIPTION:Colby Sawyer vs. Regis
END:VALARM
END:VEVENT
BEGIN:VEVENT
UID:gnac-35854788-20190202@quickscores.com
DTSTAMP:20260425T230300Z
DTSTART;TZID=America/New_York:20190202
SUMMARY:Regis vs. Rivier
DESCRIPTION:2019 DH MBB --- Removing Mount Ida May 2018 - 2018-19 Wbb Adding Colby Sawyer. - Great Northeast Athletic Conference
LOCATION:Regis Weston MA
CATEGORIES:QuickScores, Basketball Game
TRANSP:OPAQUE
BEGIN:VALARM
TRIGGER:-PT2H
ACTION:DISPLAY
DESCRIPTION:Regis vs. Rivier
END:VALARM
END:VEVENT
BEGIN:VEVENT
UID:gnac-35854729-20190209@quickscores.com
DTSTAMP:20260425T230300Z
DTSTART;TZID=America/New_York:20190209
SUMMARY:Regis vs. Albertus Magnus
DESCRIPTION:Removing Mount Ida May 2018 - 2018-19 Wbb Adding Colby Sawyer. - Great Northeast Athletic Conference
LOCATION:Regis Weston MA
CATEGORIES:QuickScores, Basketball Game
TRANSP:OPAQUE
BEGIN:VALARM
TRIGGER:-PT2H
ACTION:DISPLAY
DESCRIPTION:Regis vs. Albertus Magnus
END:VALARM
END:VEVENT
BEGIN:VEVENT
UID:gnac-35854781-20190212@quickscores.com
DTSTAMP:20260425T230300Z
DTSTART;TZID=America/New_York:20190212
SUMMARY:Regis vs. Simmons
DESCRIPTION:Removing Mount Ida May 2018 - 2018-19 Wbb Adding Colby Sawyer. - Great Northeast Athletic Conference
LOCATION:Regis Weston MA
CATEGORIES:QuickScores, Basketball Game
TRANSP:OPAQUE
BEGIN:VALARM
TRIGGER:-PT2H
ACTION:DISPLAY
DESCRIPTION:Regis vs. Simmons
END:VALARM
END:VEVENT
BEGIN:VEVENT
UID:gnac-35854794-20190216@quickscores.com
DTSTAMP:20260425T230300Z
DTSTART;TZID=America/New_York:20190216
SUMMARY:Saint Joseph CT vs. Regis
DESCRIPTION:2019  DH w MBB --- Removing Mount Ida May 2018 - 2018-19 Wbb Adding Colby Sawyer. - Great Northeast Athletic Conference
LOCATION:W. Hartford, CT
CATEGORIES:QuickScores, Basketball Game
TRANSP:OPAQUE
BEGIN:VALARM
TRIGGER:-PT2H
ACTION:DISPLAY
DESCRIPTION:Saint Joseph CT vs. Regis
END:VALARM
END:VEVENT
END:VCALENDAR
