BEGIN:VCALENDAR
VERSION:2.0
PRODID:-//QuickScores.com//BQ Dynamic iCal Creator//EN
METHOD:PUBLISH
X-WR-CALNAME:Lasell - Removing Mount Ida May 2018 - 2018-19 Wbb Adding Colby Sawyer. - Winter 2018-2019
X-WR-CALDESC:QuickScores game calendar
X-PUBLISHED-TTL:PT24H
REFRESH-INTERVAL;VALUE=DURATION:PT24H
CALSCALE:GREGORIAN
BEGIN:VTIMEZONE
TZID:America/New_York
X-LIC-LOCATION:America/New_York
BEGIN:DAYLIGHT
TZNAME:EDT
TZOFFSETFROM:-0500
TZOFFSETTO:-0400
DTSTART:19700308T020000
RRULE:FREQ=YEARLY;BYMONTH=3;BYDAY=2SU
END:DAYLIGHT
BEGIN:STANDARD
TZNAME:EST
TZOFFSETFROM:-0400
TZOFFSETTO:-0500
DTSTART:19701101T020000
RRULE:FREQ=YEARLY;BYMONTH=11;BYDAY=1SU
END:STANDARD
END:VTIMEZONE
BEGIN:VEVENT
UID:gnac-35854784-20190108@quickscores.com
DTSTAMP:20260420T025800Z
DTSTART;TZID=America/New_York:20190108
SUMMARY:Simmons vs. Lasell
DESCRIPTION:Removing Mount Ida May 2018 - 2018-19 Wbb Adding Colby Sawyer. - Great Northeast Athletic Conference
LOCATION:Holmes Sports Center
CATEGORIES:QuickScores, Basketball Game
TRANSP:OPAQUE
BEGIN:VALARM
TRIGGER:-PT2H
ACTION:DISPLAY
DESCRIPTION:Simmons vs. Lasell
END:VALARM
END:VEVENT
BEGIN:VEVENT
UID:gnac-35854805-20190112@quickscores.com
DTSTAMP:20260420T025800Z
DTSTART;TZID=America/New_York:20190112
SUMMARY:Lasell vs. Colby Sawyer
DESCRIPTION:The home/away for this game was reversed after the departure of Mount Ida to provide a competitive equity. With this adjustment all GNAC WBB teams will play 6 home and 6 away conference games in 2018-2019 --- Removing Mount Ida May 2018 - 2018-19 Wbb Adding Colby Sawyer. - Great Northeast Athletic Conference
LOCATION:Lasell Newton
CATEGORIES:QuickScores, Basketball Game
TRANSP:OPAQUE
BEGIN:VALARM
TRIGGER:-PT2H
ACTION:DISPLAY
DESCRIPTION:Lasell vs. Colby Sawyer
END:VALARM
END:VEVENT
BEGIN:VEVENT
UID:gnac-35854760-20190119@quickscores.com
DTSTAMP:20260420T025800Z
DTSTART;TZID=America/New_York:20190119
SUMMARY:Lasell vs. Regis
DESCRIPTION:Removing Mount Ida May 2018 - 2018-19 Wbb Adding Colby Sawyer. - Great Northeast Athletic Conference
LOCATION:Lasell Newton
CATEGORIES:QuickScores, Basketball Game
TRANSP:OPAQUE
BEGIN:VALARM
TRIGGER:-PT2H
ACTION:DISPLAY
DESCRIPTION:Lasell vs. Regis
END:VALARM
END:VEVENT
BEGIN:VEVENT
UID:gnac-35854742-20190122@quickscores.com
DTSTAMP:20260420T025800Z
DTSTART;TZID=America/New_York:20190122
SUMMARY:Lasell vs. Rivier
DESCRIPTION:Removing Mount Ida May 2018 - 2018-19 Wbb Adding Colby Sawyer. - Great Northeast Athletic Conference
LOCATION:Lasell Newton
CATEGORIES:QuickScores, Basketball Game
TRANSP:OPAQUE
BEGIN:VALARM
TRIGGER:-PT2H
ACTION:DISPLAY
DESCRIPTION:Lasell vs. Rivier
END:VALARM
END:VEVENT
BEGIN:VEVENT
UID:gnac-35854750-20190124@quickscores.com
DTSTAMP:20260420T025800Z
DTSTART;TZID=America/New_York:20190124
SUMMARY:Albertus Magnus vs. Lasell
DESCRIPTION:Removing Mount Ida May 2018 - 2018-19 Wbb Adding Colby Sawyer. - Great Northeast Athletic Conference
LOCATION:New Haven, CT
CATEGORIES:QuickScores, Basketball Game
TRANSP:OPAQUE
BEGIN:VALARM
TRIGGER:-PT2H
ACTION:DISPLAY
DESCRIPTION:Albertus Magnus vs. Lasell
END:VALARM
END:VEVENT
BEGIN:VEVENT
UID:gnac-35854711-20190126@quickscores.com
DTSTAMP:20260420T025800Z
DTSTART;TZID=America/New_York:20190126
SUMMARY:Lasell vs. Anna Maria
DESCRIPTION:Removing Mount Ida May 2018 - 2018-19 Wbb Adding Colby Sawyer. - Great Northeast Athletic Conference
LOCATION:Lasell Newton
CATEGORIES:QuickScores, Basketball Game
TRANSP:OPAQUE
BEGIN:VALARM
TRIGGER:-PT2H
ACTION:DISPLAY
DESCRIPTION:Lasell vs. Anna Maria
END:VALARM
END:VEVENT
BEGIN:VEVENT
UID:gnac-35854797-20190131@quickscores.com
DTSTAMP:20260420T025800Z
DTSTART;TZID=America/New_York:20190131
SUMMARY:Suffolk vs. Lasell
DESCRIPTION:Removing Mount Ida May 2018 - 2018-19 Wbb Adding Colby Sawyer. - Great Northeast Athletic Conference
LOCATION:Suffolk
CATEGORIES:QuickScores, Basketball Game
TRANSP:OPAQUE
BEGIN:VALARM
TRIGGER:-PT2H
ACTION:DISPLAY
DESCRIPTION:Suffolk vs. Lasell
END:VALARM
END:VEVENT
BEGIN:VEVENT
UID:gnac-35854731-20190202@quickscores.com
DTSTAMP:20260420T025800Z
DTSTART;TZID=America/New_York:20190202
SUMMARY:Emmanuel vs. Lasell
DESCRIPTION:Removing Mount Ida May 2018 - 2018-19 Wbb Adding Colby Sawyer. - Great Northeast Athletic Conference
LOCATION:Jean Yawkey Center
CATEGORIES:QuickScores, Basketball Game
TRANSP:OPAQUE
BEGIN:VALARM
TRIGGER:-PT2H
ACTION:DISPLAY
DESCRIPTION:Emmanuel vs. Lasell
END:VALARM
END:VEVENT
BEGIN:VEVENT
UID:gnac-35854753-20190205@quickscores.com
DTSTAMP:20260420T025800Z
DTSTART;TZID=America/New_York:20190205
SUMMARY:Lasell vs. Johnson and Wales
DESCRIPTION:Removing Mount Ida May 2018 - 2018-19 Wbb Adding Colby Sawyer. - Great Northeast Athletic Conference
LOCATION:Lasell Newton
CATEGORIES:QuickScores, Basketball Game
TRANSP:OPAQUE
BEGIN:VALARM
TRIGGER:-PT2H
ACTION:DISPLAY
DESCRIPTION:Lasell vs. Johnson and Wales
END:VALARM
END:VEVENT
BEGIN:VEVENT
UID:gnac-35854774-20190209@quickscores.com
DTSTAMP:20260420T025800Z
DTSTART;TZID=America/New_York:20190209
SUMMARY:Lasell vs. Norwich
DESCRIPTION:Removing Mount Ida May 2018 - 2018-19 Wbb Adding Colby Sawyer. - Great Northeast Athletic Conference
LOCATION:Lasell Newton
CATEGORIES:QuickScores, Basketball Game
TRANSP:OPAQUE
BEGIN:VALARM
TRIGGER:-PT2H
ACTION:DISPLAY
DESCRIPTION:Lasell vs. Norwich
END:VALARM
END:VEVENT
BEGIN:VEVENT
UID:gnac-35854778-20190212@quickscores.com
DTSTAMP:20260420T025800Z
DTSTART;TZID=America/New_York:20190212
SUMMARY:Saint Joseph CT vs. Lasell
DESCRIPTION:Removing Mount Ida May 2018 - 2018-19 Wbb Adding Colby Sawyer. - Great Northeast Athletic Conference
LOCATION:W. Hartford, CT
CATEGORIES:QuickScores, Basketball Game
TRANSP:OPAQUE
BEGIN:VALARM
TRIGGER:-PT2H
ACTION:DISPLAY
DESCRIPTION:Saint Joseph CT vs. Lasell
END:VALARM
END:VEVENT
BEGIN:VEVENT
UID:gnac-35854790-20190216@quickscores.com
DTSTAMP:20260420T025800Z
DTSTART;TZID=America/New_York:20190216
SUMMARY:Saint Joseph's ME vs. Lasell
DESCRIPTION:Removing Mount Ida May 2018 - 2018-19 Wbb Adding Colby Sawyer. - Great Northeast Athletic Conference
LOCATION:Standish ME
CATEGORIES:QuickScores, Basketball Game
TRANSP:OPAQUE
BEGIN:VALARM
TRIGGER:-PT2H
ACTION:DISPLAY
DESCRIPTION:Saint Joseph's ME vs. Lasell
END:VALARM
END:VEVENT
END:VCALENDAR
