BEGIN:VCALENDAR
VERSION:2.0
PRODID:-//QuickScores.com//BQ Dynamic iCal Creator//EN
METHOD:PUBLISH
X-WR-CALNAME:Albertus Magnus - Removing Mount Ida May 2018 - 2018-19 Wbb Adding Colby Sawyer. - Winter 2018-2019
X-WR-CALDESC:QuickScores game calendar
X-PUBLISHED-TTL:PT24H
REFRESH-INTERVAL;VALUE=DURATION:PT24H
CALSCALE:GREGORIAN
BEGIN:VTIMEZONE
TZID:America/New_York
X-LIC-LOCATION:America/New_York
BEGIN:DAYLIGHT
TZNAME:EDT
TZOFFSETFROM:-0500
TZOFFSETTO:-0400
DTSTART:19700308T020000
RRULE:FREQ=YEARLY;BYMONTH=3;BYDAY=2SU
END:DAYLIGHT
BEGIN:STANDARD
TZNAME:EST
TZOFFSETFROM:-0400
TZOFFSETTO:-0500
DTSTART:19701101T020000
RRULE:FREQ=YEARLY;BYMONTH=11;BYDAY=1SU
END:STANDARD
END:VTIMEZONE
BEGIN:VEVENT
UID:gnac-35854707-20190108@quickscores.com
DTSTAMP:20260422T141400Z
DTSTART;TZID=America/New_York:20190108
SUMMARY:Albertus Magnus vs. Anna Maria
DESCRIPTION:Removing Mount Ida May 2018 - 2018-19 Wbb Adding Colby Sawyer. - Great Northeast Athletic Conference
LOCATION:New Haven, CT
CATEGORIES:QuickScores, Basketball Game
TRANSP:OPAQUE
BEGIN:VALARM
TRIGGER:-PT2H
ACTION:DISPLAY
DESCRIPTION:Albertus Magnus vs. Anna Maria
END:VALARM
END:VEVENT
BEGIN:VEVENT
UID:gnac-35854756-20190110@quickscores.com
DTSTAMP:20260422T141400Z
DTSTART;TZID=America/New_York:20190110
SUMMARY:Saint Joseph's ME vs. Albertus Magnus
DESCRIPTION:2019  DH w MBB --- Removing Mount Ida May 2018 - 2018-19 Wbb Adding Colby Sawyer. - Great Northeast Athletic Conference
LOCATION:Standish ME
CATEGORIES:QuickScores, Basketball Game
TRANSP:OPAQUE
BEGIN:VALARM
TRIGGER:-PT2H
ACTION:DISPLAY
DESCRIPTION:Saint Joseph's ME vs. Albertus Magnus
END:VALARM
END:VEVENT
BEGIN:VEVENT
UID:gnac-35854701-20190112@quickscores.com
DTSTAMP:20260422T141400Z
DTSTART;TZID=America/New_York:20190112
SUMMARY:Albertus Magnus vs. Rivier
DESCRIPTION:2019 DH w MBB --- Removing Mount Ida May 2018 - 2018-19 Wbb Adding Colby Sawyer. - Great Northeast Athletic Conference
LOCATION:New Haven, CT
CATEGORIES:QuickScores, Basketball Game
TRANSP:OPAQUE
BEGIN:VALARM
TRIGGER:-PT2H
ACTION:DISPLAY
DESCRIPTION:Albertus Magnus vs. Rivier
END:VALARM
END:VEVENT
BEGIN:VEVENT
UID:gnac-35854787-20190117@quickscores.com
DTSTAMP:20260422T141400Z
DTSTART;TZID=America/New_York:20190117
SUMMARY:Simmons vs. Albertus Magnus
DESCRIPTION:Removing Mount Ida May 2018 - 2018-19 Wbb Adding Colby Sawyer. - Great Northeast Athletic Conference
LOCATION:Holmes Sports Center
CATEGORIES:QuickScores, Basketball Game
TRANSP:OPAQUE
BEGIN:VALARM
TRIGGER:-PT2H
ACTION:DISPLAY
DESCRIPTION:Simmons vs. Albertus Magnus
END:VALARM
END:VEVENT
BEGIN:VEVENT
UID:gnac-35854799-20190119@quickscores.com
DTSTAMP:20260422T141400Z
DTSTART;TZID=America/New_York:20190119
SUMMARY:Colby Sawyer vs. Albertus Magnus
DESCRIPTION:2019 DH w MBB --- Removing Mount Ida May 2018 - 2018-19 Wbb Adding Colby Sawyer. - Great Northeast Athletic Conference
LOCATION:New London NH
CATEGORIES:QuickScores, Basketball Game
TRANSP:OPAQUE
BEGIN:VALARM
TRIGGER:-PT2H
ACTION:DISPLAY
DESCRIPTION:Colby Sawyer vs. Albertus Magnus
END:VALARM
END:VEVENT
BEGIN:VEVENT
UID:gnac-35854750-20190124@quickscores.com
DTSTAMP:20260422T141400Z
DTSTART;TZID=America/New_York:20190124
SUMMARY:Albertus Magnus vs. Lasell
DESCRIPTION:Removing Mount Ida May 2018 - 2018-19 Wbb Adding Colby Sawyer. - Great Northeast Athletic Conference
LOCATION:New Haven, CT
CATEGORIES:QuickScores, Basketball Game
TRANSP:OPAQUE
BEGIN:VALARM
TRIGGER:-PT2H
ACTION:DISPLAY
DESCRIPTION:Albertus Magnus vs. Lasell
END:VALARM
END:VEVENT
BEGIN:VEVENT
UID:gnac-35854767-20190126@quickscores.com
DTSTAMP:20260422T141400Z
DTSTART;TZID=America/New_York:20190126
SUMMARY:Emmanuel vs. Albertus Magnus
DESCRIPTION:2019 DH MBB --- Removing Mount Ida May 2018 - 2018-19 Wbb Adding Colby Sawyer. - Great Northeast Athletic Conference
LOCATION:Jean Yawkey Center
CATEGORIES:QuickScores, Basketball Game
TRANSP:OPAQUE
BEGIN:VALARM
TRIGGER:-PT2H
ACTION:DISPLAY
DESCRIPTION:Emmanuel vs. Albertus Magnus
END:VALARM
END:VEVENT
BEGIN:VEVENT
UID:gnac-35854726-20190202@quickscores.com
DTSTAMP:20260422T141400Z
DTSTART;TZID=America/New_York:20190202
SUMMARY:Albertus Magnus vs. Norwich
DESCRIPTION:Removing Mount Ida May 2018 - 2018-19 Wbb Adding Colby Sawyer. - Great Northeast Athletic Conference
LOCATION:New Haven, CT
CATEGORIES:QuickScores, Basketball Game
TRANSP:OPAQUE
BEGIN:VALARM
TRIGGER:-PT2H
ACTION:DISPLAY
DESCRIPTION:Albertus Magnus vs. Norwich
END:VALARM
END:VEVENT
BEGIN:VEVENT
UID:gnac-35854768-20190205@quickscores.com
DTSTAMP:20260422T141400Z
DTSTART;TZID=America/New_York:20190205
SUMMARY:Saint Joseph CT vs. Albertus Magnus
DESCRIPTION:Removing Mount Ida May 2018 - 2018-19 Wbb Adding Colby Sawyer. - Great Northeast Athletic Conference
LOCATION:W. Hartford, CT
CATEGORIES:QuickScores, Basketball Game
TRANSP:OPAQUE
BEGIN:VALARM
TRIGGER:-PT2H
ACTION:DISPLAY
DESCRIPTION:Saint Joseph CT vs. Albertus Magnus
END:VALARM
END:VEVENT
BEGIN:VEVENT
UID:gnac-35854729-20190209@quickscores.com
DTSTAMP:20260422T141400Z
DTSTART;TZID=America/New_York:20190209
SUMMARY:Regis vs. Albertus Magnus
DESCRIPTION:Removing Mount Ida May 2018 - 2018-19 Wbb Adding Colby Sawyer. - Great Northeast Athletic Conference
LOCATION:Regis Weston MA
CATEGORIES:QuickScores, Basketball Game
TRANSP:OPAQUE
BEGIN:VALARM
TRIGGER:-PT2H
ACTION:DISPLAY
DESCRIPTION:Regis vs. Albertus Magnus
END:VALARM
END:VEVENT
BEGIN:VEVENT
UID:gnac-35854761-20190212@quickscores.com
DTSTAMP:20260422T141400Z
DTSTART;TZID=America/New_York:20190212
SUMMARY:Albertus Magnus vs. Johnson and Wales
DESCRIPTION:Removing Mount Ida May 2018 - 2018-19 Wbb Adding Colby Sawyer. - Great Northeast Athletic Conference
LOCATION:New Haven, CT
CATEGORIES:QuickScores, Basketball Game
TRANSP:OPAQUE
BEGIN:VALARM
TRIGGER:-PT2H
ACTION:DISPLAY
DESCRIPTION:Albertus Magnus vs. Johnson and Wales
END:VALARM
END:VEVENT
BEGIN:VEVENT
UID:gnac-35854772-20190216@quickscores.com
DTSTAMP:20260422T141400Z
DTSTART;TZID=America/New_York:20190216
SUMMARY:Albertus Magnus vs. Suffolk
DESCRIPTION:2019  DH w MBB --- Removing Mount Ida May 2018 - 2018-19 Wbb Adding Colby Sawyer. - Great Northeast Athletic Conference
LOCATION:New Haven, CT
CATEGORIES:QuickScores, Basketball Game
TRANSP:OPAQUE
BEGIN:VALARM
TRIGGER:-PT2H
ACTION:DISPLAY
DESCRIPTION:Albertus Magnus vs. Suffolk
END:VALARM
END:VEVENT
END:VCALENDAR
