BEGIN:VCALENDAR
VERSION:2.0
PRODID:-//QuickScores.com//BQ Dynamic iCal Creator//EN
METHOD:PUBLISH
X-WR-CALNAME:Simmons - 2018 Softball - Spring 2018
X-WR-CALDESC:QuickScores game calendar
X-PUBLISHED-TTL:PT24H
REFRESH-INTERVAL;VALUE=DURATION:PT24H
CALSCALE:GREGORIAN
BEGIN:VTIMEZONE
TZID:America/New_York
X-LIC-LOCATION:America/New_York
BEGIN:DAYLIGHT
TZNAME:EDT
TZOFFSETFROM:-0500
TZOFFSETTO:-0400
DTSTART:19700308T020000
RRULE:FREQ=YEARLY;BYMONTH=3;BYDAY=2SU
END:DAYLIGHT
BEGIN:STANDARD
TZNAME:EST
TZOFFSETFROM:-0400
TZOFFSETTO:-0500
DTSTART:19701101T020000
RRULE:FREQ=YEARLY;BYMONTH=11;BYDAY=1SU
END:STANDARD
END:VTIMEZONE
BEGIN:VEVENT
UID:gnac-32627078-20180324@quickscores.com
DTSTAMP:20260423T102200Z
DTSTART;TZID=America/New_York:20180324
SUMMARY:Simmons vs. Emmanuel
DESCRIPTION:2018 Softball - Great Northeast Athletic Conference
LOCATION:Daly Field Brighton
CATEGORIES:QuickScores, Softball Game
TRANSP:OPAQUE
BEGIN:VALARM
TRIGGER:-PT2H
ACTION:DISPLAY
DESCRIPTION:Simmons vs. Emmanuel
END:VALARM
END:VEVENT
BEGIN:VEVENT
UID:gnac-32627071-20180325@quickscores.com
DTSTAMP:20260423T102200Z
DTSTART;TZID=America/New_York:20180325
SUMMARY:Albertus Magnus vs. Simmons
DESCRIPTION:2018 Softball - Great Northeast Athletic Conference
LOCATION:New Haven, CT
CATEGORIES:QuickScores, Softball Game
TRANSP:OPAQUE
BEGIN:VALARM
TRIGGER:-PT2H
ACTION:DISPLAY
DESCRIPTION:Albertus Magnus vs. Simmons
END:VALARM
END:VEVENT
BEGIN:VEVENT
UID:gnac-32627039-20180331@quickscores.com
DTSTAMP:20260423T102200Z
DTSTART;TZID=America/New_York:20180331
SUMMARY:Simmons vs. Mount Ida
DESCRIPTION:2018 Softball - Great Northeast Athletic Conference
LOCATION:Daly Field Brighton
CATEGORIES:QuickScores, Softball Game
TRANSP:OPAQUE
BEGIN:VALARM
TRIGGER:-PT2H
ACTION:DISPLAY
DESCRIPTION:Simmons vs. Mount Ida
END:VALARM
END:VEVENT
BEGIN:VEVENT
UID:gnac-32627081-20180404@quickscores.com
DTSTAMP:20260423T102200Z
DTSTART;TZID=America/New_York:20180404
SUMMARY:Lasell vs. Simmons
DESCRIPTION:2018 Softball - Great Northeast Athletic Conference
LOCATION:Taylor Field at Lasell College
CATEGORIES:QuickScores, Softball Game
TRANSP:OPAQUE
BEGIN:VALARM
TRIGGER:-PT2H
ACTION:DISPLAY
DESCRIPTION:Lasell vs. Simmons
END:VALARM
END:VEVENT
BEGIN:VEVENT
UID:gnac-32627107-20180407@quickscores.com
DTSTAMP:20260423T102200Z
DTSTART;TZID=America/New_York:20180407
SUMMARY:Regis vs. Simmons
DESCRIPTION:2018 Softball - Great Northeast Athletic Conference
LOCATION:Regis Weston MA
CATEGORIES:QuickScores, Softball Game
TRANSP:OPAQUE
BEGIN:VALARM
TRIGGER:-PT2H
ACTION:DISPLAY
DESCRIPTION:Regis vs. Simmons
END:VALARM
END:VEVENT
BEGIN:VEVENT
UID:gnac-32627077-20180408@quickscores.com
DTSTAMP:20260423T102200Z
DTSTART;TZID=America/New_York:20180408
SUMMARY:Simmons vs. Saint Joseph's ME
DESCRIPTION:2018 Softball - Great Northeast Athletic Conference
LOCATION:Daly Field Brighton
CATEGORIES:QuickScores, Softball Game
TRANSP:OPAQUE
BEGIN:VALARM
TRIGGER:-PT2H
ACTION:DISPLAY
DESCRIPTION:Simmons vs. Saint Joseph's ME
END:VALARM
END:VEVENT
BEGIN:VEVENT
UID:gnac-32627066-20180410@quickscores.com
DTSTAMP:20260423T102200Z
DTSTART;TZID=America/New_York:20180410
SUMMARY:Simmons vs. Norwich
DESCRIPTION:2018 DH w WLAX at Daly Field --- 2018 Softball - Great Northeast Athletic Conference
LOCATION:Daly Field Brighton
CATEGORIES:QuickScores, Softball Game
TRANSP:OPAQUE
BEGIN:VALARM
TRIGGER:-PT2H
ACTION:DISPLAY
DESCRIPTION:Simmons vs. Norwich
END:VALARM
END:VEVENT
BEGIN:VEVENT
UID:gnac-32627085-20180415@quickscores.com
DTSTAMP:20260423T102200Z
DTSTART;TZID=America/New_York:20180415
SUMMARY:Simmons vs. Rivier
DESCRIPTION:2018 Softball - Great Northeast Athletic Conference
LOCATION:Daly Field Brighton
CATEGORIES:QuickScores, Softball Game
TRANSP:OPAQUE
BEGIN:VALARM
TRIGGER:-PT2H
ACTION:DISPLAY
DESCRIPTION:Simmons vs. Rivier
END:VALARM
END:VEVENT
BEGIN:VEVENT
UID:gnac-32627026-20180421@quickscores.com
DTSTAMP:20260423T102200Z
DTSTART;TZID=America/New_York:20180421
SUMMARY:Johnson & Wales vs. Simmons
DESCRIPTION:2018 Softball - Great Northeast Athletic Conference
LOCATION:Scotts Miracle Gro Athletic Complex
CATEGORIES:QuickScores, Softball Game
TRANSP:OPAQUE
BEGIN:VALARM
TRIGGER:-PT2H
ACTION:DISPLAY
DESCRIPTION:Johnson & Wales vs. Simmons
END:VALARM
END:VEVENT
BEGIN:VEVENT
UID:gnac-32627072-20180422@quickscores.com
DTSTAMP:20260423T102200Z
DTSTART;TZID=America/New_York:20180422
SUMMARY:Saint Joseph CT vs. Simmons
DESCRIPTION:2018 Softball - Great Northeast Athletic Conference
LOCATION:W. Hartford, CT
CATEGORIES:QuickScores, Softball Game
TRANSP:OPAQUE
BEGIN:VALARM
TRIGGER:-PT2H
ACTION:DISPLAY
DESCRIPTION:Saint Joseph CT vs. Simmons
END:VALARM
END:VEVENT
BEGIN:VEVENT
UID:gnac-32627031-20180425@quickscores.com
DTSTAMP:20260423T102200Z
DTSTART;TZID=America/New_York:20180425
SUMMARY:Simmons vs. Suffolk
DESCRIPTION:2018 Softball - Great Northeast Athletic Conference
LOCATION:Daly Field Brighton
CATEGORIES:QuickScores, Softball Game
TRANSP:OPAQUE
BEGIN:VALARM
TRIGGER:-PT2H
ACTION:DISPLAY
DESCRIPTION:Simmons vs. Suffolk
END:VALARM
END:VEVENT
BEGIN:VEVENT
UID:gnac-32627053-20180428@quickscores.com
DTSTAMP:20260423T102200Z
DTSTART;TZID=America/New_York:20180428
SUMMARY:Anna Maria vs. Simmons
DESCRIPTION:2018 Softball - Great Northeast Athletic Conference
LOCATION:Paxton MA
CATEGORIES:QuickScores, Softball Game
TRANSP:OPAQUE
BEGIN:VALARM
TRIGGER:-PT2H
ACTION:DISPLAY
DESCRIPTION:Anna Maria vs. Simmons
END:VALARM
END:VEVENT
END:VCALENDAR
