BEGIN:VCALENDAR
VERSION:2.0
PRODID:-//QuickScores.com//BQ Dynamic iCal Creator//EN
METHOD:PUBLISH
X-WR-CALNAME:Saint Joseph&#039;s ME - 2018 Softball - Spring 2018
X-WR-CALDESC:QuickScores game calendar
X-PUBLISHED-TTL:PT24H
REFRESH-INTERVAL;VALUE=DURATION:PT24H
CALSCALE:GREGORIAN
BEGIN:VTIMEZONE
TZID:America/New_York
X-LIC-LOCATION:America/New_York
BEGIN:DAYLIGHT
TZNAME:EDT
TZOFFSETFROM:-0500
TZOFFSETTO:-0400
DTSTART:19700308T020000
RRULE:FREQ=YEARLY;BYMONTH=3;BYDAY=2SU
END:DAYLIGHT
BEGIN:STANDARD
TZNAME:EST
TZOFFSETFROM:-0400
TZOFFSETTO:-0500
DTSTART:19701101T020000
RRULE:FREQ=YEARLY;BYMONTH=11;BYDAY=1SU
END:STANDARD
END:VTIMEZONE
BEGIN:VEVENT
UID:gnac-32627069-20180324@quickscores.com
DTSTAMP:20260422T092300Z
DTSTART;TZID=America/New_York:20180324
SUMMARY:Lasell vs. Saint Joseph's ME
DESCRIPTION:2018 Softball - Great Northeast Athletic Conference
LOCATION:Taylor Field at Lasell College
CATEGORIES:QuickScores, Softball Game
TRANSP:OPAQUE
BEGIN:VALARM
TRIGGER:-PT2H
ACTION:DISPLAY
DESCRIPTION:Lasell vs. Saint Joseph's ME
END:VALARM
END:VEVENT
BEGIN:VEVENT
UID:gnac-32627040-20180325@quickscores.com
DTSTAMP:20260422T092300Z
DTSTART;TZID=America/New_York:20180325
SUMMARY:Saint Joseph's ME vs. Mount Ida
DESCRIPTION:2018 Softball - Great Northeast Athletic Conference
LOCATION:Standish ME
CATEGORIES:QuickScores, Softball Game
TRANSP:OPAQUE
BEGIN:VALARM
TRIGGER:-PT2H
ACTION:DISPLAY
DESCRIPTION:Saint Joseph's ME vs. Mount Ida
END:VALARM
END:VEVENT
BEGIN:VEVENT
UID:gnac-32627070-20180331@quickscores.com
DTSTAMP:20260422T092300Z
DTSTART;TZID=America/New_York:20180331
SUMMARY:Saint Joseph's ME vs. Johnson & Wales
DESCRIPTION:2018 JWU can share a bus w WLAX --- 2018 Softball - Great Northeast Athletic Conference
LOCATION:Standish ME
CATEGORIES:QuickScores, Softball Game
TRANSP:OPAQUE
BEGIN:VALARM
TRIGGER:-PT2H
ACTION:DISPLAY
DESCRIPTION:Saint Joseph's ME vs. Johnson & Wales
END:VALARM
END:VEVENT
BEGIN:VEVENT
UID:gnac-32627055-20180404@quickscores.com
DTSTAMP:20260422T092300Z
DTSTART;TZID=America/New_York:20180404
SUMMARY:Suffolk vs. Saint Joseph's ME
DESCRIPTION:2018 Softball - Great Northeast Athletic Conference
LOCATION:East Boston Memorial Field
CATEGORIES:QuickScores, Softball Game
TRANSP:OPAQUE
BEGIN:VALARM
TRIGGER:-PT2H
ACTION:DISPLAY
DESCRIPTION:Suffolk vs. Saint Joseph's ME
END:VALARM
END:VEVENT
BEGIN:VEVENT
UID:gnac-32627019-20180407@quickscores.com
DTSTAMP:20260422T092300Z
DTSTART;TZID=America/New_York:20180407
SUMMARY:Saint Joseph's ME vs. Norwich
DESCRIPTION:2018 NOR can share a bus w WLAX --- 2018 Softball - Great Northeast Athletic Conference
LOCATION:Standish ME
CATEGORIES:QuickScores, Softball Game
TRANSP:OPAQUE
BEGIN:VALARM
TRIGGER:-PT2H
ACTION:DISPLAY
DESCRIPTION:Saint Joseph's ME vs. Norwich
END:VALARM
END:VEVENT
BEGIN:VEVENT
UID:gnac-32627077-20180408@quickscores.com
DTSTAMP:20260422T092300Z
DTSTART;TZID=America/New_York:20180408
SUMMARY:Simmons vs. Saint Joseph's ME
DESCRIPTION:2018 Softball - Great Northeast Athletic Conference
LOCATION:Daly Field Brighton
CATEGORIES:QuickScores, Softball Game
TRANSP:OPAQUE
BEGIN:VALARM
TRIGGER:-PT2H
ACTION:DISPLAY
DESCRIPTION:Simmons vs. Saint Joseph's ME
END:VALARM
END:VEVENT
BEGIN:VEVENT
UID:gnac-32627025-20180414@quickscores.com
DTSTAMP:20260422T092300Z
DTSTART;TZID=America/New_York:20180414
SUMMARY:Anna Maria vs. Saint Joseph's ME
DESCRIPTION:2018 Softball - Great Northeast Athletic Conference
LOCATION:Paxton MA
CATEGORIES:QuickScores, Softball Game
TRANSP:OPAQUE
BEGIN:VALARM
TRIGGER:-PT2H
ACTION:DISPLAY
DESCRIPTION:Anna Maria vs. Saint Joseph's ME
END:VALARM
END:VEVENT
BEGIN:VEVENT
UID:gnac-32627051-20180415@quickscores.com
DTSTAMP:20260422T092300Z
DTSTART;TZID=America/New_York:20180415
SUMMARY:Saint Joseph's ME vs. Albertus Magnus
DESCRIPTION:2018 ALB can share a bus with Baseball --- 2018 Softball - Great Northeast Athletic Conference
LOCATION:Standish ME
CATEGORIES:QuickScores, Softball Game
TRANSP:OPAQUE
BEGIN:VALARM
TRIGGER:-PT2H
ACTION:DISPLAY
DESCRIPTION:Saint Joseph's ME vs. Albertus Magnus
END:VALARM
END:VEVENT
BEGIN:VEVENT
UID:gnac-32627029-20180418@quickscores.com
DTSTAMP:20260422T092300Z
DTSTART;TZID=America/New_York:20180418
SUMMARY:Emmanuel vs. Saint Joseph's ME
DESCRIPTION:2018 Softball - Great Northeast Athletic Conference
LOCATION:Roberto Clemente Field
CATEGORIES:QuickScores, Softball Game
TRANSP:OPAQUE
BEGIN:VALARM
TRIGGER:-PT2H
ACTION:DISPLAY
DESCRIPTION:Emmanuel vs. Saint Joseph's ME
END:VALARM
END:VEVENT
BEGIN:VEVENT
UID:gnac-32627062-20180421@quickscores.com
DTSTAMP:20260422T092300Z
DTSTART;TZID=America/New_York:20180421
SUMMARY:Rivier vs. Saint Joseph's ME
DESCRIPTION:2018 STJME can share a bus w WLAX --- 2018 Softball - Great Northeast Athletic Conference
LOCATION:Nashua, NH
CATEGORIES:QuickScores, Softball Game
TRANSP:OPAQUE
BEGIN:VALARM
TRIGGER:-PT2H
ACTION:DISPLAY
DESCRIPTION:Rivier vs. Saint Joseph's ME
END:VALARM
END:VEVENT
BEGIN:VEVENT
UID:gnac-32627109-20180422@quickscores.com
DTSTAMP:20260422T092300Z
DTSTART;TZID=America/New_York:20180422
SUMMARY:Saint Joseph's ME vs. Regis
DESCRIPTION:2018 Softball - Great Northeast Athletic Conference
LOCATION:Standish ME
CATEGORIES:QuickScores, Softball Game
TRANSP:OPAQUE
BEGIN:VALARM
TRIGGER:-PT2H
ACTION:DISPLAY
DESCRIPTION:Saint Joseph's ME vs. Regis
END:VALARM
END:VEVENT
BEGIN:VEVENT
UID:gnac-32627065-20180428@quickscores.com
DTSTAMP:20260422T092300Z
DTSTART;TZID=America/New_York:20180428
SUMMARY:Saint Joseph's ME vs. Saint Joseph CT
DESCRIPTION:NODHP --- 2018 Softball - Great Northeast Athletic Conference
LOCATION:Standish ME
CATEGORIES:QuickScores, Softball Game
TRANSP:OPAQUE
BEGIN:VALARM
TRIGGER:-PT2H
ACTION:DISPLAY
DESCRIPTION:Saint Joseph's ME vs. Saint Joseph CT
END:VALARM
END:VEVENT
END:VCALENDAR
