BEGIN:VCALENDAR
VERSION:2.0
PRODID:-//QuickScores.com//BQ Dynamic iCal Creator//EN
METHOD:PUBLISH
X-WR-CALNAME:Regis - 2018 Softball - Spring 2018
X-WR-CALDESC:QuickScores game calendar
X-PUBLISHED-TTL:PT24H
REFRESH-INTERVAL;VALUE=DURATION:PT24H
CALSCALE:GREGORIAN
BEGIN:VTIMEZONE
TZID:America/New_York
X-LIC-LOCATION:America/New_York
BEGIN:DAYLIGHT
TZNAME:EDT
TZOFFSETFROM:-0500
TZOFFSETTO:-0400
DTSTART:19700308T020000
RRULE:FREQ=YEARLY;BYMONTH=3;BYDAY=2SU
END:DAYLIGHT
BEGIN:STANDARD
TZNAME:EST
TZOFFSETFROM:-0400
TZOFFSETTO:-0500
DTSTART:19701101T020000
RRULE:FREQ=YEARLY;BYMONTH=11;BYDAY=1SU
END:STANDARD
END:VTIMEZONE
BEGIN:VEVENT
UID:gnac-32627110-20180325@quickscores.com
DTSTAMP:20260420T000200Z
DTSTART;TZID=America/New_York:20180325
SUMMARY:Saint Joseph CT vs. Regis
DESCRIPTION:2018 Softball - Great Northeast Athletic Conference
LOCATION:W. Hartford, CT
CATEGORIES:QuickScores, Softball Game
TRANSP:OPAQUE
BEGIN:VALARM
TRIGGER:-PT2H
ACTION:DISPLAY
DESCRIPTION:Saint Joseph CT vs. Regis
END:VALARM
END:VEVENT
BEGIN:VEVENT
UID:gnac-32627112-20180404@quickscores.com
DTSTAMP:20260420T000200Z
DTSTART;TZID=America/New_York:20180404
SUMMARY:Johnson & Wales vs. Regis
DESCRIPTION:2018 Softball - Great Northeast Athletic Conference
LOCATION:Scotts Miracle Gro Athletic Complex
CATEGORIES:QuickScores, Softball Game
TRANSP:OPAQUE
BEGIN:VALARM
TRIGGER:-PT2H
ACTION:DISPLAY
DESCRIPTION:Johnson & Wales vs. Regis
END:VALARM
END:VEVENT
BEGIN:VEVENT
UID:gnac-32627107-20180407@quickscores.com
DTSTAMP:20260420T000200Z
DTSTART;TZID=America/New_York:20180407
SUMMARY:Regis vs. Simmons
DESCRIPTION:2018 Softball - Great Northeast Athletic Conference
LOCATION:Regis Weston MA
CATEGORIES:QuickScores, Softball Game
TRANSP:OPAQUE
BEGIN:VALARM
TRIGGER:-PT2H
ACTION:DISPLAY
DESCRIPTION:Regis vs. Simmons
END:VALARM
END:VEVENT
BEGIN:VEVENT
UID:gnac-32627108-20180408@quickscores.com
DTSTAMP:20260420T000200Z
DTSTART;TZID=America/New_York:20180408
SUMMARY:Albertus Magnus vs. Regis
DESCRIPTION:2018 Softball - Great Northeast Athletic Conference
LOCATION:New Haven, CT
CATEGORIES:QuickScores, Softball Game
TRANSP:OPAQUE
BEGIN:VALARM
TRIGGER:-PT2H
ACTION:DISPLAY
DESCRIPTION:Albertus Magnus vs. Regis
END:VALARM
END:VEVENT
BEGIN:VEVENT
UID:gnac-32627113-20180411@quickscores.com
DTSTAMP:20260420T000200Z
DTSTART;TZID=America/New_York:20180411
SUMMARY:Suffolk vs. Regis
DESCRIPTION:2018 Softball - Great Northeast Athletic Conference
LOCATION:East Boston Memorial Field
CATEGORIES:QuickScores, Softball Game
TRANSP:OPAQUE
BEGIN:VALARM
TRIGGER:-PT2H
ACTION:DISPLAY
DESCRIPTION:Suffolk vs. Regis
END:VALARM
END:VEVENT
BEGIN:VEVENT
UID:gnac-32627104-20180414@quickscores.com
DTSTAMP:20260420T000200Z
DTSTART;TZID=America/New_York:20180414
SUMMARY:Regis vs. Mount Ida
DESCRIPTION:2018 Softball - Great Northeast Athletic Conference
LOCATION:Regis Weston MA
CATEGORIES:QuickScores, Softball Game
TRANSP:OPAQUE
BEGIN:VALARM
TRIGGER:-PT2H
ACTION:DISPLAY
DESCRIPTION:Regis vs. Mount Ida
END:VALARM
END:VEVENT
BEGIN:VEVENT
UID:gnac-32627111-20180415@quickscores.com
DTSTAMP:20260420T000200Z
DTSTART;TZID=America/New_York:20180415
SUMMARY:Emmanuel vs. Regis
DESCRIPTION:2018 Softball - Great Northeast Athletic Conference
LOCATION:Roberto Clemente Field
CATEGORIES:QuickScores, Softball Game
TRANSP:OPAQUE
BEGIN:VALARM
TRIGGER:-PT2H
ACTION:DISPLAY
DESCRIPTION:Emmanuel vs. Regis
END:VALARM
END:VEVENT
BEGIN:VEVENT
UID:gnac-32627106-20180418@quickscores.com
DTSTAMP:20260420T000200Z
DTSTART;TZID=America/New_York:20180418
SUMMARY:Regis vs. Rivier
DESCRIPTION:2018 Softball - Great Northeast Athletic Conference
LOCATION:Regis Weston MA
CATEGORIES:QuickScores, Softball Game
TRANSP:OPAQUE
BEGIN:VALARM
TRIGGER:-PT2H
ACTION:DISPLAY
DESCRIPTION:Regis vs. Rivier
END:VALARM
END:VEVENT
BEGIN:VEVENT
UID:gnac-32627102-20180421@quickscores.com
DTSTAMP:20260420T000200Z
DTSTART;TZID=America/New_York:20180421
SUMMARY:Regis vs. Anna Maria
DESCRIPTION:2018 Softball - Great Northeast Athletic Conference
LOCATION:Regis Weston MA
CATEGORIES:QuickScores, Softball Game
TRANSP:OPAQUE
BEGIN:VALARM
TRIGGER:-PT2H
ACTION:DISPLAY
DESCRIPTION:Regis vs. Anna Maria
END:VALARM
END:VEVENT
BEGIN:VEVENT
UID:gnac-32627109-20180422@quickscores.com
DTSTAMP:20260420T000200Z
DTSTART;TZID=America/New_York:20180422
SUMMARY:Saint Joseph's ME vs. Regis
DESCRIPTION:2018 Softball - Great Northeast Athletic Conference
LOCATION:Standish ME
CATEGORIES:QuickScores, Softball Game
TRANSP:OPAQUE
BEGIN:VALARM
TRIGGER:-PT2H
ACTION:DISPLAY
DESCRIPTION:Saint Joseph's ME vs. Regis
END:VALARM
END:VEVENT
BEGIN:VEVENT
UID:gnac-32627105-20180425@quickscores.com
DTSTAMP:20260420T000200Z
DTSTART;TZID=America/New_York:20180425
SUMMARY:Regis vs. Norwich
DESCRIPTION:2018 Softball - Great Northeast Athletic Conference
LOCATION:Regis Weston MA
CATEGORIES:QuickScores, Softball Game
TRANSP:OPAQUE
BEGIN:VALARM
TRIGGER:-PT2H
ACTION:DISPLAY
DESCRIPTION:Regis vs. Norwich
END:VALARM
END:VEVENT
BEGIN:VEVENT
UID:gnac-32627103-20180428@quickscores.com
DTSTAMP:20260420T000200Z
DTSTART;TZID=America/New_York:20180428
SUMMARY:Regis vs. Lasell
DESCRIPTION:2018 Softball - Great Northeast Athletic Conference
LOCATION:Regis Weston MA
CATEGORIES:QuickScores, Softball Game
TRANSP:OPAQUE
BEGIN:VALARM
TRIGGER:-PT2H
ACTION:DISPLAY
DESCRIPTION:Regis vs. Lasell
END:VALARM
END:VEVENT
END:VCALENDAR
