BEGIN:VCALENDAR
VERSION:2.0
PRODID:-//QuickScores.com//BQ Dynamic iCal Creator//EN
METHOD:PUBLISH
X-WR-CALNAME:Norwich - 2018 Softball - Spring 2018
X-WR-CALDESC:QuickScores game calendar
X-PUBLISHED-TTL:PT24H
REFRESH-INTERVAL;VALUE=DURATION:PT24H
CALSCALE:GREGORIAN
BEGIN:VTIMEZONE
TZID:America/New_York
X-LIC-LOCATION:America/New_York
BEGIN:DAYLIGHT
TZNAME:EDT
TZOFFSETFROM:-0500
TZOFFSETTO:-0400
DTSTART:19700308T020000
RRULE:FREQ=YEARLY;BYMONTH=3;BYDAY=2SU
END:DAYLIGHT
BEGIN:STANDARD
TZNAME:EST
TZOFFSETFROM:-0400
TZOFFSETTO:-0500
DTSTART:19701101T020000
RRULE:FREQ=YEARLY;BYMONTH=11;BYDAY=1SU
END:STANDARD
END:VTIMEZONE
BEGIN:VEVENT
UID:gnac-32627079-20180324@quickscores.com
DTSTAMP:20260424T045800Z
DTSTART;TZID=America/New_York:20180324
SUMMARY:Saint Joseph CT vs. Norwich
DESCRIPTION:2018 Softball - Great Northeast Athletic Conference
LOCATION:W. Hartford, CT
CATEGORIES:QuickScores, Softball Game
TRANSP:OPAQUE
BEGIN:VALARM
TRIGGER:-PT2H
ACTION:DISPLAY
DESCRIPTION:Saint Joseph CT vs. Norwich
END:VALARM
END:VEVENT
BEGIN:VEVENT
UID:gnac-32627024-20180325@quickscores.com
DTSTAMP:20260424T045800Z
DTSTART;TZID=America/New_York:20180325
SUMMARY:Emmanuel vs. Norwich
DESCRIPTION:2018 Softball - Great Northeast Athletic Conference
LOCATION:Roberto Clemente Field
CATEGORIES:QuickScores, Softball Game
TRANSP:OPAQUE
BEGIN:VALARM
TRIGGER:-PT2H
ACTION:DISPLAY
DESCRIPTION:Emmanuel vs. Norwich
END:VALARM
END:VEVENT
BEGIN:VEVENT
UID:gnac-32627032-20180331@quickscores.com
DTSTAMP:20260424T045800Z
DTSTART;TZID=America/New_York:20180331
SUMMARY:Norwich vs. Rivier
DESCRIPTION:2018 RIV can share a bus w WLAX --- 2018 Softball - Great Northeast Athletic Conference
LOCATION:Northfield, VT
CATEGORIES:QuickScores, Softball Game
TRANSP:OPAQUE
BEGIN:VALARM
TRIGGER:-PT2H
ACTION:DISPLAY
DESCRIPTION:Norwich vs. Rivier
END:VALARM
END:VEVENT
BEGIN:VEVENT
UID:gnac-32627019-20180407@quickscores.com
DTSTAMP:20260424T045800Z
DTSTART;TZID=America/New_York:20180407
SUMMARY:Saint Joseph's ME vs. Norwich
DESCRIPTION:2018 NOR can share a bus w WLAX --- 2018 Softball - Great Northeast Athletic Conference
LOCATION:Standish ME
CATEGORIES:QuickScores, Softball Game
TRANSP:OPAQUE
BEGIN:VALARM
TRIGGER:-PT2H
ACTION:DISPLAY
DESCRIPTION:Saint Joseph's ME vs. Norwich
END:VALARM
END:VEVENT
BEGIN:VEVENT
UID:gnac-32627028-20180408@quickscores.com
DTSTAMP:20260424T045800Z
DTSTART;TZID=America/New_York:20180408
SUMMARY:Norwich vs. Suffolk
DESCRIPTION:2018 Softball - Great Northeast Athletic Conference
LOCATION:Northfield, VT
CATEGORIES:QuickScores, Softball Game
TRANSP:OPAQUE
BEGIN:VALARM
TRIGGER:-PT2H
ACTION:DISPLAY
DESCRIPTION:Norwich vs. Suffolk
END:VALARM
END:VEVENT
BEGIN:VEVENT
UID:gnac-32627066-20180410@quickscores.com
DTSTAMP:20260424T045800Z
DTSTART;TZID=America/New_York:20180410
SUMMARY:Simmons vs. Norwich
DESCRIPTION:2018 DH w WLAX at Daly Field --- 2018 Softball - Great Northeast Athletic Conference
LOCATION:Daly Field Brighton
CATEGORIES:QuickScores, Softball Game
TRANSP:OPAQUE
BEGIN:VALARM
TRIGGER:-PT2H
ACTION:DISPLAY
DESCRIPTION:Simmons vs. Norwich
END:VALARM
END:VEVENT
BEGIN:VEVENT
UID:gnac-32627056-20180414@quickscores.com
DTSTAMP:20260424T045800Z
DTSTART;TZID=America/New_York:20180414
SUMMARY:Norwich vs. Lasell
DESCRIPTION:2018 LAS can share a bus with WLAX --- 2018 Softball - Great Northeast Athletic Conference
LOCATION:Northfield, VT
CATEGORIES:QuickScores, Softball Game
TRANSP:OPAQUE
BEGIN:VALARM
TRIGGER:-PT2H
ACTION:DISPLAY
DESCRIPTION:Norwich vs. Lasell
END:VALARM
END:VEVENT
BEGIN:VEVENT
UID:gnac-32627038-20180415@quickscores.com
DTSTAMP:20260424T045800Z
DTSTART;TZID=America/New_York:20180415
SUMMARY:Norwich vs. Anna Maria
DESCRIPTION:2018 Softball - Great Northeast Athletic Conference
LOCATION:Northfield, VT
CATEGORIES:QuickScores, Softball Game
TRANSP:OPAQUE
BEGIN:VALARM
TRIGGER:-PT2H
ACTION:DISPLAY
DESCRIPTION:Norwich vs. Anna Maria
END:VALARM
END:VEVENT
BEGIN:VEVENT
UID:gnac-32627076-20180421@quickscores.com
DTSTAMP:20260424T045800Z
DTSTART;TZID=America/New_York:20180421
SUMMARY:Norwich vs. Albertus Magnus
DESCRIPTION:2018 NOR Jr. Ring Ceremony. 2018AMC can share a bus w WLAX --- 2018 Softball - Great Northeast Athletic Conference
LOCATION:Northfield, VT
CATEGORIES:QuickScores, Softball Game
TRANSP:OPAQUE
BEGIN:VALARM
TRIGGER:-PT2H
ACTION:DISPLAY
DESCRIPTION:Norwich vs. Albertus Magnus
END:VALARM
END:VEVENT
BEGIN:VEVENT
UID:gnac-32627094-20180422@quickscores.com
DTSTAMP:20260424T045800Z
DTSTART;TZID=America/New_York:20180422
SUMMARY:Norwich vs. Johnson & Wales
DESCRIPTION:2018 Softball - Great Northeast Athletic Conference
LOCATION:Northfield, VT
CATEGORIES:QuickScores, Softball Game
TRANSP:OPAQUE
BEGIN:VALARM
TRIGGER:-PT2H
ACTION:DISPLAY
DESCRIPTION:Norwich vs. Johnson & Wales
END:VALARM
END:VEVENT
BEGIN:VEVENT
UID:gnac-32627105-20180425@quickscores.com
DTSTAMP:20260424T045800Z
DTSTART;TZID=America/New_York:20180425
SUMMARY:Regis vs. Norwich
DESCRIPTION:2018 Softball - Great Northeast Athletic Conference
LOCATION:Regis Weston MA
CATEGORIES:QuickScores, Softball Game
TRANSP:OPAQUE
BEGIN:VALARM
TRIGGER:-PT2H
ACTION:DISPLAY
DESCRIPTION:Regis vs. Norwich
END:VALARM
END:VEVENT
BEGIN:VEVENT
UID:gnac-32627068-20180428@quickscores.com
DTSTAMP:20260424T045800Z
DTSTART;TZID=America/New_York:20180428
SUMMARY:Mount Ida vs. Norwich
DESCRIPTION:2018 Softball - Great Northeast Athletic Conference
LOCATION:Mount Ida
CATEGORIES:QuickScores, Softball Game
TRANSP:OPAQUE
BEGIN:VALARM
TRIGGER:-PT2H
ACTION:DISPLAY
DESCRIPTION:Mount Ida vs. Norwich
END:VALARM
END:VEVENT
END:VCALENDAR
