BEGIN:VCALENDAR
VERSION:2.0
PRODID:-//QuickScores.com//BQ Dynamic iCal Creator//EN
METHOD:PUBLISH
X-WR-CALNAME:Mount Ida - 2018 Softball - Spring 2018
X-WR-CALDESC:QuickScores game calendar
X-PUBLISHED-TTL:PT24H
REFRESH-INTERVAL;VALUE=DURATION:PT24H
CALSCALE:GREGORIAN
BEGIN:VTIMEZONE
TZID:America/New_York
X-LIC-LOCATION:America/New_York
BEGIN:DAYLIGHT
TZNAME:EDT
TZOFFSETFROM:-0500
TZOFFSETTO:-0400
DTSTART:19700308T020000
RRULE:FREQ=YEARLY;BYMONTH=3;BYDAY=2SU
END:DAYLIGHT
BEGIN:STANDARD
TZNAME:EST
TZOFFSETFROM:-0400
TZOFFSETTO:-0500
DTSTART:19701101T020000
RRULE:FREQ=YEARLY;BYMONTH=11;BYDAY=1SU
END:STANDARD
END:VTIMEZONE
BEGIN:VEVENT
UID:gnac-32627052-20180324@quickscores.com
DTSTAMP:20260420T033200Z
DTSTART;TZID=America/New_York:20180324
SUMMARY:Mount Ida vs. Albertus Magnus
DESCRIPTION:2018 ALB can share a bus w MLAX --- 2018 Softball - Great Northeast Athletic Conference
LOCATION:Mount Ida
CATEGORIES:QuickScores, Softball Game
TRANSP:OPAQUE
BEGIN:VALARM
TRIGGER:-PT2H
ACTION:DISPLAY
DESCRIPTION:Mount Ida vs. Albertus Magnus
END:VALARM
END:VEVENT
BEGIN:VEVENT
UID:gnac-32627040-20180325@quickscores.com
DTSTAMP:20260420T033200Z
DTSTART;TZID=America/New_York:20180325
SUMMARY:Saint Joseph's ME vs. Mount Ida
DESCRIPTION:2018 Softball - Great Northeast Athletic Conference
LOCATION:Standish ME
CATEGORIES:QuickScores, Softball Game
TRANSP:OPAQUE
BEGIN:VALARM
TRIGGER:-PT2H
ACTION:DISPLAY
DESCRIPTION:Saint Joseph's ME vs. Mount Ida
END:VALARM
END:VEVENT
BEGIN:VEVENT
UID:gnac-32627039-20180331@quickscores.com
DTSTAMP:20260420T033200Z
DTSTART;TZID=America/New_York:20180331
SUMMARY:Simmons vs. Mount Ida
DESCRIPTION:2018 Softball - Great Northeast Athletic Conference
LOCATION:Daly Field Brighton
CATEGORIES:QuickScores, Softball Game
TRANSP:OPAQUE
BEGIN:VALARM
TRIGGER:-PT2H
ACTION:DISPLAY
DESCRIPTION:Simmons vs. Mount Ida
END:VALARM
END:VEVENT
BEGIN:VEVENT
UID:gnac-32627092-20180404@quickscores.com
DTSTAMP:20260420T033200Z
DTSTART;TZID=America/New_York:20180404
SUMMARY:Rivier vs. Mount Ida
DESCRIPTION:2018 Softball - Great Northeast Athletic Conference
LOCATION:Nashua, NH
CATEGORIES:QuickScores, Softball Game
TRANSP:OPAQUE
BEGIN:VALARM
TRIGGER:-PT2H
ACTION:DISPLAY
DESCRIPTION:Rivier vs. Mount Ida
END:VALARM
END:VEVENT
BEGIN:VEVENT
UID:gnac-32627046-20180407@quickscores.com
DTSTAMP:20260420T033200Z
DTSTART;TZID=America/New_York:20180407
SUMMARY:Mount Ida vs. Anna Maria
DESCRIPTION:2018 Anna Maria can share a bus wMLAX going to Regis --- 2018 Softball - Great Northeast Athletic Conference
LOCATION:Mount Ida
CATEGORIES:QuickScores, Softball Game
TRANSP:OPAQUE
BEGIN:VALARM
TRIGGER:-PT2H
ACTION:DISPLAY
DESCRIPTION:Mount Ida vs. Anna Maria
END:VALARM
END:VEVENT
BEGIN:VEVENT
UID:gnac-32627082-20180408@quickscores.com
DTSTAMP:20260420T033200Z
DTSTART;TZID=America/New_York:20180408
SUMMARY:Mount Ida vs. Saint Joseph CT
DESCRIPTION:2018 Softball - Great Northeast Athletic Conference
LOCATION:Mount Ida
CATEGORIES:QuickScores, Softball Game
TRANSP:OPAQUE
BEGIN:VALARM
TRIGGER:-PT2H
ACTION:DISPLAY
DESCRIPTION:Mount Ida vs. Saint Joseph CT
END:VALARM
END:VEVENT
BEGIN:VEVENT
UID:gnac-32627104-20180414@quickscores.com
DTSTAMP:20260420T033200Z
DTSTART;TZID=America/New_York:20180414
SUMMARY:Regis vs. Mount Ida
DESCRIPTION:2018 Softball - Great Northeast Athletic Conference
LOCATION:Regis Weston MA
CATEGORIES:QuickScores, Softball Game
TRANSP:OPAQUE
BEGIN:VALARM
TRIGGER:-PT2H
ACTION:DISPLAY
DESCRIPTION:Regis vs. Mount Ida
END:VALARM
END:VEVENT
BEGIN:VEVENT
UID:gnac-32627048-20180415@quickscores.com
DTSTAMP:20260420T033200Z
DTSTART;TZID=America/New_York:20180415
SUMMARY:Mount Ida vs. Lasell
DESCRIPTION:2018 Softball - Great Northeast Athletic Conference
LOCATION:Mount Ida
CATEGORIES:QuickScores, Softball Game
TRANSP:OPAQUE
BEGIN:VALARM
TRIGGER:-PT2H
ACTION:DISPLAY
DESCRIPTION:Mount Ida vs. Lasell
END:VALARM
END:VEVENT
BEGIN:VEVENT
UID:gnac-32627064-20180418@quickscores.com
DTSTAMP:20260420T033200Z
DTSTART;TZID=America/New_York:20180418
SUMMARY:Johnson & Wales vs. Mount Ida
DESCRIPTION:2018 Softball - Great Northeast Athletic Conference
LOCATION:Scotts Miracle Gro Athletic Complex
CATEGORIES:QuickScores, Softball Game
TRANSP:OPAQUE
BEGIN:VALARM
TRIGGER:-PT2H
ACTION:DISPLAY
DESCRIPTION:Johnson & Wales vs. Mount Ida
END:VALARM
END:VEVENT
BEGIN:VEVENT
UID:gnac-32627091-20180421@quickscores.com
DTSTAMP:20260420T033200Z
DTSTART;TZID=America/New_York:20180421
SUMMARY:Mount Ida vs. Suffolk
DESCRIPTION:2018 Softball - Great Northeast Athletic Conference
LOCATION:Mount Ida
CATEGORIES:QuickScores, Softball Game
TRANSP:OPAQUE
BEGIN:VALARM
TRIGGER:-PT2H
ACTION:DISPLAY
DESCRIPTION:Mount Ida vs. Suffolk
END:VALARM
END:VEVENT
BEGIN:VEVENT
UID:gnac-32627057-20180425@quickscores.com
DTSTAMP:20260420T033200Z
DTSTART;TZID=America/New_York:20180425
SUMMARY:Emmanuel vs. Mount Ida
DESCRIPTION:2018 Softball - Great Northeast Athletic Conference
LOCATION:Roberto Clemente Field
CATEGORIES:QuickScores, Softball Game
TRANSP:OPAQUE
BEGIN:VALARM
TRIGGER:-PT2H
ACTION:DISPLAY
DESCRIPTION:Emmanuel vs. Mount Ida
END:VALARM
END:VEVENT
BEGIN:VEVENT
UID:gnac-32627068-20180428@quickscores.com
DTSTAMP:20260420T033200Z
DTSTART;TZID=America/New_York:20180428
SUMMARY:Mount Ida vs. Norwich
DESCRIPTION:2018 Softball - Great Northeast Athletic Conference
LOCATION:Mount Ida
CATEGORIES:QuickScores, Softball Game
TRANSP:OPAQUE
BEGIN:VALARM
TRIGGER:-PT2H
ACTION:DISPLAY
DESCRIPTION:Mount Ida vs. Norwich
END:VALARM
END:VEVENT
END:VCALENDAR
