BEGIN:VCALENDAR
VERSION:2.0
PRODID:-//QuickScores.com//BQ Dynamic iCal Creator//EN
METHOD:PUBLISH
X-WR-CALNAME:Mount Ida - 2018 Women&#039;s Lacrosse - Spring 2018
X-WR-CALDESC:QuickScores game calendar
X-PUBLISHED-TTL:PT24H
REFRESH-INTERVAL;VALUE=DURATION:PT24H
CALSCALE:GREGORIAN
BEGIN:VTIMEZONE
TZID:America/New_York
X-LIC-LOCATION:America/New_York
BEGIN:DAYLIGHT
TZNAME:EDT
TZOFFSETFROM:-0500
TZOFFSETTO:-0400
DTSTART:19700308T020000
RRULE:FREQ=YEARLY;BYMONTH=3;BYDAY=2SU
END:DAYLIGHT
BEGIN:STANDARD
TZNAME:EST
TZOFFSETFROM:-0400
TZOFFSETTO:-0500
DTSTART:19701101T020000
RRULE:FREQ=YEARLY;BYMONTH=11;BYDAY=1SU
END:STANDARD
END:VTIMEZONE
BEGIN:VEVENT
UID:gnac-32562450-20180320@quickscores.com
DTSTAMP:20260424T214200Z
DTSTART;TZID=America/New_York:20180320
SUMMARY:Albertus Magnus vs. Mount Ida
DESCRIPTION:2018 Women's Lacrosse - Great Northeast Athletic Conference
LOCATION:New Haven, CT
CATEGORIES:QuickScores, Lacrosse Game
TRANSP:OPAQUE
BEGIN:VALARM
TRIGGER:-PT2H
ACTION:DISPLAY
DESCRIPTION:Albertus Magnus vs. Mount Ida
END:VALARM
END:VEVENT
BEGIN:VEVENT
UID:gnac-32562456-20180324@quickscores.com
DTSTAMP:20260424T214200Z
DTSTART;TZID=America/New_York:20180324
SUMMARY:Mount Ida vs. Rivier
DESCRIPTION:2018 Women's Lacrosse - Great Northeast Athletic Conference
LOCATION:Mount Ida
CATEGORIES:QuickScores, Lacrosse Game
TRANSP:OPAQUE
BEGIN:VALARM
TRIGGER:-PT2H
ACTION:DISPLAY
DESCRIPTION:Mount Ida vs. Rivier
END:VALARM
END:VEVENT
BEGIN:VEVENT
UID:gnac-32562434-20180327@quickscores.com
DTSTAMP:20260424T214200Z
DTSTART;TZID=America/New_York:20180327
SUMMARY:Mount Ida vs. Emmanuel
DESCRIPTION:2018 Women's Lacrosse - Great Northeast Athletic Conference
LOCATION:Mount Ida
CATEGORIES:QuickScores, Lacrosse Game
TRANSP:OPAQUE
BEGIN:VALARM
TRIGGER:-PT2H
ACTION:DISPLAY
DESCRIPTION:Mount Ida vs. Emmanuel
END:VALARM
END:VEVENT
BEGIN:VEVENT
UID:gnac-32562427-20180331@quickscores.com
DTSTAMP:20260424T214200Z
DTSTART;TZID=America/New_York:20180331
SUMMARY:Mount Ida vs. Lasell
DESCRIPTION:2018 Women's Lacrosse - Great Northeast Athletic Conference
LOCATION:Mount Ida
CATEGORIES:QuickScores, Lacrosse Game
TRANSP:OPAQUE
BEGIN:VALARM
TRIGGER:-PT2H
ACTION:DISPLAY
DESCRIPTION:Mount Ida vs. Lasell
END:VALARM
END:VEVENT
BEGIN:VEVENT
UID:gnac-32562449-20180403@quickscores.com
DTSTAMP:20260424T214200Z
DTSTART;TZID=America/New_York:20180403
SUMMARY:Mount Ida vs. Simmons
DESCRIPTION:2018 Women's Lacrosse - Great Northeast Athletic Conference
LOCATION:Mount Ida
CATEGORIES:QuickScores, Lacrosse Game
TRANSP:OPAQUE
BEGIN:VALARM
TRIGGER:-PT2H
ACTION:DISPLAY
DESCRIPTION:Mount Ida vs. Simmons
END:VALARM
END:VEVENT
BEGIN:VEVENT
UID:gnac-32562454-20180410@quickscores.com
DTSTAMP:20260424T214200Z
DTSTART;TZID=America/New_York:20180410
SUMMARY:Saint Joseph CT vs. Mount Ida
DESCRIPTION:2018 Women's Lacrosse - Great Northeast Athletic Conference
LOCATION:W. Hartford, CT
CATEGORIES:QuickScores, Lacrosse Game
TRANSP:OPAQUE
BEGIN:VALARM
TRIGGER:-PT2H
ACTION:DISPLAY
DESCRIPTION:Saint Joseph CT vs. Mount Ida
END:VALARM
END:VEVENT
BEGIN:VEVENT
UID:gnac-32562467-20180414@quickscores.com
DTSTAMP:20260424T214200Z
DTSTART;TZID=America/New_York:20180414
SUMMARY:Saint Joseph's ME vs. Mount Ida
DESCRIPTION:2018 Women's Lacrosse - Great Northeast Athletic Conference
LOCATION:Standish ME
CATEGORIES:QuickScores, Lacrosse Game
TRANSP:OPAQUE
BEGIN:VALARM
TRIGGER:-PT2H
ACTION:DISPLAY
DESCRIPTION:Saint Joseph's ME vs. Mount Ida
END:VALARM
END:VEVENT
BEGIN:VEVENT
UID:gnac-32562425-20180417@quickscores.com
DTSTAMP:20260424T214200Z
DTSTART;TZID=America/New_York:20180417
SUMMARY:Mount Ida vs. Norwich
DESCRIPTION:2018 Women's Lacrosse - Great Northeast Athletic Conference
LOCATION:Mount Ida
CATEGORIES:QuickScores, Lacrosse Game
TRANSP:OPAQUE
BEGIN:VALARM
TRIGGER:-PT2H
ACTION:DISPLAY
DESCRIPTION:Mount Ida vs. Norwich
END:VALARM
END:VEVENT
BEGIN:VEVENT
UID:gnac-32562420-20180421@quickscores.com
DTSTAMP:20260424T214200Z
DTSTART;TZID=America/New_York:20180421
SUMMARY:Johnson & Wales vs. Mount Ida
DESCRIPTION:2018 Women's Lacrosse - Great Northeast Athletic Conference
LOCATION:Scotts Miracle Gro Athletic Complex
CATEGORIES:QuickScores, Lacrosse Game
TRANSP:OPAQUE
BEGIN:VALARM
TRIGGER:-PT2H
ACTION:DISPLAY
DESCRIPTION:Johnson & Wales vs. Mount Ida
END:VALARM
END:VEVENT
BEGIN:VEVENT
UID:gnac-32562474-20180424@quickscores.com
DTSTAMP:20260424T214200Z
DTSTART;TZID=America/New_York:20180424
SUMMARY:Regis vs. Mount Ida
DESCRIPTION:2018 Women's Lacrosse - Great Northeast Athletic Conference
LOCATION:Regis Weston MA
CATEGORIES:QuickScores, Lacrosse Game
TRANSP:OPAQUE
BEGIN:VALARM
TRIGGER:-PT2H
ACTION:DISPLAY
DESCRIPTION:Regis vs. Mount Ida
END:VALARM
END:VEVENT
END:VCALENDAR
