BEGIN:VCALENDAR
VERSION:2.0
PRODID:-//QuickScores.com//BQ Dynamic iCal Creator//EN
METHOD:PUBLISH
X-WR-CALNAME:Johnson &amp; Wales - 2018 Women&#039;s Lacrosse - Spring 2018
X-WR-CALDESC:QuickScores game calendar
X-PUBLISHED-TTL:PT24H
REFRESH-INTERVAL;VALUE=DURATION:PT24H
CALSCALE:GREGORIAN
BEGIN:VTIMEZONE
TZID:America/New_York
X-LIC-LOCATION:America/New_York
BEGIN:DAYLIGHT
TZNAME:EDT
TZOFFSETFROM:-0500
TZOFFSETTO:-0400
DTSTART:19700308T020000
RRULE:FREQ=YEARLY;BYMONTH=3;BYDAY=2SU
END:DAYLIGHT
BEGIN:STANDARD
TZNAME:EST
TZOFFSETFROM:-0400
TZOFFSETTO:-0500
DTSTART:19701101T020000
RRULE:FREQ=YEARLY;BYMONTH=11;BYDAY=1SU
END:STANDARD
END:VTIMEZONE
BEGIN:VEVENT
UID:gnac-32562480-20180320@quickscores.com
DTSTAMP:20260423T215800Z
DTSTART;TZID=America/New_York:20180320
SUMMARY:Johnson & Wales vs. Regis
DESCRIPTION:2018 Women's Lacrosse - Great Northeast Athletic Conference
LOCATION:Scotts Miracle Gro Athletic Complex
CATEGORIES:QuickScores, Lacrosse Game
TRANSP:OPAQUE
BEGIN:VALARM
TRIGGER:-PT2H
ACTION:DISPLAY
DESCRIPTION:Johnson & Wales vs. Regis
END:VALARM
END:VEVENT
BEGIN:VEVENT
UID:gnac-32562437-20180324@quickscores.com
DTSTAMP:20260423T215800Z
DTSTART;TZID=America/New_York:20180324
SUMMARY:Simmons vs. Johnson & Wales
DESCRIPTION:2018 Women's Lacrosse - Great Northeast Athletic Conference
LOCATION:Daly Field Brighton
CATEGORIES:QuickScores, Lacrosse Game
TRANSP:OPAQUE
BEGIN:VALARM
TRIGGER:-PT2H
ACTION:DISPLAY
DESCRIPTION:Simmons vs. Johnson & Wales
END:VALARM
END:VEVENT
BEGIN:VEVENT
UID:gnac-32562468-20180327@quickscores.com
DTSTAMP:20260423T215800Z
DTSTART;TZID=America/New_York:20180327
SUMMARY:Johnson & Wales vs. Lasell
DESCRIPTION:2018 Women's Lacrosse - Great Northeast Athletic Conference
LOCATION:Scotts Miracle Gro Athletic Complex
CATEGORIES:QuickScores, Lacrosse Game
TRANSP:OPAQUE
BEGIN:VALARM
TRIGGER:-PT2H
ACTION:DISPLAY
DESCRIPTION:Johnson & Wales vs. Lasell
END:VALARM
END:VEVENT
BEGIN:VEVENT
UID:gnac-32562455-20180331@quickscores.com
DTSTAMP:20260423T215800Z
DTSTART;TZID=America/New_York:20180331
SUMMARY:Saint Joseph's ME vs. Johnson & Wales
DESCRIPTION:2018 DH w softball --- 2018 Women's Lacrosse - Great Northeast Athletic Conference
LOCATION:Standish ME
CATEGORIES:QuickScores, Lacrosse Game
TRANSP:OPAQUE
BEGIN:VALARM
TRIGGER:-PT2H
ACTION:DISPLAY
DESCRIPTION:Saint Joseph's ME vs. Johnson & Wales
END:VALARM
END:VEVENT
BEGIN:VEVENT
UID:gnac-32562430-20180403@quickscores.com
DTSTAMP:20260423T215800Z
DTSTART;TZID=America/New_York:20180403
SUMMARY:Rivier vs. Johnson & Wales
DESCRIPTION:2018 DH w MVB --- 2018 Women's Lacrosse - Great Northeast Athletic Conference
LOCATION:Nashua, NH
CATEGORIES:QuickScores, Lacrosse Game
TRANSP:OPAQUE
BEGIN:VALARM
TRIGGER:-PT2H
ACTION:DISPLAY
DESCRIPTION:Rivier vs. Johnson & Wales
END:VALARM
END:VEVENT
BEGIN:VEVENT
UID:gnac-32562469-20180407@quickscores.com
DTSTAMP:20260423T215800Z
DTSTART;TZID=America/New_York:20180407
SUMMARY:Johnson & Wales vs. Saint Joseph CT
DESCRIPTION:2018 DH w softball --- 2018 Women's Lacrosse - Great Northeast Athletic Conference
LOCATION:Scotts Miracle Gro Athletic Complex
CATEGORIES:QuickScores, Lacrosse Game
TRANSP:OPAQUE
BEGIN:VALARM
TRIGGER:-PT2H
ACTION:DISPLAY
DESCRIPTION:Johnson & Wales vs. Saint Joseph CT
END:VALARM
END:VEVENT
BEGIN:VEVENT
UID:gnac-32562440-20180414@quickscores.com
DTSTAMP:20260423T215800Z
DTSTART;TZID=America/New_York:20180414
SUMMARY:Emmanuel vs. Johnson & Wales
DESCRIPTION:2018 Women's Lacrosse - Great Northeast Athletic Conference
LOCATION:Roberto Clemente Field
CATEGORIES:QuickScores, Lacrosse Game
TRANSP:OPAQUE
BEGIN:VALARM
TRIGGER:-PT2H
ACTION:DISPLAY
DESCRIPTION:Emmanuel vs. Johnson & Wales
END:VALARM
END:VEVENT
BEGIN:VEVENT
UID:gnac-32562435-20180417@quickscores.com
DTSTAMP:20260423T215800Z
DTSTART;TZID=America/New_York:20180417
SUMMARY:Albertus Magnus vs. Johnson & Wales
DESCRIPTION:2018 Women's Lacrosse - Great Northeast Athletic Conference
LOCATION:New Haven, CT
CATEGORIES:QuickScores, Lacrosse Game
TRANSP:OPAQUE
BEGIN:VALARM
TRIGGER:-PT2H
ACTION:DISPLAY
DESCRIPTION:Albertus Magnus vs. Johnson & Wales
END:VALARM
END:VEVENT
BEGIN:VEVENT
UID:gnac-32562420-20180421@quickscores.com
DTSTAMP:20260423T215800Z
DTSTART;TZID=America/New_York:20180421
SUMMARY:Johnson & Wales vs. Mount Ida
DESCRIPTION:2018 Women's Lacrosse - Great Northeast Athletic Conference
LOCATION:Scotts Miracle Gro Athletic Complex
CATEGORIES:QuickScores, Lacrosse Game
TRANSP:OPAQUE
BEGIN:VALARM
TRIGGER:-PT2H
ACTION:DISPLAY
DESCRIPTION:Johnson & Wales vs. Mount Ida
END:VALARM
END:VEVENT
BEGIN:VEVENT
UID:gnac-32562452-20180424@quickscores.com
DTSTAMP:20260423T215800Z
DTSTART;TZID=America/New_York:20180424
SUMMARY:Johnson & Wales vs. Norwich
DESCRIPTION:2018 Women's Lacrosse - Great Northeast Athletic Conference
LOCATION:Scotts Miracle Gro Athletic Complex
CATEGORIES:QuickScores, Lacrosse Game
TRANSP:OPAQUE
BEGIN:VALARM
TRIGGER:-PT2H
ACTION:DISPLAY
DESCRIPTION:Johnson & Wales vs. Norwich
END:VALARM
END:VEVENT
END:VCALENDAR
