BEGIN:VCALENDAR
VERSION:2.0
PRODID:-//QuickScores.com//BQ Dynamic iCal Creator//EN
METHOD:PUBLISH
X-WR-CALNAME:Emmanuel - 2018 Women&#039;s Lacrosse - Spring 2018
X-WR-CALDESC:QuickScores game calendar
X-PUBLISHED-TTL:PT24H
REFRESH-INTERVAL;VALUE=DURATION:PT24H
CALSCALE:GREGORIAN
BEGIN:VTIMEZONE
TZID:America/New_York
X-LIC-LOCATION:America/New_York
BEGIN:DAYLIGHT
TZNAME:EDT
TZOFFSETFROM:-0500
TZOFFSETTO:-0400
DTSTART:19700308T020000
RRULE:FREQ=YEARLY;BYMONTH=3;BYDAY=2SU
END:DAYLIGHT
BEGIN:STANDARD
TZNAME:EST
TZOFFSETFROM:-0400
TZOFFSETTO:-0500
DTSTART:19701101T020000
RRULE:FREQ=YEARLY;BYMONTH=11;BYDAY=1SU
END:STANDARD
END:VTIMEZONE
BEGIN:VEVENT
UID:gnac-32562457-20180320@quickscores.com
DTSTAMP:20260424T180000Z
DTSTART;TZID=America/New_York:20180320
SUMMARY:Emmanuel vs. Norwich
DESCRIPTION:2018 Women's Lacrosse - Great Northeast Athletic Conference
LOCATION:Roberto Clemente Field
CATEGORIES:QuickScores, Lacrosse Game
TRANSP:OPAQUE
BEGIN:VALARM
TRIGGER:-PT2H
ACTION:DISPLAY
DESCRIPTION:Emmanuel vs. Norwich
END:VALARM
END:VEVENT
BEGIN:VEVENT
UID:gnac-32562462-20180324@quickscores.com
DTSTAMP:20260424T180000Z
DTSTART;TZID=America/New_York:20180324
SUMMARY:Emmanuel vs. Lasell
DESCRIPTION:2018 Women's Lacrosse - Great Northeast Athletic Conference
LOCATION:Roberto Clemente Field
CATEGORIES:QuickScores, Lacrosse Game
TRANSP:OPAQUE
BEGIN:VALARM
TRIGGER:-PT2H
ACTION:DISPLAY
DESCRIPTION:Emmanuel vs. Lasell
END:VALARM
END:VEVENT
BEGIN:VEVENT
UID:gnac-32562434-20180327@quickscores.com
DTSTAMP:20260424T180000Z
DTSTART;TZID=America/New_York:20180327
SUMMARY:Mount Ida vs. Emmanuel
DESCRIPTION:2018 Women's Lacrosse - Great Northeast Athletic Conference
LOCATION:Mount Ida
CATEGORIES:QuickScores, Lacrosse Game
TRANSP:OPAQUE
BEGIN:VALARM
TRIGGER:-PT2H
ACTION:DISPLAY
DESCRIPTION:Mount Ida vs. Emmanuel
END:VALARM
END:VEVENT
BEGIN:VEVENT
UID:gnac-32562423-20180331@quickscores.com
DTSTAMP:20260424T180000Z
DTSTART;TZID=America/New_York:20180331
SUMMARY:Saint Joseph CT vs. Emmanuel
DESCRIPTION:2018 EMM can share a bus w softball --- 2018 Women's Lacrosse - Great Northeast Athletic Conference
LOCATION:W. Hartford, CT
CATEGORIES:QuickScores, Lacrosse Game
TRANSP:OPAQUE
BEGIN:VALARM
TRIGGER:-PT2H
ACTION:DISPLAY
DESCRIPTION:Saint Joseph CT vs. Emmanuel
END:VALARM
END:VEVENT
BEGIN:VEVENT
UID:gnac-32562444-20180403@quickscores.com
DTSTAMP:20260424T180000Z
DTSTART;TZID=America/New_York:20180403
SUMMARY:Emmanuel vs. Albertus Magnus
DESCRIPTION:2018 Women's Lacrosse - Great Northeast Athletic Conference
LOCATION:Roberto Clemente Field
CATEGORIES:QuickScores, Lacrosse Game
TRANSP:OPAQUE
BEGIN:VALARM
TRIGGER:-PT2H
ACTION:DISPLAY
DESCRIPTION:Emmanuel vs. Albertus Magnus
END:VALARM
END:VEVENT
BEGIN:VEVENT
UID:gnac-32562475-20180407@quickscores.com
DTSTAMP:20260424T180000Z
DTSTART;TZID=America/New_York:20180407
SUMMARY:Regis vs. Emmanuel
DESCRIPTION:2018 Women's Lacrosse - Great Northeast Athletic Conference
LOCATION:Regis Weston MA
CATEGORIES:QuickScores, Lacrosse Game
TRANSP:OPAQUE
BEGIN:VALARM
TRIGGER:-PT2H
ACTION:DISPLAY
DESCRIPTION:Regis vs. Emmanuel
END:VALARM
END:VEVENT
BEGIN:VEVENT
UID:gnac-32562432-20180410@quickscores.com
DTSTAMP:20260424T180000Z
DTSTART;TZID=America/New_York:20180410
SUMMARY:Rivier vs. Emmanuel
DESCRIPTION:2018 Women's Lacrosse - Great Northeast Athletic Conference
LOCATION:Nashua, NH
CATEGORIES:QuickScores, Lacrosse Game
TRANSP:OPAQUE
BEGIN:VALARM
TRIGGER:-PT2H
ACTION:DISPLAY
DESCRIPTION:Rivier vs. Emmanuel
END:VALARM
END:VEVENT
BEGIN:VEVENT
UID:gnac-32562440-20180414@quickscores.com
DTSTAMP:20260424T180000Z
DTSTART;TZID=America/New_York:20180414
SUMMARY:Emmanuel vs. Johnson & Wales
DESCRIPTION:2018 Women's Lacrosse - Great Northeast Athletic Conference
LOCATION:Roberto Clemente Field
CATEGORIES:QuickScores, Lacrosse Game
TRANSP:OPAQUE
BEGIN:VALARM
TRIGGER:-PT2H
ACTION:DISPLAY
DESCRIPTION:Emmanuel vs. Johnson & Wales
END:VALARM
END:VEVENT
BEGIN:VEVENT
UID:gnac-32562445-20180417@quickscores.com
DTSTAMP:20260424T180000Z
DTSTART;TZID=America/New_York:20180417
SUMMARY:Saint Joseph's ME vs. Emmanuel
DESCRIPTION:2018 Women's Lacrosse - Great Northeast Athletic Conference
LOCATION:Standish ME
CATEGORIES:QuickScores, Lacrosse Game
TRANSP:OPAQUE
BEGIN:VALARM
TRIGGER:-PT2H
ACTION:DISPLAY
DESCRIPTION:Saint Joseph's ME vs. Emmanuel
END:VALARM
END:VEVENT
BEGIN:VEVENT
UID:gnac-32562426-20180424@quickscores.com
DTSTAMP:20260424T180000Z
DTSTART;TZID=America/New_York:20180424
SUMMARY:Emmanuel vs. Simmons
DESCRIPTION:2018 Women's Lacrosse - Great Northeast Athletic Conference
LOCATION:Roberto Clemente Field
CATEGORIES:QuickScores, Lacrosse Game
TRANSP:OPAQUE
BEGIN:VALARM
TRIGGER:-PT2H
ACTION:DISPLAY
DESCRIPTION:Emmanuel vs. Simmons
END:VALARM
END:VEVENT
END:VCALENDAR
