BEGIN:VCALENDAR
VERSION:2.0
PRODID:-//QuickScores.com//BQ Dynamic iCal Creator//EN
METHOD:PUBLISH
X-WR-CALNAME:Suffolk - 2017 Women&#039;s Soccer - Fall 2017
X-WR-CALDESC:QuickScores game calendar
X-PUBLISHED-TTL:PT24H
REFRESH-INTERVAL;VALUE=DURATION:PT24H
CALSCALE:GREGORIAN
BEGIN:VTIMEZONE
TZID:America/New_York
X-LIC-LOCATION:America/New_York
BEGIN:DAYLIGHT
TZNAME:EDT
TZOFFSETFROM:-0500
TZOFFSETTO:-0400
DTSTART:19700308T020000
RRULE:FREQ=YEARLY;BYMONTH=3;BYDAY=2SU
END:DAYLIGHT
BEGIN:STANDARD
TZNAME:EST
TZOFFSETFROM:-0400
TZOFFSETTO:-0500
DTSTART:19701101T020000
RRULE:FREQ=YEARLY;BYMONTH=11;BYDAY=1SU
END:STANDARD
END:VTIMEZONE
BEGIN:VEVENT
UID:gnac-31407893-20170909@quickscores.com
DTSTAMP:20260423T084500Z
DTSTART;TZID=America/New_York:20170909
SUMMARY:Suffolk vs. Albertus Magnus
DESCRIPTION:2017 ALB  can share a bus with MS --- 2017 Women's Soccer - Great Northeast Athletic Conference
LOCATION:East Boston Memorial Field
CATEGORIES:QuickScores, Soccer Game
TRANSP:OPAQUE
BEGIN:VALARM
TRIGGER:-PT2H
ACTION:DISPLAY
DESCRIPTION:Suffolk vs. Albertus Magnus
END:VALARM
END:VEVENT
BEGIN:VEVENT
UID:gnac-31407946-20170916@quickscores.com
DTSTAMP:20260423T084500Z
DTSTART;TZID=America/New_York:20170916
SUMMARY:Regis vs. Suffolk
DESCRIPTION:2017 Women's Soccer - Great Northeast Athletic Conference
LOCATION:Regis Weston MA
CATEGORIES:QuickScores, Soccer Game
TRANSP:OPAQUE
BEGIN:VALARM
TRIGGER:-PT2H
ACTION:DISPLAY
DESCRIPTION:Regis vs. Suffolk
END:VALARM
END:VEVENT
BEGIN:VEVENT
UID:gnac-31407872-20170920@quickscores.com
DTSTAMP:20260423T084500Z
DTSTART;TZID=America/New_York:20170920
SUMMARY:Suffolk vs. Simmons
DESCRIPTION:2017 Women's Soccer - Great Northeast Athletic Conference
LOCATION:East Boston Memorial Field
CATEGORIES:QuickScores, Soccer Game
TRANSP:OPAQUE
BEGIN:VALARM
TRIGGER:-PT2H
ACTION:DISPLAY
DESCRIPTION:Suffolk vs. Simmons
END:VALARM
END:VEVENT
BEGIN:VEVENT
UID:gnac-31407885-20170923@quickscores.com
DTSTAMP:20260423T084500Z
DTSTART;TZID=America/New_York:20170923
SUMMARY:Mount Ida vs. Suffolk
DESCRIPTION:2017 Women's Soccer - Great Northeast Athletic Conference
LOCATION:Mount Ida
CATEGORIES:QuickScores, Soccer Game
TRANSP:OPAQUE
BEGIN:VALARM
TRIGGER:-PT2H
ACTION:DISPLAY
DESCRIPTION:Mount Ida vs. Suffolk
END:VALARM
END:VEVENT
BEGIN:VEVENT
UID:gnac-31407896-20170927@quickscores.com
DTSTAMP:20260423T084500Z
DTSTART;TZID=America/New_York:20170927
SUMMARY:Suffolk vs. Lasell
DESCRIPTION:2017 Women's Soccer - Great Northeast Athletic Conference
LOCATION:East Boston Memorial Field
CATEGORIES:QuickScores, Soccer Game
TRANSP:OPAQUE
BEGIN:VALARM
TRIGGER:-PT2H
ACTION:DISPLAY
DESCRIPTION:Suffolk vs. Lasell
END:VALARM
END:VEVENT
BEGIN:VEVENT
UID:gnac-31407869-20170930@quickscores.com
DTSTAMP:20260423T084500Z
DTSTART;TZID=America/New_York:20170930
SUMMARY:Suffolk vs. Norwich
DESCRIPTION:2017  DH. NOR MS & WS can share bus --- 2017 Women's Soccer - Great Northeast Athletic Conference
LOCATION:East Boston Memorial Field
CATEGORIES:QuickScores, Soccer Game
TRANSP:OPAQUE
BEGIN:VALARM
TRIGGER:-PT2H
ACTION:DISPLAY
DESCRIPTION:Suffolk vs. Norwich
END:VALARM
END:VEVENT
BEGIN:VEVENT
UID:gnac-31407875-20171004@quickscores.com
DTSTAMP:20260423T084500Z
DTSTART;TZID=America/New_York:20171004
SUMMARY:Anna Maria vs. Suffolk
DESCRIPTION:2017 DH. SUF MS & WS can share a bus --- 2017 Women's Soccer - Great Northeast Athletic Conference
LOCATION:Paxton MA
CATEGORIES:QuickScores, Soccer Game
TRANSP:OPAQUE
BEGIN:VALARM
TRIGGER:-PT2H
ACTION:DISPLAY
DESCRIPTION:Anna Maria vs. Suffolk
END:VALARM
END:VEVENT
BEGIN:VEVENT
UID:gnac-31407889-20171007@quickscores.com
DTSTAMP:20260423T084500Z
DTSTART;TZID=America/New_York:20171007
SUMMARY:Saint Joseph CT vs. Suffolk
DESCRIPTION:2017 SUF can share a bus with WT --- 2017 Women's Soccer - Great Northeast Athletic Conference
LOCATION:W. Hartford, CT
CATEGORIES:QuickScores, Soccer Game
TRANSP:OPAQUE
BEGIN:VALARM
TRIGGER:-PT2H
ACTION:DISPLAY
DESCRIPTION:Saint Joseph CT vs. Suffolk
END:VALARM
END:VEVENT
BEGIN:VEVENT
UID:gnac-31407870-20171011@quickscores.com
DTSTAMP:20260423T084500Z
DTSTART;TZID=America/New_York:20171011
SUMMARY:Suffolk vs. Johnson & Wales
DESCRIPTION:2017 JWU Could share a bus with MS going to Regis --- 2017 Women's Soccer - Great Northeast Athletic Conference
LOCATION:East Boston Memorial Field
CATEGORIES:QuickScores, Soccer Game
TRANSP:OPAQUE
BEGIN:VALARM
TRIGGER:-PT2H
ACTION:DISPLAY
DESCRIPTION:Suffolk vs. Johnson & Wales
END:VALARM
END:VEVENT
BEGIN:VEVENT
UID:gnac-31407902-20171014@quickscores.com
DTSTAMP:20260423T084500Z
DTSTART;TZID=America/New_York:20171014
SUMMARY:Suffolk vs. Rivier
DESCRIPTION:2017 SUF Family Weekend (No Soccer DHP) --- 2017 Women's Soccer - Great Northeast Athletic Conference
LOCATION:East Boston Memorial Field
CATEGORIES:QuickScores, Soccer Game
TRANSP:OPAQUE
BEGIN:VALARM
TRIGGER:-PT2H
ACTION:DISPLAY
DESCRIPTION:Suffolk vs. Rivier
END:VALARM
END:VEVENT
BEGIN:VEVENT
UID:gnac-31407908-20171018@quickscores.com
DTSTAMP:20260423T084500Z
DTSTART;TZID=America/New_York:20171018
SUMMARY:Emmanuel vs. Suffolk
DESCRIPTION:2017 Women's Soccer - Great Northeast Athletic Conference
LOCATION:Roberto Clemente Field
CATEGORIES:QuickScores, Soccer Game
TRANSP:OPAQUE
BEGIN:VALARM
TRIGGER:-PT2H
ACTION:DISPLAY
DESCRIPTION:Emmanuel vs. Suffolk
END:VALARM
END:VEVENT
BEGIN:VEVENT
UID:gnac-31407862-20171021@quickscores.com
DTSTAMP:20260423T084500Z
DTSTART;TZID=America/New_York:20171021
SUMMARY:Saint Joseph's ME vs. Suffolk
DESCRIPTION:2017 SUF  can share a bus with WVB --- 2017 Women's Soccer - Great Northeast Athletic Conference
LOCATION:Standish ME
CATEGORIES:QuickScores, Soccer Game
TRANSP:OPAQUE
BEGIN:VALARM
TRIGGER:-PT2H
ACTION:DISPLAY
DESCRIPTION:Saint Joseph's ME vs. Suffolk
END:VALARM
END:VEVENT
END:VCALENDAR
