BEGIN:VCALENDAR
VERSION:2.0
PRODID:-//QuickScores.com//BQ Dynamic iCal Creator//EN
METHOD:PUBLISH
X-WR-CALNAME:Regis - 2017 Women&#039;s Soccer - Fall 2017
X-WR-CALDESC:QuickScores game calendar
X-PUBLISHED-TTL:PT24H
REFRESH-INTERVAL;VALUE=DURATION:PT24H
CALSCALE:GREGORIAN
BEGIN:VTIMEZONE
TZID:America/New_York
X-LIC-LOCATION:America/New_York
BEGIN:DAYLIGHT
TZNAME:EDT
TZOFFSETFROM:-0500
TZOFFSETTO:-0400
DTSTART:19700308T020000
RRULE:FREQ=YEARLY;BYMONTH=3;BYDAY=2SU
END:DAYLIGHT
BEGIN:STANDARD
TZNAME:EST
TZOFFSETFROM:-0400
TZOFFSETTO:-0500
DTSTART:19701101T020000
RRULE:FREQ=YEARLY;BYMONTH=11;BYDAY=1SU
END:STANDARD
END:VTIMEZONE
BEGIN:VEVENT
UID:gnac-31407948-20170906@quickscores.com
DTSTAMP:20260422T141400Z
DTSTART;TZID=America/New_York:20170906
SUMMARY:Mount Ida vs. Regis
DESCRIPTION:2017 Women's Soccer - Great Northeast Athletic Conference
LOCATION:Mount Ida
CATEGORIES:QuickScores, Soccer Game
TRANSP:OPAQUE
BEGIN:VALARM
TRIGGER:-PT2H
ACTION:DISPLAY
DESCRIPTION:Mount Ida vs. Regis
END:VALARM
END:VEVENT
BEGIN:VEVENT
UID:gnac-31407939-20170909@quickscores.com
DTSTAMP:20260422T141400Z
DTSTART;TZID=America/New_York:20170909
SUMMARY:Saint Joseph CT vs. Regis
DESCRIPTION:2017 Women's Soccer - Great Northeast Athletic Conference
LOCATION:W. Hartford, CT
CATEGORIES:QuickScores, Soccer Game
TRANSP:OPAQUE
BEGIN:VALARM
TRIGGER:-PT2H
ACTION:DISPLAY
DESCRIPTION:Saint Joseph CT vs. Regis
END:VALARM
END:VEVENT
BEGIN:VEVENT
UID:gnac-31407944-20170913@quickscores.com
DTSTAMP:20260422T141400Z
DTSTART;TZID=America/New_York:20170913
SUMMARY:Regis vs. Anna Maria
DESCRIPTION:2017 Anna Maria can share a bus w WT --- 2017 Women's Soccer - Great Northeast Athletic Conference
LOCATION:Regis Weston MA
CATEGORIES:QuickScores, Soccer Game
TRANSP:OPAQUE
BEGIN:VALARM
TRIGGER:-PT2H
ACTION:DISPLAY
DESCRIPTION:Regis vs. Anna Maria
END:VALARM
END:VEVENT
BEGIN:VEVENT
UID:gnac-31407946-20170916@quickscores.com
DTSTAMP:20260422T141400Z
DTSTART;TZID=America/New_York:20170916
SUMMARY:Regis vs. Suffolk
DESCRIPTION:2017 Women's Soccer - Great Northeast Athletic Conference
LOCATION:Regis Weston MA
CATEGORIES:QuickScores, Soccer Game
TRANSP:OPAQUE
BEGIN:VALARM
TRIGGER:-PT2H
ACTION:DISPLAY
DESCRIPTION:Regis vs. Suffolk
END:VALARM
END:VEVENT
BEGIN:VEVENT
UID:gnac-31407942-20170923@quickscores.com
DTSTAMP:20260422T141400Z
DTSTART;TZID=America/New_York:20170923
SUMMARY:Simmons vs. Regis
DESCRIPTION:2017 Women's Soccer - Great Northeast Athletic Conference
LOCATION:Daly Field Brighton
CATEGORIES:QuickScores, Soccer Game
TRANSP:OPAQUE
BEGIN:VALARM
TRIGGER:-PT2H
ACTION:DISPLAY
DESCRIPTION:Simmons vs. Regis
END:VALARM
END:VEVENT
BEGIN:VEVENT
UID:gnac-31407934-20170927@quickscores.com
DTSTAMP:20260422T141400Z
DTSTART;TZID=America/New_York:20170927
SUMMARY:Saint Joseph's ME vs. Regis
DESCRIPTION:2017 Women's Soccer - Great Northeast Athletic Conference
LOCATION:Standish ME
CATEGORIES:QuickScores, Soccer Game
TRANSP:OPAQUE
BEGIN:VALARM
TRIGGER:-PT2H
ACTION:DISPLAY
DESCRIPTION:Saint Joseph's ME vs. Regis
END:VALARM
END:VEVENT
BEGIN:VEVENT
UID:gnac-31407951-20170930@quickscores.com
DTSTAMP:20260422T141400Z
DTSTART;TZID=America/New_York:20170930
SUMMARY:Regis vs. Lasell
DESCRIPTION:2017 Women's Soccer - Great Northeast Athletic Conference
LOCATION:Regis Weston MA
CATEGORIES:QuickScores, Soccer Game
TRANSP:OPAQUE
BEGIN:VALARM
TRIGGER:-PT2H
ACTION:DISPLAY
DESCRIPTION:Regis vs. Lasell
END:VALARM
END:VEVENT
BEGIN:VEVENT
UID:gnac-31407950-20171004@quickscores.com
DTSTAMP:20260422T141400Z
DTSTART;TZID=America/New_York:20171004
SUMMARY:Regis vs. Johnson & Wales
DESCRIPTION:2017 JWU  can share a bus with men's soccer going to Mount Ida --- 2017 Women's Soccer - Great Northeast Athletic Conference
LOCATION:Regis Weston MA
CATEGORIES:QuickScores, Soccer Game
TRANSP:OPAQUE
BEGIN:VALARM
TRIGGER:-PT2H
ACTION:DISPLAY
DESCRIPTION:Regis vs. Johnson & Wales
END:VALARM
END:VEVENT
BEGIN:VEVENT
UID:gnac-31407936-20171007@quickscores.com
DTSTAMP:20260422T141400Z
DTSTART;TZID=America/New_York:20171007
SUMMARY:Regis vs. Albertus Magnus
DESCRIPTION:2017 Women's Soccer - Great Northeast Athletic Conference
LOCATION:Regis Weston MA
CATEGORIES:QuickScores, Soccer Game
TRANSP:OPAQUE
BEGIN:VALARM
TRIGGER:-PT2H
ACTION:DISPLAY
DESCRIPTION:Regis vs. Albertus Magnus
END:VALARM
END:VEVENT
BEGIN:VEVENT
UID:gnac-31407949-20171011@quickscores.com
DTSTAMP:20260422T141400Z
DTSTART;TZID=America/New_York:20171011
SUMMARY:Norwich vs. Regis
DESCRIPTION:2017 Women's Soccer - Great Northeast Athletic Conference
LOCATION:Northfield, VT
CATEGORIES:QuickScores, Soccer Game
TRANSP:OPAQUE
BEGIN:VALARM
TRIGGER:-PT2H
ACTION:DISPLAY
DESCRIPTION:Norwich vs. Regis
END:VALARM
END:VEVENT
BEGIN:VEVENT
UID:gnac-31407947-20171014@quickscores.com
DTSTAMP:20260422T141400Z
DTSTART;TZID=America/New_York:20171014
SUMMARY:Emmanuel vs. Regis
DESCRIPTION:2017 Women's Soccer - Great Northeast Athletic Conference
LOCATION:Roberto Clemente Field
CATEGORIES:QuickScores, Soccer Game
TRANSP:OPAQUE
BEGIN:VALARM
TRIGGER:-PT2H
ACTION:DISPLAY
DESCRIPTION:Emmanuel vs. Regis
END:VALARM
END:VEVENT
BEGIN:VEVENT
UID:gnac-31407943-20171018@quickscores.com
DTSTAMP:20260422T141400Z
DTSTART;TZID=America/New_York:20171018
SUMMARY:Regis vs. Rivier
DESCRIPTION:2017 RIV  can share a bus with MS --- 2017 Women's Soccer - Great Northeast Athletic Conference
LOCATION:Regis Weston MA
CATEGORIES:QuickScores, Soccer Game
TRANSP:OPAQUE
BEGIN:VALARM
TRIGGER:-PT2H
ACTION:DISPLAY
DESCRIPTION:Regis vs. Rivier
END:VALARM
END:VEVENT
END:VCALENDAR
