BEGIN:VCALENDAR
VERSION:2.0
PRODID:-//QuickScores.com//BQ Dynamic iCal Creator//EN
METHOD:PUBLISH
X-WR-CALNAME:Albertus Magnus - 2017 Women&#039;s Soccer - Fall 2017
X-WR-CALDESC:QuickScores game calendar
X-PUBLISHED-TTL:PT24H
REFRESH-INTERVAL;VALUE=DURATION:PT24H
CALSCALE:GREGORIAN
BEGIN:VTIMEZONE
TZID:America/New_York
X-LIC-LOCATION:America/New_York
BEGIN:DAYLIGHT
TZNAME:EDT
TZOFFSETFROM:-0500
TZOFFSETTO:-0400
DTSTART:19700308T020000
RRULE:FREQ=YEARLY;BYMONTH=3;BYDAY=2SU
END:DAYLIGHT
BEGIN:STANDARD
TZNAME:EST
TZOFFSETFROM:-0400
TZOFFSETTO:-0500
DTSTART:19701101T020000
RRULE:FREQ=YEARLY;BYMONTH=11;BYDAY=1SU
END:STANDARD
END:VTIMEZONE
BEGIN:VEVENT
UID:gnac-31407893-20170909@quickscores.com
DTSTAMP:20260423T203300Z
DTSTART;TZID=America/New_York:20170909
SUMMARY:Suffolk vs. Albertus Magnus
DESCRIPTION:2017 ALB  can share a bus with MS --- 2017 Women's Soccer - Great Northeast Athletic Conference
LOCATION:East Boston Memorial Field
CATEGORIES:QuickScores, Soccer Game
TRANSP:OPAQUE
BEGIN:VALARM
TRIGGER:-PT2H
ACTION:DISPLAY
DESCRIPTION:Suffolk vs. Albertus Magnus
END:VALARM
END:VEVENT
BEGIN:VEVENT
UID:gnac-31407863-20170913@quickscores.com
DTSTAMP:20260423T203300Z
DTSTART;TZID=America/New_York:20170913
SUMMARY:Albertus Magnus vs. Lasell
DESCRIPTION:2017 Women's Soccer - Great Northeast Athletic Conference
LOCATION:New Haven, CT
CATEGORIES:QuickScores, Soccer Game
TRANSP:OPAQUE
BEGIN:VALARM
TRIGGER:-PT2H
ACTION:DISPLAY
DESCRIPTION:Albertus Magnus vs. Lasell
END:VALARM
END:VEVENT
BEGIN:VEVENT
UID:gnac-31407871-20170916@quickscores.com
DTSTAMP:20260423T203300Z
DTSTART;TZID=America/New_York:20170916
SUMMARY:Albertus Magnus vs. Mount Ida
DESCRIPTION:Mount Ida could share a bus w WT. 2017 Mount Ida has home football --- 2017 Women's Soccer - Great Northeast Athletic Conference
LOCATION:New Haven, CT
CATEGORIES:QuickScores, Soccer Game
TRANSP:OPAQUE
BEGIN:VALARM
TRIGGER:-PT2H
ACTION:DISPLAY
DESCRIPTION:Albertus Magnus vs. Mount Ida
END:VALARM
END:VEVENT
BEGIN:VEVENT
UID:gnac-31407892-20170920@quickscores.com
DTSTAMP:20260423T203300Z
DTSTART;TZID=America/New_York:20170920
SUMMARY:Albertus Magnus vs. Johnson & Wales
DESCRIPTION:2017 JWU WS & WT can share a bus --- 2017 Women's Soccer - Great Northeast Athletic Conference
LOCATION:New Haven, CT
CATEGORIES:QuickScores, Soccer Game
TRANSP:OPAQUE
BEGIN:VALARM
TRIGGER:-PT2H
ACTION:DISPLAY
DESCRIPTION:Albertus Magnus vs. Johnson & Wales
END:VALARM
END:VEVENT
BEGIN:VEVENT
UID:gnac-31407923-20170923@quickscores.com
DTSTAMP:20260423T203300Z
DTSTART;TZID=America/New_York:20170923
SUMMARY:Rivier vs. Albertus Magnus
DESCRIPTION:2017 RIV Homecoming. 2017 NODHP. --- 2017 Women's Soccer - Great Northeast Athletic Conference
LOCATION:Nashua, NH
CATEGORIES:QuickScores, Soccer Game
TRANSP:OPAQUE
BEGIN:VALARM
TRIGGER:-PT2H
ACTION:DISPLAY
DESCRIPTION:Rivier vs. Albertus Magnus
END:VALARM
END:VEVENT
BEGIN:VEVENT
UID:gnac-31407867-20170927@quickscores.com
DTSTAMP:20260423T203300Z
DTSTART;TZID=America/New_York:20170927
SUMMARY:Emmanuel vs. Albertus Magnus
DESCRIPTION:2017  DH ALB can share a bus w MS --- 2017 Women's Soccer - Great Northeast Athletic Conference
LOCATION:Roberto Clemente Field
CATEGORIES:QuickScores, Soccer Game
TRANSP:OPAQUE
BEGIN:VALARM
TRIGGER:-PT2H
ACTION:DISPLAY
DESCRIPTION:Emmanuel vs. Albertus Magnus
END:VALARM
END:VEVENT
BEGIN:VEVENT
UID:gnac-31407881-20170930@quickscores.com
DTSTAMP:20260423T203300Z
DTSTART;TZID=America/New_York:20170930
SUMMARY:Albertus Magnus vs. Anna Maria
DESCRIPTION:2017 DH. Anna Maria can share a bus with MS --- 2017 Women's Soccer - Great Northeast Athletic Conference
LOCATION:New Haven, CT
CATEGORIES:QuickScores, Soccer Game
TRANSP:OPAQUE
BEGIN:VALARM
TRIGGER:-PT2H
ACTION:DISPLAY
DESCRIPTION:Albertus Magnus vs. Anna Maria
END:VALARM
END:VEVENT
BEGIN:VEVENT
UID:gnac-31407905-20171004@quickscores.com
DTSTAMP:20260423T203300Z
DTSTART;TZID=America/New_York:20171004
SUMMARY:Simmons vs. Albertus Magnus
DESCRIPTION:2017 ALB can share a bus with MS at EMM --- 2017 Women's Soccer - Great Northeast Athletic Conference
LOCATION:Daly Field Brighton
CATEGORIES:QuickScores, Soccer Game
TRANSP:OPAQUE
BEGIN:VALARM
TRIGGER:-PT2H
ACTION:DISPLAY
DESCRIPTION:Simmons vs. Albertus Magnus
END:VALARM
END:VEVENT
BEGIN:VEVENT
UID:gnac-31407936-20171007@quickscores.com
DTSTAMP:20260423T203300Z
DTSTART;TZID=America/New_York:20171007
SUMMARY:Regis vs. Albertus Magnus
DESCRIPTION:2017 Women's Soccer - Great Northeast Athletic Conference
LOCATION:Regis Weston MA
CATEGORIES:QuickScores, Soccer Game
TRANSP:OPAQUE
BEGIN:VALARM
TRIGGER:-PT2H
ACTION:DISPLAY
DESCRIPTION:Regis vs. Albertus Magnus
END:VALARM
END:VEVENT
BEGIN:VEVENT
UID:gnac-31407888-20171014@quickscores.com
DTSTAMP:20260423T203300Z
DTSTART;TZID=America/New_York:20171014
SUMMARY:Albertus Magnus vs. Saint Joseph's ME
DESCRIPTION:2017 STJME  can share a bus with WVB --- 2017 Women's Soccer - Great Northeast Athletic Conference
LOCATION:New Haven, CT
CATEGORIES:QuickScores, Soccer Game
TRANSP:OPAQUE
BEGIN:VALARM
TRIGGER:-PT2H
ACTION:DISPLAY
DESCRIPTION:Albertus Magnus vs. Saint Joseph's ME
END:VALARM
END:VEVENT
BEGIN:VEVENT
UID:gnac-31407915-20171018@quickscores.com
DTSTAMP:20260423T203300Z
DTSTART;TZID=America/New_York:20171018
SUMMARY:Albertus Magnus vs. Saint Joseph CT
DESCRIPTION:2017 USJCT can share a bus w WVB --- 2017 Women's Soccer - Great Northeast Athletic Conference
LOCATION:New Haven, CT
CATEGORIES:QuickScores, Soccer Game
TRANSP:OPAQUE
BEGIN:VALARM
TRIGGER:-PT2H
ACTION:DISPLAY
DESCRIPTION:Albertus Magnus vs. Saint Joseph CT
END:VALARM
END:VEVENT
BEGIN:VEVENT
UID:gnac-31407927-20171021@quickscores.com
DTSTAMP:20260423T203300Z
DTSTART;TZID=America/New_York:20171021
SUMMARY:Norwich vs. Albertus Magnus
DESCRIPTION:2017 DH AMC share bus w MS & WVB --- 2017 Women's Soccer - Great Northeast Athletic Conference
LOCATION:Northfield, VT
CATEGORIES:QuickScores, Soccer Game
TRANSP:OPAQUE
BEGIN:VALARM
TRIGGER:-PT2H
ACTION:DISPLAY
DESCRIPTION:Norwich vs. Albertus Magnus
END:VALARM
END:VEVENT
END:VCALENDAR
