BEGIN:VCALENDAR
VERSION:2.0
PRODID:-//QuickScores.com//BQ Dynamic iCal Creator//EN
METHOD:PUBLISH
X-WR-CALNAME:Suffolk - 2010 Baseball - Spring 2010
X-WR-CALDESC:QuickScores game calendar
X-PUBLISHED-TTL:PT24H
REFRESH-INTERVAL;VALUE=DURATION:PT24H
CALSCALE:GREGORIAN
BEGIN:VTIMEZONE
TZID:America/New_York
X-LIC-LOCATION:America/New_York
BEGIN:DAYLIGHT
TZNAME:EDT
TZOFFSETFROM:-0500
TZOFFSETTO:-0400
DTSTART:19700308T020000
RRULE:FREQ=YEARLY;BYMONTH=3;BYDAY=2SU
END:DAYLIGHT
BEGIN:STANDARD
TZNAME:EST
TZOFFSETFROM:-0400
TZOFFSETTO:-0500
DTSTART:19701101T020000
RRULE:FREQ=YEARLY;BYMONTH=11;BYDAY=1SU
END:STANDARD
END:VTIMEZONE
BEGIN:VEVENT
UID:gnac-3728266-20100327@quickscores.com
DTSTAMP:20260423T230900Z
DTSTART;TZID=America/New_York:20100327
SUMMARY:Suffolk vs. Johnson & Wales
DESCRIPTION:2010 Baseball - Great Northeast Athletic Conference
LOCATION:Suffolk
CATEGORIES:QuickScores, Baseball Game
TRANSP:OPAQUE
BEGIN:VALARM
TRIGGER:-PT2H
ACTION:DISPLAY
DESCRIPTION:Suffolk vs. Johnson & Wales
END:VALARM
END:VEVENT
BEGIN:VEVENT
UID:gnac-3728261-20100328@quickscores.com
DTSTAMP:20260423T230900Z
DTSTART;TZID=America/New_York:20100328
SUMMARY:Suffolk vs. Saint Joseph's ME
DESCRIPTION:3 STJME can share a bus. SB @ SUF & WLAX going to PMC --- 2010 Baseball - Great Northeast Athletic Conference
LOCATION:Suffolk
CATEGORIES:QuickScores, Baseball Game
TRANSP:OPAQUE
BEGIN:VALARM
TRIGGER:-PT2H
ACTION:DISPLAY
DESCRIPTION:Suffolk vs. Saint Joseph's ME
END:VALARM
END:VEVENT
BEGIN:VEVENT
UID:gnac-3728265-20100403@quickscores.com
DTSTAMP:20260423T230900Z
DTSTART;TZID=America/New_York:20100403
SUMMARY:Norwich vs. Suffolk
DESCRIPTION:SUF can share a bus w softball --- 2010 Baseball - Great Northeast Athletic Conference
LOCATION:Northfield, VT
CATEGORIES:QuickScores, Baseball Game
TRANSP:OPAQUE
BEGIN:VALARM
TRIGGER:-PT2H
ACTION:DISPLAY
DESCRIPTION:Norwich vs. Suffolk
END:VALARM
END:VEVENT
BEGIN:VEVENT
UID:gnac-3728271-20100410@quickscores.com
DTSTAMP:20260423T230900Z
DTSTART;TZID=America/New_York:20100410
SUMMARY:Suffolk vs. Emerson
DESCRIPTION:2010 Baseball - Great Northeast Athletic Conference
LOCATION:Suffolk
CATEGORIES:QuickScores, Baseball Game
TRANSP:OPAQUE
BEGIN:VALARM
TRIGGER:-PT2H
ACTION:DISPLAY
DESCRIPTION:Suffolk vs. Emerson
END:VALARM
END:VEVENT
BEGIN:VEVENT
UID:gnac-3728368-20100411@quickscores.com
DTSTAMP:20260423T230900Z
DTSTART;TZID=America/New_York:20100411
SUMMARY:Lasell vs. Suffolk
DESCRIPTION:2010 Baseball - Great Northeast Athletic Conference
LOCATION:Lasell Newton
CATEGORIES:QuickScores, Baseball Game
TRANSP:OPAQUE
BEGIN:VALARM
TRIGGER:-PT2H
ACTION:DISPLAY
DESCRIPTION:Lasell vs. Suffolk
END:VALARM
END:VEVENT
BEGIN:VEVENT
UID:gnac-3728258-20100417@quickscores.com
DTSTAMP:20260423T230900Z
DTSTART;TZID=America/New_York:20100417
SUMMARY:Albertus Magnus vs. Suffolk
DESCRIPTION:2010 Baseball - Great Northeast Athletic Conference
LOCATION:New Haven, CT
CATEGORIES:QuickScores, Baseball Game
TRANSP:OPAQUE
BEGIN:VALARM
TRIGGER:-PT2H
ACTION:DISPLAY
DESCRIPTION:Albertus Magnus vs. Suffolk
END:VALARM
END:VEVENT
BEGIN:VEVENT
UID:gnac-3728330-20100418@quickscores.com
DTSTAMP:20260423T230900Z
DTSTART;TZID=America/New_York:20100418
SUMMARY:Suffolk vs. Rivier
DESCRIPTION:2010 Baseball - Great Northeast Athletic Conference
LOCATION:Suffolk
CATEGORIES:QuickScores, Baseball Game
TRANSP:OPAQUE
BEGIN:VALARM
TRIGGER:-PT2H
ACTION:DISPLAY
DESCRIPTION:Suffolk vs. Rivier
END:VALARM
END:VEVENT
END:VCALENDAR
