BEGIN:VCALENDAR
VERSION:2.0
PRODID:-//QuickScores.com//BQ Dynamic iCal Creator//EN
METHOD:PUBLISH
X-WR-CALNAME:Emerson - Gnac Baseball - Spring 2007
X-WR-CALDESC:QuickScores game calendar
X-PUBLISHED-TTL:PT24H
REFRESH-INTERVAL;VALUE=DURATION:PT24H
CALSCALE:GREGORIAN
BEGIN:VTIMEZONE
TZID:America/New_York
X-LIC-LOCATION:America/New_York
BEGIN:DAYLIGHT
TZNAME:EDT
TZOFFSETFROM:-0500
TZOFFSETTO:-0400
DTSTART:19700308T020000
RRULE:FREQ=YEARLY;BYMONTH=3;BYDAY=2SU
END:DAYLIGHT
BEGIN:STANDARD
TZNAME:EST
TZOFFSETFROM:-0400
TZOFFSETTO:-0500
DTSTART:19701101T020000
RRULE:FREQ=YEARLY;BYMONTH=11;BYDAY=1SU
END:STANDARD
END:VTIMEZONE
BEGIN:VEVENT
UID:gnac-547851-20070324@quickscores.com
DTSTAMP:20260422T071400Z
DTSTART;TZID=America/New_York:20070324
SUMMARY:Albertus Magnus vs. Emerson
DESCRIPTION:Gnac Baseball - Great Northeast Athletic Conference
LOCATION:New Haven, CT
CATEGORIES:QuickScores, Baseball Game
TRANSP:OPAQUE
BEGIN:VALARM
TRIGGER:-PT2H
ACTION:DISPLAY
DESCRIPTION:Albertus Magnus vs. Emerson
END:VALARM
END:VEVENT
BEGIN:VEVENT
UID:gnac-547857-20070331@quickscores.com
DTSTAMP:20260422T071400Z
DTSTART;TZID=America/New_York:20070331
SUMMARY:Rivier vs. Emerson
DESCRIPTION:Gnac Baseball - Great Northeast Athletic Conference
LOCATION:Nashua, NH
CATEGORIES:QuickScores, Baseball Game
TRANSP:OPAQUE
BEGIN:VALARM
TRIGGER:-PT2H
ACTION:DISPLAY
DESCRIPTION:Rivier vs. Emerson
END:VALARM
END:VEVENT
BEGIN:VEVENT
UID:gnac-547840-20070401@quickscores.com
DTSTAMP:20260422T071400Z
DTSTART;TZID=America/New_York:20070401
SUMMARY:Emerson vs. Norwich
DESCRIPTION:Gnac Baseball - Great Northeast Athletic Conference
LOCATION:Emerson
CATEGORIES:QuickScores, Baseball Game
TRANSP:OPAQUE
BEGIN:VALARM
TRIGGER:-PT2H
ACTION:DISPLAY
DESCRIPTION:Emerson vs. Norwich
END:VALARM
END:VEVENT
BEGIN:VEVENT
UID:gnac-547816-20070407@quickscores.com
DTSTAMP:20260422T071400Z
DTSTART;TZID=America/New_York:20070407
SUMMARY:Daniel Webster vs. Emerson
DESCRIPTION:Gnac Baseball - Great Northeast Athletic Conference
LOCATION:Daniel Webster
CATEGORIES:QuickScores, Baseball Game
TRANSP:OPAQUE
BEGIN:VALARM
TRIGGER:-PT2H
ACTION:DISPLAY
DESCRIPTION:Daniel Webster vs. Emerson
END:VALARM
END:VEVENT
BEGIN:VEVENT
UID:gnac-547820-20070415@quickscores.com
DTSTAMP:20260422T071400Z
DTSTART;TZID=America/New_York:20070415
SUMMARY:Emerson vs. Suffolk
DESCRIPTION:Gnac Baseball - Great Northeast Athletic Conference
LOCATION:Emerson
CATEGORIES:QuickScores, Baseball Game
TRANSP:OPAQUE
BEGIN:VALARM
TRIGGER:-PT2H
ACTION:DISPLAY
DESCRIPTION:Emerson vs. Suffolk
END:VALARM
END:VEVENT
BEGIN:VEVENT
UID:gnac-547848-20070421@quickscores.com
DTSTAMP:20260422T071400Z
DTSTART;TZID=America/New_York:20070421
SUMMARY:WNEC vs. Emerson
DESCRIPTION:Gnac Baseball - Great Northeast Athletic Conference
LOCATION:Springfield, MA
CATEGORIES:QuickScores, Baseball Game
TRANSP:OPAQUE
BEGIN:VALARM
TRIGGER:-PT2H
ACTION:DISPLAY
DESCRIPTION:WNEC vs. Emerson
END:VALARM
END:VEVENT
BEGIN:VEVENT
UID:gnac-547838-20070422@quickscores.com
DTSTAMP:20260422T071400Z
DTSTART;TZID=America/New_York:20070422
SUMMARY:Emerson vs. Johnson & Wales
DESCRIPTION:Gnac Baseball - Great Northeast Athletic Conference
LOCATION:Emerson
CATEGORIES:QuickScores, Baseball Game
TRANSP:OPAQUE
BEGIN:VALARM
TRIGGER:-PT2H
ACTION:DISPLAY
DESCRIPTION:Emerson vs. Johnson & Wales
END:VALARM
END:VEVENT
END:VCALENDAR
