BEGIN:VCALENDAR
VERSION:2.0
PRODID:-//QuickScores.com//BQ Dynamic iCal Creator//EN
METHOD:PUBLISH
X-WR-CALNAME:Albertus Magnus - Mbb Gnac 2009-2010 - Winter 2009-2010
X-WR-CALDESC:QuickScores game calendar
X-PUBLISHED-TTL:PT24H
REFRESH-INTERVAL;VALUE=DURATION:PT24H
CALSCALE:GREGORIAN
BEGIN:VTIMEZONE
TZID:America/New_York
X-LIC-LOCATION:America/New_York
BEGIN:DAYLIGHT
TZNAME:EDT
TZOFFSETFROM:-0500
TZOFFSETTO:-0400
DTSTART:19700308T020000
RRULE:FREQ=YEARLY;BYMONTH=3;BYDAY=2SU
END:DAYLIGHT
BEGIN:STANDARD
TZNAME:EST
TZOFFSETFROM:-0400
TZOFFSETTO:-0500
DTSTART:19701101T020000
RRULE:FREQ=YEARLY;BYMONTH=11;BYDAY=1SU
END:STANDARD
END:VTIMEZONE
BEGIN:VEVENT
UID:gnac-3462981-20091205@quickscores.com
DTSTAMP:20260420T133100Z
DTSTART;TZID=America/New_York:20091205
SUMMARY:Albertus Magnus vs. Lasell
DESCRIPTION:Mbb Gnac 2009-2010 - Great Northeast Athletic Conference
LOCATION:New Haven, CT
CATEGORIES:QuickScores, Basketball Game
TRANSP:OPAQUE
BEGIN:VALARM
TRIGGER:-PT2H
ACTION:DISPLAY
DESCRIPTION:Albertus Magnus vs. Lasell
END:VALARM
END:VEVENT
BEGIN:VEVENT
UID:gnac-3462988-20091212@quickscores.com
DTSTAMP:20260420T133100Z
DTSTART;TZID=America/New_York:20091212
SUMMARY:Emmanuel vs. Albertus Magnus
DESCRIPTION:Mbb Gnac 2009-2010 - Great Northeast Athletic Conference
LOCATION:Jean Yawkey Center
CATEGORIES:QuickScores, Basketball Game
TRANSP:OPAQUE
BEGIN:VALARM
TRIGGER:-PT2H
ACTION:DISPLAY
DESCRIPTION:Emmanuel vs. Albertus Magnus
END:VALARM
END:VEVENT
BEGIN:VEVENT
UID:gnac-3462955-20100109@quickscores.com
DTSTAMP:20260420T133100Z
DTSTART;TZID=America/New_York:20100109
SUMMARY:Albertus Magnus vs. Norwich
DESCRIPTION:Mbb Gnac 2009-2010 - Great Northeast Athletic Conference
LOCATION:New Haven, CT
CATEGORIES:QuickScores, Basketball Game
TRANSP:OPAQUE
BEGIN:VALARM
TRIGGER:-PT2H
ACTION:DISPLAY
DESCRIPTION:Albertus Magnus vs. Norwich
END:VALARM
END:VEVENT
BEGIN:VEVENT
UID:gnac-3462924-20100112@quickscores.com
DTSTAMP:20260420T133100Z
DTSTART;TZID=America/New_York:20100112
SUMMARY:Albertus Magnus vs. Emerson
DESCRIPTION:Mbb Gnac 2009-2010 - Great Northeast Athletic Conference
LOCATION:New Haven, CT
CATEGORIES:QuickScores, Basketball Game
TRANSP:OPAQUE
BEGIN:VALARM
TRIGGER:-PT2H
ACTION:DISPLAY
DESCRIPTION:Albertus Magnus vs. Emerson
END:VALARM
END:VEVENT
BEGIN:VEVENT
UID:gnac-3462943-20100114@quickscores.com
DTSTAMP:20260420T133100Z
DTSTART;TZID=America/New_York:20100114
SUMMARY:Albertus Magnus vs. Mount Ida
DESCRIPTION:DH w WBB --- Mbb Gnac 2009-2010 - Great Northeast Athletic Conference
LOCATION:New Haven, CT
CATEGORIES:QuickScores, Basketball Game
TRANSP:OPAQUE
BEGIN:VALARM
TRIGGER:-PT2H
ACTION:DISPLAY
DESCRIPTION:Albertus Magnus vs. Mount Ida
END:VALARM
END:VEVENT
BEGIN:VEVENT
UID:gnac-3462908-20100116@quickscores.com
DTSTAMP:20260420T133100Z
DTSTART;TZID=America/New_York:20100116
SUMMARY:Rivier vs. Albertus Magnus
DESCRIPTION:Mbb Gnac 2009-2010 - Great Northeast Athletic Conference
LOCATION:Nashua, NH
CATEGORIES:QuickScores, Basketball Game
TRANSP:OPAQUE
BEGIN:VALARM
TRIGGER:-PT2H
ACTION:DISPLAY
DESCRIPTION:Rivier vs. Albertus Magnus
END:VALARM
END:VEVENT
BEGIN:VEVENT
UID:gnac-3462913-20100118@quickscores.com
DTSTAMP:20260420T133100Z
DTSTART;TZID=America/New_York:20100118
SUMMARY:Saint Joseph's Maine vs. Albertus Magnus
DESCRIPTION:MLK Day --- Mbb Gnac 2009-2010 - Great Northeast Athletic Conference
LOCATION:Standish ME
CATEGORIES:QuickScores, Basketball Game
TRANSP:OPAQUE
BEGIN:VALARM
TRIGGER:-PT2H
ACTION:DISPLAY
DESCRIPTION:Saint Joseph's Maine vs. Albertus Magnus
END:VALARM
END:VEVENT
BEGIN:VEVENT
UID:gnac-3462936-20100123@quickscores.com
DTSTAMP:20260420T133100Z
DTSTART;TZID=America/New_York:20100123
SUMMARY:Albertus Magnus vs. Suffolk
DESCRIPTION:Mbb Gnac 2009-2010 - Great Northeast Athletic Conference
LOCATION:New Haven, CT
CATEGORIES:QuickScores, Basketball Game
TRANSP:OPAQUE
BEGIN:VALARM
TRIGGER:-PT2H
ACTION:DISPLAY
DESCRIPTION:Albertus Magnus vs. Suffolk
END:VALARM
END:VEVENT
BEGIN:VEVENT
UID:gnac-3462918-20100126@quickscores.com
DTSTAMP:20260420T133100Z
DTSTART;TZID=America/New_York:20100126
SUMMARY:Johnson & Wales vs. Albertus Magnus
DESCRIPTION:Mbb Gnac 2009-2010 - Great Northeast Athletic Conference
LOCATION:Providence, RI
CATEGORIES:QuickScores, Basketball Game
TRANSP:OPAQUE
BEGIN:VALARM
TRIGGER:-PT2H
ACTION:DISPLAY
DESCRIPTION:Johnson & Wales vs. Albertus Magnus
END:VALARM
END:VEVENT
BEGIN:VEVENT
UID:gnac-3462966-20100128@quickscores.com
DTSTAMP:20260420T133100Z
DTSTART;TZID=America/New_York:20100128
SUMMARY:Lasell vs. Albertus Magnus
DESCRIPTION:Mbb Gnac 2009-2010 - Great Northeast Athletic Conference
LOCATION:Lasell Newton
CATEGORIES:QuickScores, Basketball Game
TRANSP:OPAQUE
BEGIN:VALARM
TRIGGER:-PT2H
ACTION:DISPLAY
DESCRIPTION:Lasell vs. Albertus Magnus
END:VALARM
END:VEVENT
BEGIN:VEVENT
UID:gnac-3462933-20100130@quickscores.com
DTSTAMP:20260420T133100Z
DTSTART;TZID=America/New_York:20100130
SUMMARY:Albertus Magnus vs. Saint Joseph's Maine
DESCRIPTION:DH w WBB --- Mbb Gnac 2009-2010 - Great Northeast Athletic Conference
LOCATION:New Haven, CT
CATEGORIES:QuickScores, Basketball Game
TRANSP:OPAQUE
BEGIN:VALARM
TRIGGER:-PT2H
ACTION:DISPLAY
DESCRIPTION:Albertus Magnus vs. Saint Joseph's Maine
END:VALARM
END:VEVENT
BEGIN:VEVENT
UID:gnac-3463004-20100201@quickscores.com
DTSTAMP:20260420T133100Z
DTSTART;TZID=America/New_York:20100201
SUMMARY:Norwich vs. Albertus Magnus
DESCRIPTION:Mbb Gnac 2009-2010 - Great Northeast Athletic Conference
LOCATION:Northfield, VT
CATEGORIES:QuickScores, Basketball Game
TRANSP:OPAQUE
BEGIN:VALARM
TRIGGER:-PT2H
ACTION:DISPLAY
DESCRIPTION:Norwich vs. Albertus Magnus
END:VALARM
END:VEVENT
BEGIN:VEVENT
UID:gnac-3462972-20100204@quickscores.com
DTSTAMP:20260420T133100Z
DTSTART;TZID=America/New_York:20100204
SUMMARY:Albertus Magnus vs. Emmanuel
DESCRIPTION:Mbb Gnac 2009-2010 - Great Northeast Athletic Conference
LOCATION:New Haven, CT
CATEGORIES:QuickScores, Basketball Game
TRANSP:OPAQUE
BEGIN:VALARM
TRIGGER:-PT2H
ACTION:DISPLAY
DESCRIPTION:Albertus Magnus vs. Emmanuel
END:VALARM
END:VEVENT
BEGIN:VEVENT
UID:gnac-3462925-20100206@quickscores.com
DTSTAMP:20260420T133100Z
DTSTART;TZID=America/New_York:20100206
SUMMARY:Emerson vs. Albertus Magnus
DESCRIPTION:DH w WBB --- Mbb Gnac 2009-2010 - Great Northeast Athletic Conference
LOCATION:Piano Row Gymnasium
CATEGORIES:QuickScores, Basketball Game
TRANSP:OPAQUE
BEGIN:VALARM
TRIGGER:-PT2H
ACTION:DISPLAY
DESCRIPTION:Emerson vs. Albertus Magnus
END:VALARM
END:VEVENT
BEGIN:VEVENT
UID:gnac-3462956-20100209@quickscores.com
DTSTAMP:20260420T133100Z
DTSTART;TZID=America/New_York:20100209
SUMMARY:Mount Ida vs. Albertus Magnus
DESCRIPTION:AMC can share a bus w WBB going to SIM --- Mbb Gnac 2009-2010 - Great Northeast Athletic Conference
LOCATION:Mount Ida
CATEGORIES:QuickScores, Basketball Game
TRANSP:OPAQUE
BEGIN:VALARM
TRIGGER:-PT2H
ACTION:DISPLAY
DESCRIPTION:Mount Ida vs. Albertus Magnus
END:VALARM
END:VEVENT
BEGIN:VEVENT
UID:gnac-3462976-20100213@quickscores.com
DTSTAMP:20260420T133100Z
DTSTART;TZID=America/New_York:20100213
SUMMARY:Albertus Magnus vs. Rivier
DESCRIPTION:DH w WBB --- Mbb Gnac 2009-2010 - Great Northeast Athletic Conference
LOCATION:New Haven, CT
CATEGORIES:QuickScores, Basketball Game
TRANSP:OPAQUE
BEGIN:VALARM
TRIGGER:-PT2H
ACTION:DISPLAY
DESCRIPTION:Albertus Magnus vs. Rivier
END:VALARM
END:VEVENT
BEGIN:VEVENT
UID:gnac-3462919-20100216@quickscores.com
DTSTAMP:20260420T133100Z
DTSTART;TZID=America/New_York:20100216
SUMMARY:Albertus Magnus vs. Johnson & Wales
DESCRIPTION:Mbb Gnac 2009-2010 - Great Northeast Athletic Conference
LOCATION:New Haven, CT
CATEGORIES:QuickScores, Basketball Game
TRANSP:OPAQUE
BEGIN:VALARM
TRIGGER:-PT2H
ACTION:DISPLAY
DESCRIPTION:Albertus Magnus vs. Johnson & Wales
END:VALARM
END:VEVENT
BEGIN:VEVENT
UID:gnac-3462952-20100220@quickscores.com
DTSTAMP:20260420T133100Z
DTSTART;TZID=America/New_York:20100220
SUMMARY:Suffolk vs. Albertus Magnus
DESCRIPTION:DH w WBB --- Mbb Gnac 2009-2010 - Great Northeast Athletic Conference
LOCATION:Suffolk
CATEGORIES:QuickScores, Basketball Game
TRANSP:OPAQUE
BEGIN:VALARM
TRIGGER:-PT2H
ACTION:DISPLAY
DESCRIPTION:Suffolk vs. Albertus Magnus
END:VALARM
END:VEVENT
END:VCALENDAR
