BEGIN:VCALENDAR
VERSION:2.0
PRODID:-//QuickScores.com//BQ Dynamic iCal Creator//EN
METHOD:PUBLISH
X-WR-CALNAME:Suffolk - 2016-2017 Mbb - Winter 2016-2017
X-WR-CALDESC:QuickScores game calendar
X-PUBLISHED-TTL:PT24H
REFRESH-INTERVAL;VALUE=DURATION:PT24H
CALSCALE:GREGORIAN
BEGIN:VTIMEZONE
TZID:America/New_York
X-LIC-LOCATION:America/New_York
BEGIN:DAYLIGHT
TZNAME:EDT
TZOFFSETFROM:-0500
TZOFFSETTO:-0400
DTSTART:19700308T020000
RRULE:FREQ=YEARLY;BYMONTH=3;BYDAY=2SU
END:DAYLIGHT
BEGIN:STANDARD
TZNAME:EST
TZOFFSETFROM:-0400
TZOFFSETTO:-0500
DTSTART:19701101T020000
RRULE:FREQ=YEARLY;BYMONTH=11;BYDAY=1SU
END:STANDARD
END:VTIMEZONE
BEGIN:VEVENT
UID:gnac-26298158-20161201@quickscores.com
DTSTAMP:20260421T231700Z
DTSTART;TZID=America/New_York:20161201
SUMMARY:Suffolk vs. Norwich
DESCRIPTION:2016-2017 Mbb - Great Northeast Athletic Conference
LOCATION:Suffolk
CATEGORIES:QuickScores, Basketball Game
TRANSP:OPAQUE
BEGIN:VALARM
TRIGGER:-PT2H
ACTION:DISPLAY
DESCRIPTION:Suffolk vs. Norwich
END:VALARM
END:VEVENT
BEGIN:VEVENT
UID:gnac-26298193-20161203@quickscores.com
DTSTAMP:20260421T231700Z
DTSTART;TZID=America/New_York:20161203
SUMMARY:Suffolk vs. Saint Joseph's ME
DESCRIPTION:2016-2017 Mbb - Great Northeast Athletic Conference
LOCATION:Suffolk
CATEGORIES:QuickScores, Basketball Game
TRANSP:OPAQUE
BEGIN:VALARM
TRIGGER:-PT2H
ACTION:DISPLAY
DESCRIPTION:Suffolk vs. Saint Joseph's ME
END:VALARM
END:VEVENT
BEGIN:VEVENT
UID:gnac-26298221-20161210@quickscores.com
DTSTAMP:20260421T231700Z
DTSTART;TZID=America/New_York:20161210
SUMMARY:Albertus Magnus vs. Suffolk
DESCRIPTION:2016-2017 Mbb - Great Northeast Athletic Conference
LOCATION:New Haven, CT
CATEGORIES:QuickScores, Basketball Game
TRANSP:OPAQUE
BEGIN:VALARM
TRIGGER:-PT2H
ACTION:DISPLAY
DESCRIPTION:Albertus Magnus vs. Suffolk
END:VALARM
END:VEVENT
BEGIN:VEVENT
UID:gnac-26298192-20170105@quickscores.com
DTSTAMP:20260421T231700Z
DTSTART;TZID=America/New_York:20170105
SUMMARY:Suffolk vs. Emmanuel
DESCRIPTION:2016-2017 Mbb - Great Northeast Athletic Conference
LOCATION:Suffolk
CATEGORIES:QuickScores, Basketball Game
TRANSP:OPAQUE
BEGIN:VALARM
TRIGGER:-PT2H
ACTION:DISPLAY
DESCRIPTION:Suffolk vs. Emmanuel
END:VALARM
END:VEVENT
BEGIN:VEVENT
UID:gnac-26298245-20170107@quickscores.com
DTSTAMP:20260421T231700Z
DTSTART;TZID=America/New_York:20170107
SUMMARY:Mount Ida vs. Suffolk
DESCRIPTION:2016-2017 Mbb - Great Northeast Athletic Conference
LOCATION:Mount Ida
CATEGORIES:QuickScores, Basketball Game
TRANSP:OPAQUE
BEGIN:VALARM
TRIGGER:-PT2H
ACTION:DISPLAY
DESCRIPTION:Mount Ida vs. Suffolk
END:VALARM
END:VEVENT
BEGIN:VEVENT
UID:gnac-26298206-20170110@quickscores.com
DTSTAMP:20260421T231700Z
DTSTART;TZID=America/New_York:20170110
SUMMARY:Suffolk vs. Rivier
DESCRIPTION:2016-2017 Mbb - Great Northeast Athletic Conference
LOCATION:Suffolk
CATEGORIES:QuickScores, Basketball Game
TRANSP:OPAQUE
BEGIN:VALARM
TRIGGER:-PT2H
ACTION:DISPLAY
DESCRIPTION:Suffolk vs. Rivier
END:VALARM
END:VEVENT
BEGIN:VEVENT
UID:gnac-26298210-20170112@quickscores.com
DTSTAMP:20260421T231700Z
DTSTART;TZID=America/New_York:20170112
SUMMARY:Suffolk vs. Albertus Magnus
DESCRIPTION:2017 DH w WBB --- 2016-2017 Mbb - Great Northeast Athletic Conference
LOCATION:Suffolk
CATEGORIES:QuickScores, Basketball Game
TRANSP:OPAQUE
BEGIN:VALARM
TRIGGER:-PT2H
ACTION:DISPLAY
DESCRIPTION:Suffolk vs. Albertus Magnus
END:VALARM
END:VEVENT
BEGIN:VEVENT
UID:gnac-26298214-20170114@quickscores.com
DTSTAMP:20260421T231700Z
DTSTART;TZID=America/New_York:20170114
SUMMARY:Lasell vs. Suffolk
DESCRIPTION:2016-2017 Mbb - Great Northeast Athletic Conference
LOCATION:Lasell Newton
CATEGORIES:QuickScores, Basketball Game
TRANSP:OPAQUE
BEGIN:VALARM
TRIGGER:-PT2H
ACTION:DISPLAY
DESCRIPTION:Lasell vs. Suffolk
END:VALARM
END:VEVENT
BEGIN:VEVENT
UID:gnac-26298257-20170116@quickscores.com
DTSTAMP:20260421T231700Z
DTSTART;TZID=America/New_York:20170116
SUMMARY:Norwich vs. Suffolk
DESCRIPTION:2017 DH w WBB --- 2016-2017 Mbb - Great Northeast Athletic Conference
LOCATION:Northfield, VT
CATEGORIES:QuickScores, Basketball Game
TRANSP:OPAQUE
BEGIN:VALARM
TRIGGER:-PT2H
ACTION:DISPLAY
DESCRIPTION:Norwich vs. Suffolk
END:VALARM
END:VEVENT
BEGIN:VEVENT
UID:gnac-26298244-20170121@quickscores.com
DTSTAMP:20260421T231700Z
DTSTART;TZID=America/New_York:20170121
SUMMARY:Suffolk vs. Mount Ida
DESCRIPTION:2016-2017 Mbb - Great Northeast Athletic Conference
LOCATION:Suffolk
CATEGORIES:QuickScores, Basketball Game
TRANSP:OPAQUE
BEGIN:VALARM
TRIGGER:-PT2H
ACTION:DISPLAY
DESCRIPTION:Suffolk vs. Mount Ida
END:VALARM
END:VEVENT
BEGIN:VEVENT
UID:gnac-26298211-20170125@quickscores.com
DTSTAMP:20260421T231700Z
DTSTART;TZID=America/New_York:20170125
SUMMARY:Johnson & Wales vs. Suffolk
DESCRIPTION:2016-2017 Mbb - Great Northeast Athletic Conference
LOCATION:Harborside Athletic Center
CATEGORIES:QuickScores, Basketball Game
TRANSP:OPAQUE
BEGIN:VALARM
TRIGGER:-PT2H
ACTION:DISPLAY
DESCRIPTION:Johnson & Wales vs. Suffolk
END:VALARM
END:VEVENT
BEGIN:VEVENT
UID:gnac-26298177-20170128@quickscores.com
DTSTAMP:20260421T231700Z
DTSTART;TZID=America/New_York:20170128
SUMMARY:Suffolk vs. Anna Maria
DESCRIPTION:2016-2017 Mbb - Great Northeast Athletic Conference
LOCATION:Suffolk
CATEGORIES:QuickScores, Basketball Game
TRANSP:OPAQUE
BEGIN:VALARM
TRIGGER:-PT2H
ACTION:DISPLAY
DESCRIPTION:Suffolk vs. Anna Maria
END:VALARM
END:VEVENT
BEGIN:VEVENT
UID:gnac-26298188-20170201@quickscores.com
DTSTAMP:20260421T231700Z
DTSTART;TZID=America/New_York:20170201
SUMMARY:Rivier vs. Suffolk
DESCRIPTION:2016-2017 Mbb - Great Northeast Athletic Conference
LOCATION:Nashua, NH
CATEGORIES:QuickScores, Basketball Game
TRANSP:OPAQUE
BEGIN:VALARM
TRIGGER:-PT2H
ACTION:DISPLAY
DESCRIPTION:Rivier vs. Suffolk
END:VALARM
END:VEVENT
BEGIN:VEVENT
UID:gnac-26298248-20170204@quickscores.com
DTSTAMP:20260421T231700Z
DTSTART;TZID=America/New_York:20170204
SUMMARY:Emmanuel vs. Suffolk
DESCRIPTION:2016-2017 Mbb - Great Northeast Athletic Conference
LOCATION:Jean Yawkey Center
CATEGORIES:QuickScores, Basketball Game
TRANSP:OPAQUE
BEGIN:VALARM
TRIGGER:-PT2H
ACTION:DISPLAY
DESCRIPTION:Emmanuel vs. Suffolk
END:VALARM
END:VEVENT
BEGIN:VEVENT
UID:gnac-26298249-20170207@quickscores.com
DTSTAMP:20260421T231700Z
DTSTART;TZID=America/New_York:20170207
SUMMARY:Suffolk vs. Lasell
DESCRIPTION:2016-2017 Mbb - Great Northeast Athletic Conference
LOCATION:Suffolk
CATEGORIES:QuickScores, Basketball Game
TRANSP:OPAQUE
BEGIN:VALARM
TRIGGER:-PT2H
ACTION:DISPLAY
DESCRIPTION:Suffolk vs. Lasell
END:VALARM
END:VEVENT
BEGIN:VEVENT
UID:gnac-26298241-20170211@quickscores.com
DTSTAMP:20260421T231700Z
DTSTART;TZID=America/New_York:20170211
SUMMARY:Suffolk vs. Johnson & Wales
DESCRIPTION:2016-2017 Mbb - Great Northeast Athletic Conference
LOCATION:Suffolk
CATEGORIES:QuickScores, Basketball Game
TRANSP:OPAQUE
BEGIN:VALARM
TRIGGER:-PT2H
ACTION:DISPLAY
DESCRIPTION:Suffolk vs. Johnson & Wales
END:VALARM
END:VEVENT
BEGIN:VEVENT
UID:gnac-26298204-20170214@quickscores.com
DTSTAMP:20260421T231700Z
DTSTART;TZID=America/New_York:20170214
SUMMARY:Anna Maria vs. Suffolk
DESCRIPTION:2016-2017 Mbb - Great Northeast Athletic Conference
LOCATION:Paxton MA
CATEGORIES:QuickScores, Basketball Game
TRANSP:OPAQUE
BEGIN:VALARM
TRIGGER:-PT2H
ACTION:DISPLAY
DESCRIPTION:Anna Maria vs. Suffolk
END:VALARM
END:VEVENT
BEGIN:VEVENT
UID:gnac-26298197-20170218@quickscores.com
DTSTAMP:20260421T231700Z
DTSTART;TZID=America/New_York:20170218
SUMMARY:Saint Joseph's ME vs. Suffolk
DESCRIPTION:2016-2017 Mbb - Great Northeast Athletic Conference
LOCATION:Standish ME
CATEGORIES:QuickScores, Basketball Game
TRANSP:OPAQUE
BEGIN:VALARM
TRIGGER:-PT2H
ACTION:DISPLAY
DESCRIPTION:Saint Joseph's ME vs. Suffolk
END:VALARM
END:VEVENT
END:VCALENDAR
