BEGIN:VCALENDAR
VERSION:2.0
PRODID:-//QuickScores.com//BQ Dynamic iCal Creator//EN
METHOD:PUBLISH
X-WR-CALNAME:Rivier - 2016-2017 Mbb - Winter 2016-2017
X-WR-CALDESC:QuickScores game calendar
X-PUBLISHED-TTL:PT24H
REFRESH-INTERVAL;VALUE=DURATION:PT24H
CALSCALE:GREGORIAN
BEGIN:VTIMEZONE
TZID:America/New_York
X-LIC-LOCATION:America/New_York
BEGIN:DAYLIGHT
TZNAME:EDT
TZOFFSETFROM:-0500
TZOFFSETTO:-0400
DTSTART:19700308T020000
RRULE:FREQ=YEARLY;BYMONTH=3;BYDAY=2SU
END:DAYLIGHT
BEGIN:STANDARD
TZNAME:EST
TZOFFSETFROM:-0400
TZOFFSETTO:-0500
DTSTART:19701101T020000
RRULE:FREQ=YEARLY;BYMONTH=11;BYDAY=1SU
END:STANDARD
END:VTIMEZONE
BEGIN:VEVENT
UID:gnac-26298235-20161129@quickscores.com
DTSTAMP:20260421T085700Z
DTSTART;TZID=America/New_York:20161129
SUMMARY:Norwich vs. Rivier
DESCRIPTION:2016-2017 Mbb - Great Northeast Athletic Conference
LOCATION:Northfield, VT
CATEGORIES:QuickScores, Basketball Game
TRANSP:OPAQUE
BEGIN:VALARM
TRIGGER:-PT2H
ACTION:DISPLAY
DESCRIPTION:Norwich vs. Rivier
END:VALARM
END:VEVENT
BEGIN:VEVENT
UID:gnac-26298187-20161201@quickscores.com
DTSTAMP:20260421T085700Z
DTSTART;TZID=America/New_York:20161201
SUMMARY:Rivier vs. Johnson & Wales
DESCRIPTION:2016-2017 Mbb - Great Northeast Athletic Conference
LOCATION:Nashua, NH
CATEGORIES:QuickScores, Basketball Game
TRANSP:OPAQUE
BEGIN:VALARM
TRIGGER:-PT2H
ACTION:DISPLAY
DESCRIPTION:Rivier vs. Johnson & Wales
END:VALARM
END:VEVENT
BEGIN:VEVENT
UID:gnac-26298195-20161203@quickscores.com
DTSTAMP:20260421T085700Z
DTSTART;TZID=America/New_York:20161203
SUMMARY:Rivier vs. Anna Maria
DESCRIPTION:2016 DH w WBB --- 2016-2017 Mbb - Great Northeast Athletic Conference
LOCATION:Nashua, NH
CATEGORIES:QuickScores, Basketball Game
TRANSP:OPAQUE
BEGIN:VALARM
TRIGGER:-PT2H
ACTION:DISPLAY
DESCRIPTION:Rivier vs. Anna Maria
END:VALARM
END:VEVENT
BEGIN:VEVENT
UID:gnac-26298243-20170105@quickscores.com
DTSTAMP:20260421T085700Z
DTSTART;TZID=America/New_York:20170105
SUMMARY:Lasell vs. Rivier
DESCRIPTION:2016-2017 Mbb - Great Northeast Athletic Conference
LOCATION:Lasell Newton
CATEGORIES:QuickScores, Basketball Game
TRANSP:OPAQUE
BEGIN:VALARM
TRIGGER:-PT2H
ACTION:DISPLAY
DESCRIPTION:Lasell vs. Rivier
END:VALARM
END:VEVENT
BEGIN:VEVENT
UID:gnac-26298216-20170107@quickscores.com
DTSTAMP:20260421T085700Z
DTSTART;TZID=America/New_York:20170107
SUMMARY:Rivier vs. Albertus Magnus
DESCRIPTION:2017 DH w WBB --- 2016-2017 Mbb - Great Northeast Athletic Conference
LOCATION:Nashua, NH
CATEGORIES:QuickScores, Basketball Game
TRANSP:OPAQUE
BEGIN:VALARM
TRIGGER:-PT2H
ACTION:DISPLAY
DESCRIPTION:Rivier vs. Albertus Magnus
END:VALARM
END:VEVENT
BEGIN:VEVENT
UID:gnac-26298206-20170110@quickscores.com
DTSTAMP:20260421T085700Z
DTSTART;TZID=America/New_York:20170110
SUMMARY:Suffolk vs. Rivier
DESCRIPTION:2016-2017 Mbb - Great Northeast Athletic Conference
LOCATION:Suffolk
CATEGORIES:QuickScores, Basketball Game
TRANSP:OPAQUE
BEGIN:VALARM
TRIGGER:-PT2H
ACTION:DISPLAY
DESCRIPTION:Suffolk vs. Rivier
END:VALARM
END:VEVENT
BEGIN:VEVENT
UID:gnac-26298199-20170112@quickscores.com
DTSTAMP:20260421T085700Z
DTSTART;TZID=America/New_York:20170112
SUMMARY:Rivier vs. Saint Joseph's ME
DESCRIPTION:2016-2017 Mbb - Great Northeast Athletic Conference
LOCATION:Nashua, NH
CATEGORIES:QuickScores, Basketball Game
TRANSP:OPAQUE
BEGIN:VALARM
TRIGGER:-PT2H
ACTION:DISPLAY
DESCRIPTION:Rivier vs. Saint Joseph's ME
END:VALARM
END:VEVENT
BEGIN:VEVENT
UID:gnac-26298212-20170114@quickscores.com
DTSTAMP:20260421T085700Z
DTSTART;TZID=America/New_York:20170114
SUMMARY:Johnson & Wales vs. Rivier
DESCRIPTION:2016-2017 Mbb - Great Northeast Athletic Conference
LOCATION:Harborside Athletic Center
CATEGORIES:QuickScores, Basketball Game
TRANSP:OPAQUE
BEGIN:VALARM
TRIGGER:-PT2H
ACTION:DISPLAY
DESCRIPTION:Johnson & Wales vs. Rivier
END:VALARM
END:VEVENT
BEGIN:VEVENT
UID:gnac-26298189-20170116@quickscores.com
DTSTAMP:20260421T085700Z
DTSTART;TZID=America/New_York:20170116
SUMMARY:Rivier vs. Emmanuel
DESCRIPTION:2017 DH w WBB --- 2016-2017 Mbb - Great Northeast Athletic Conference
LOCATION:Nashua, NH
CATEGORIES:QuickScores, Basketball Game
TRANSP:OPAQUE
BEGIN:VALARM
TRIGGER:-PT2H
ACTION:DISPLAY
DESCRIPTION:Rivier vs. Emmanuel
END:VALARM
END:VEVENT
BEGIN:VEVENT
UID:gnac-26298178-20170121@quickscores.com
DTSTAMP:20260421T085700Z
DTSTART;TZID=America/New_York:20170121
SUMMARY:Rivier vs. Norwich
DESCRIPTION:2017 DH w WBB --- 2016-2017 Mbb - Great Northeast Athletic Conference
LOCATION:Nashua, NH
CATEGORIES:QuickScores, Basketball Game
TRANSP:OPAQUE
BEGIN:VALARM
TRIGGER:-PT2H
ACTION:DISPLAY
DESCRIPTION:Rivier vs. Norwich
END:VALARM
END:VEVENT
BEGIN:VEVENT
UID:gnac-26298250-20170125@quickscores.com
DTSTAMP:20260421T085700Z
DTSTART;TZID=America/New_York:20170125
SUMMARY:Albertus Magnus vs. Rivier
DESCRIPTION:2016-2017 Mbb - Great Northeast Athletic Conference
LOCATION:New Haven, CT
CATEGORIES:QuickScores, Basketball Game
TRANSP:OPAQUE
BEGIN:VALARM
TRIGGER:-PT2H
ACTION:DISPLAY
DESCRIPTION:Albertus Magnus vs. Rivier
END:VALARM
END:VEVENT
BEGIN:VEVENT
UID:gnac-26298172-20170128@quickscores.com
DTSTAMP:20260421T085700Z
DTSTART;TZID=America/New_York:20170128
SUMMARY:Emmanuel vs. Rivier
DESCRIPTION:2016-2017 Mbb - Great Northeast Athletic Conference
LOCATION:Jean Yawkey Center
CATEGORIES:QuickScores, Basketball Game
TRANSP:OPAQUE
BEGIN:VALARM
TRIGGER:-PT2H
ACTION:DISPLAY
DESCRIPTION:Emmanuel vs. Rivier
END:VALARM
END:VEVENT
BEGIN:VEVENT
UID:gnac-26298188-20170201@quickscores.com
DTSTAMP:20260421T085700Z
DTSTART;TZID=America/New_York:20170201
SUMMARY:Rivier vs. Suffolk
DESCRIPTION:2016-2017 Mbb - Great Northeast Athletic Conference
LOCATION:Nashua, NH
CATEGORIES:QuickScores, Basketball Game
TRANSP:OPAQUE
BEGIN:VALARM
TRIGGER:-PT2H
ACTION:DISPLAY
DESCRIPTION:Rivier vs. Suffolk
END:VALARM
END:VEVENT
BEGIN:VEVENT
UID:gnac-26298213-20170204@quickscores.com
DTSTAMP:20260421T085700Z
DTSTART;TZID=America/New_York:20170204
SUMMARY:Rivier vs. Mount Ida
DESCRIPTION:2016-2017 Mbb - Great Northeast Athletic Conference
LOCATION:Nashua, NH
CATEGORIES:QuickScores, Basketball Game
TRANSP:OPAQUE
BEGIN:VALARM
TRIGGER:-PT2H
ACTION:DISPLAY
DESCRIPTION:Rivier vs. Mount Ida
END:VALARM
END:VEVENT
BEGIN:VEVENT
UID:gnac-26298242-20170207@quickscores.com
DTSTAMP:20260421T085700Z
DTSTART;TZID=America/New_York:20170207
SUMMARY:Saint Joseph's ME vs. Rivier
DESCRIPTION:2016-2017 Mbb - Great Northeast Athletic Conference
LOCATION:Standish ME
CATEGORIES:QuickScores, Basketball Game
TRANSP:OPAQUE
BEGIN:VALARM
TRIGGER:-PT2H
ACTION:DISPLAY
DESCRIPTION:Saint Joseph's ME vs. Rivier
END:VALARM
END:VEVENT
BEGIN:VEVENT
UID:gnac-26298226-20170211@quickscores.com
DTSTAMP:20260421T085700Z
DTSTART;TZID=America/New_York:20170211
SUMMARY:Mount Ida vs. Rivier
DESCRIPTION:2016-2017 Mbb - Great Northeast Athletic Conference
LOCATION:Mount Ida
CATEGORIES:QuickScores, Basketball Game
TRANSP:OPAQUE
BEGIN:VALARM
TRIGGER:-PT2H
ACTION:DISPLAY
DESCRIPTION:Mount Ida vs. Rivier
END:VALARM
END:VEVENT
BEGIN:VEVENT
UID:gnac-26298160-20170214@quickscores.com
DTSTAMP:20260421T085700Z
DTSTART;TZID=America/New_York:20170214
SUMMARY:Rivier vs. Lasell
DESCRIPTION:2016-2017 Mbb - Great Northeast Athletic Conference
LOCATION:Nashua, NH
CATEGORIES:QuickScores, Basketball Game
TRANSP:OPAQUE
BEGIN:VALARM
TRIGGER:-PT2H
ACTION:DISPLAY
DESCRIPTION:Rivier vs. Lasell
END:VALARM
END:VEVENT
BEGIN:VEVENT
UID:gnac-26298261-20170218@quickscores.com
DTSTAMP:20260421T085700Z
DTSTART;TZID=America/New_York:20170218
SUMMARY:Anna Maria vs. Rivier
DESCRIPTION:2017 DH w WBB --- 2016-2017 Mbb - Great Northeast Athletic Conference
LOCATION:Paxton MA
CATEGORIES:QuickScores, Basketball Game
TRANSP:OPAQUE
BEGIN:VALARM
TRIGGER:-PT2H
ACTION:DISPLAY
DESCRIPTION:Anna Maria vs. Rivier
END:VALARM
END:VEVENT
END:VCALENDAR
