BEGIN:VCALENDAR
VERSION:2.0
PRODID:-//QuickScores.com//BQ Dynamic iCal Creator//EN
METHOD:PUBLISH
X-WR-CALNAME:Anna Maria - 2016-2017 Mbb - Winter 2016-2017
X-WR-CALDESC:QuickScores game calendar
X-PUBLISHED-TTL:PT24H
REFRESH-INTERVAL;VALUE=DURATION:PT24H
CALSCALE:GREGORIAN
BEGIN:VTIMEZONE
TZID:America/New_York
X-LIC-LOCATION:America/New_York
BEGIN:DAYLIGHT
TZNAME:EDT
TZOFFSETFROM:-0500
TZOFFSETTO:-0400
DTSTART:19700308T020000
RRULE:FREQ=YEARLY;BYMONTH=3;BYDAY=2SU
END:DAYLIGHT
BEGIN:STANDARD
TZNAME:EST
TZOFFSETFROM:-0400
TZOFFSETTO:-0500
DTSTART:19701101T020000
RRULE:FREQ=YEARLY;BYMONTH=11;BYDAY=1SU
END:STANDARD
END:VTIMEZONE
BEGIN:VEVENT
UID:gnac-26298171-20161129@quickscores.com
DTSTAMP:20260421T055300Z
DTSTART;TZID=America/New_York:20161129
SUMMARY:Anna Maria vs. Saint Joseph's ME
DESCRIPTION:2016-2017 Mbb - Great Northeast Athletic Conference
LOCATION:Paxton MA
CATEGORIES:QuickScores, Basketball Game
TRANSP:OPAQUE
BEGIN:VALARM
TRIGGER:-PT2H
ACTION:DISPLAY
DESCRIPTION:Anna Maria vs. Saint Joseph's ME
END:VALARM
END:VEVENT
BEGIN:VEVENT
UID:gnac-26298219-20161201@quickscores.com
DTSTAMP:20260421T055300Z
DTSTART;TZID=America/New_York:20161201
SUMMARY:Anna Maria vs. Mount Ida
DESCRIPTION:2016-2017 Mbb - Great Northeast Athletic Conference
LOCATION:Paxton MA
CATEGORIES:QuickScores, Basketball Game
TRANSP:OPAQUE
BEGIN:VALARM
TRIGGER:-PT2H
ACTION:DISPLAY
DESCRIPTION:Anna Maria vs. Mount Ida
END:VALARM
END:VEVENT
BEGIN:VEVENT
UID:gnac-26298195-20161203@quickscores.com
DTSTAMP:20260421T055300Z
DTSTART;TZID=America/New_York:20161203
SUMMARY:Rivier vs. Anna Maria
DESCRIPTION:2016 DH w WBB --- 2016-2017 Mbb - Great Northeast Athletic Conference
LOCATION:Nashua, NH
CATEGORIES:QuickScores, Basketball Game
TRANSP:OPAQUE
BEGIN:VALARM
TRIGGER:-PT2H
ACTION:DISPLAY
DESCRIPTION:Rivier vs. Anna Maria
END:VALARM
END:VEVENT
BEGIN:VEVENT
UID:gnac-26298196-20170105@quickscores.com
DTSTAMP:20260421T055300Z
DTSTART;TZID=America/New_York:20170105
SUMMARY:Saint Joseph's ME vs. Anna Maria
DESCRIPTION:2016-2017 Mbb - Great Northeast Athletic Conference
LOCATION:Standish ME
CATEGORIES:QuickScores, Basketball Game
TRANSP:OPAQUE
BEGIN:VALARM
TRIGGER:-PT2H
ACTION:DISPLAY
DESCRIPTION:Saint Joseph's ME vs. Anna Maria
END:VALARM
END:VEVENT
BEGIN:VEVENT
UID:gnac-26298201-20170107@quickscores.com
DTSTAMP:20260421T055300Z
DTSTART;TZID=America/New_York:20170107
SUMMARY:Anna Maria vs. Lasell
DESCRIPTION:2017 DH w WBB --- 2016-2017 Mbb - Great Northeast Athletic Conference
LOCATION:Paxton MA
CATEGORIES:QuickScores, Basketball Game
TRANSP:OPAQUE
BEGIN:VALARM
TRIGGER:-PT2H
ACTION:DISPLAY
DESCRIPTION:Anna Maria vs. Lasell
END:VALARM
END:VEVENT
BEGIN:VEVENT
UID:gnac-26298174-20170110@quickscores.com
DTSTAMP:20260421T055300Z
DTSTART;TZID=America/New_York:20170110
SUMMARY:Emmanuel vs. Anna Maria
DESCRIPTION:2016-2017 Mbb - Great Northeast Athletic Conference
LOCATION:Jean Yawkey Center
CATEGORIES:QuickScores, Basketball Game
TRANSP:OPAQUE
BEGIN:VALARM
TRIGGER:-PT2H
ACTION:DISPLAY
DESCRIPTION:Emmanuel vs. Anna Maria
END:VALARM
END:VEVENT
BEGIN:VEVENT
UID:gnac-26298168-20170112@quickscores.com
DTSTAMP:20260421T055300Z
DTSTART;TZID=America/New_York:20170112
SUMMARY:Norwich vs. Anna Maria
DESCRIPTION:2016-2017 Mbb - Great Northeast Athletic Conference
LOCATION:Northfield, VT
CATEGORIES:QuickScores, Basketball Game
TRANSP:OPAQUE
BEGIN:VALARM
TRIGGER:-PT2H
ACTION:DISPLAY
DESCRIPTION:Norwich vs. Anna Maria
END:VALARM
END:VEVENT
BEGIN:VEVENT
UID:gnac-26298191-20170114@quickscores.com
DTSTAMP:20260421T055300Z
DTSTART;TZID=America/New_York:20170114
SUMMARY:Mount Ida vs. Anna Maria
DESCRIPTION:2016-2017 Mbb - Great Northeast Athletic Conference
LOCATION:Mount Ida
CATEGORIES:QuickScores, Basketball Game
TRANSP:OPAQUE
BEGIN:VALARM
TRIGGER:-PT2H
ACTION:DISPLAY
DESCRIPTION:Mount Ida vs. Anna Maria
END:VALARM
END:VEVENT
BEGIN:VEVENT
UID:gnac-26298253-20170116@quickscores.com
DTSTAMP:20260421T055300Z
DTSTART;TZID=America/New_York:20170116
SUMMARY:Anna Maria vs. Johnson & Wales
DESCRIPTION:2016-2017 Mbb - Great Northeast Athletic Conference
LOCATION:Paxton MA
CATEGORIES:QuickScores, Basketball Game
TRANSP:OPAQUE
BEGIN:VALARM
TRIGGER:-PT2H
ACTION:DISPLAY
DESCRIPTION:Anna Maria vs. Johnson & Wales
END:VALARM
END:VEVENT
BEGIN:VEVENT
UID:gnac-26298246-20170121@quickscores.com
DTSTAMP:20260421T055300Z
DTSTART;TZID=America/New_York:20170121
SUMMARY:Anna Maria vs. Albertus Magnus
DESCRIPTION:2017 DH w WBB --- 2016-2017 Mbb - Great Northeast Athletic Conference
LOCATION:Paxton MA
CATEGORIES:QuickScores, Basketball Game
TRANSP:OPAQUE
BEGIN:VALARM
TRIGGER:-PT2H
ACTION:DISPLAY
DESCRIPTION:Anna Maria vs. Albertus Magnus
END:VALARM
END:VEVENT
BEGIN:VEVENT
UID:gnac-26298179-20170125@quickscores.com
DTSTAMP:20260421T055300Z
DTSTART;TZID=America/New_York:20170125
SUMMARY:Anna Maria vs. Emmanuel
DESCRIPTION:2016-2017 Mbb - Great Northeast Athletic Conference
LOCATION:Paxton MA
CATEGORIES:QuickScores, Basketball Game
TRANSP:OPAQUE
BEGIN:VALARM
TRIGGER:-PT2H
ACTION:DISPLAY
DESCRIPTION:Anna Maria vs. Emmanuel
END:VALARM
END:VEVENT
BEGIN:VEVENT
UID:gnac-26298177-20170128@quickscores.com
DTSTAMP:20260421T055300Z
DTSTART;TZID=America/New_York:20170128
SUMMARY:Suffolk vs. Anna Maria
DESCRIPTION:2016-2017 Mbb - Great Northeast Athletic Conference
LOCATION:Suffolk
CATEGORIES:QuickScores, Basketball Game
TRANSP:OPAQUE
BEGIN:VALARM
TRIGGER:-PT2H
ACTION:DISPLAY
DESCRIPTION:Suffolk vs. Anna Maria
END:VALARM
END:VEVENT
BEGIN:VEVENT
UID:gnac-26298229-20170201@quickscores.com
DTSTAMP:20260421T055300Z
DTSTART;TZID=America/New_York:20170201
SUMMARY:Lasell vs. Anna Maria
DESCRIPTION:2016-2017 Mbb - Great Northeast Athletic Conference
LOCATION:Lasell Newton
CATEGORIES:QuickScores, Basketball Game
TRANSP:OPAQUE
BEGIN:VALARM
TRIGGER:-PT2H
ACTION:DISPLAY
DESCRIPTION:Lasell vs. Anna Maria
END:VALARM
END:VEVENT
BEGIN:VEVENT
UID:gnac-26298239-20170204@quickscores.com
DTSTAMP:20260421T055300Z
DTSTART;TZID=America/New_York:20170204
SUMMARY:Anna Maria vs. Norwich
DESCRIPTION:2017 DH w WBB --- 2016-2017 Mbb - Great Northeast Athletic Conference
LOCATION:Paxton MA
CATEGORIES:QuickScores, Basketball Game
TRANSP:OPAQUE
BEGIN:VALARM
TRIGGER:-PT2H
ACTION:DISPLAY
DESCRIPTION:Anna Maria vs. Norwich
END:VALARM
END:VEVENT
BEGIN:VEVENT
UID:gnac-26298251-20170207@quickscores.com
DTSTAMP:20260421T055300Z
DTSTART;TZID=America/New_York:20170207
SUMMARY:Johnson & Wales vs. Anna Maria
DESCRIPTION:2016-2017 Mbb - Great Northeast Athletic Conference
LOCATION:Harborside Athletic Center
CATEGORIES:QuickScores, Basketball Game
TRANSP:OPAQUE
BEGIN:VALARM
TRIGGER:-PT2H
ACTION:DISPLAY
DESCRIPTION:Johnson & Wales vs. Anna Maria
END:VALARM
END:VEVENT
BEGIN:VEVENT
UID:gnac-26298254-20170211@quickscores.com
DTSTAMP:20260421T055300Z
DTSTART;TZID=America/New_York:20170211
SUMMARY:Albertus Magnus vs. Anna Maria
DESCRIPTION:2016-2017 Mbb - Great Northeast Athletic Conference
LOCATION:New Haven, CT
CATEGORIES:QuickScores, Basketball Game
TRANSP:OPAQUE
BEGIN:VALARM
TRIGGER:-PT2H
ACTION:DISPLAY
DESCRIPTION:Albertus Magnus vs. Anna Maria
END:VALARM
END:VEVENT
BEGIN:VEVENT
UID:gnac-26298204-20170214@quickscores.com
DTSTAMP:20260421T055300Z
DTSTART;TZID=America/New_York:20170214
SUMMARY:Anna Maria vs. Suffolk
DESCRIPTION:2016-2017 Mbb - Great Northeast Athletic Conference
LOCATION:Paxton MA
CATEGORIES:QuickScores, Basketball Game
TRANSP:OPAQUE
BEGIN:VALARM
TRIGGER:-PT2H
ACTION:DISPLAY
DESCRIPTION:Anna Maria vs. Suffolk
END:VALARM
END:VEVENT
BEGIN:VEVENT
UID:gnac-26298261-20170218@quickscores.com
DTSTAMP:20260421T055300Z
DTSTART;TZID=America/New_York:20170218
SUMMARY:Anna Maria vs. Rivier
DESCRIPTION:2017 DH w WBB --- 2016-2017 Mbb - Great Northeast Athletic Conference
LOCATION:Paxton MA
CATEGORIES:QuickScores, Basketball Game
TRANSP:OPAQUE
BEGIN:VALARM
TRIGGER:-PT2H
ACTION:DISPLAY
DESCRIPTION:Anna Maria vs. Rivier
END:VALARM
END:VEVENT
END:VCALENDAR
