BEGIN:VCALENDAR
VERSION:2.0
PRODID:-//QuickScores.com//BQ Dynamic iCal Creator//EN
METHOD:PUBLISH
X-WR-CALNAME:Anna Maria - 2016 Women&#039;s Tennis - Fall 2016
X-WR-CALDESC:QuickScores game calendar
X-PUBLISHED-TTL:PT24H
REFRESH-INTERVAL;VALUE=DURATION:PT24H
CALSCALE:GREGORIAN
BEGIN:VTIMEZONE
TZID:America/New_York
X-LIC-LOCATION:America/New_York
BEGIN:DAYLIGHT
TZNAME:EDT
TZOFFSETFROM:-0500
TZOFFSETTO:-0400
DTSTART:19700308T020000
RRULE:FREQ=YEARLY;BYMONTH=3;BYDAY=2SU
END:DAYLIGHT
BEGIN:STANDARD
TZNAME:EST
TZOFFSETFROM:-0400
TZOFFSETTO:-0500
DTSTART:19701101T020000
RRULE:FREQ=YEARLY;BYMONTH=11;BYDAY=1SU
END:STANDARD
END:VTIMEZONE
BEGIN:VEVENT
UID:gnac-26165364-20160917@quickscores.com
DTSTAMP:20260424T055700Z
DTSTART;TZID=America/New_York:20160917
SUMMARY:Albertus Magnus vs. Anna Maria
DESCRIPTION:2016 Women's Tennis - Great Northeast Athletic Conference
LOCATION:New Haven, CT
CATEGORIES:QuickScores, Tennis Game
TRANSP:OPAQUE
BEGIN:VALARM
TRIGGER:-PT2H
ACTION:DISPLAY
DESCRIPTION:Albertus Magnus vs. Anna Maria
END:VALARM
END:VEVENT
BEGIN:VEVENT
UID:gnac-26165347-20160924@quickscores.com
DTSTAMP:20260424T055700Z
DTSTART;TZID=America/New_York:20160924
SUMMARY:Anna Maria vs. Mount Ida
DESCRIPTION:2016 Women's Tennis - Great Northeast Athletic Conference
LOCATION:Paxton MA
CATEGORIES:QuickScores, Tennis Game
TRANSP:OPAQUE
BEGIN:VALARM
TRIGGER:-PT2H
ACTION:DISPLAY
DESCRIPTION:Anna Maria vs. Mount Ida
END:VALARM
END:VEVENT
BEGIN:VEVENT
UID:gnac-26165344-20161001@quickscores.com
DTSTAMP:20260424T055700Z
DTSTART;TZID=America/New_York:20161001
SUMMARY:Anna Maria vs. Saint Joseph CT
DESCRIPTION:2016 Women's Tennis - Great Northeast Athletic Conference
LOCATION:Paxton MA
CATEGORIES:QuickScores, Tennis Game
TRANSP:OPAQUE
BEGIN:VALARM
TRIGGER:-PT2H
ACTION:DISPLAY
DESCRIPTION:Anna Maria vs. Saint Joseph CT
END:VALARM
END:VEVENT
BEGIN:VEVENT
UID:gnac-26165337-20161005@quickscores.com
DTSTAMP:20260424T055700Z
DTSTART;TZID=America/New_York:20161005
SUMMARY:Anna Maria vs. Suffolk
DESCRIPTION:2016 Women's Tennis - Great Northeast Athletic Conference
LOCATION:Paxton MA
CATEGORIES:QuickScores, Tennis Game
TRANSP:OPAQUE
BEGIN:VALARM
TRIGGER:-PT2H
ACTION:DISPLAY
DESCRIPTION:Anna Maria vs. Suffolk
END:VALARM
END:VEVENT
BEGIN:VEVENT
UID:gnac-26165355-20161010@quickscores.com
DTSTAMP:20260424T055700Z
DTSTART;TZID=America/New_York:20161010
SUMMARY:Simmons vs. Anna Maria
DESCRIPTION:2016 Women's Tennis - Great Northeast Athletic Conference
LOCATION:Simmons
CATEGORIES:QuickScores, Tennis Game
TRANSP:OPAQUE
BEGIN:VALARM
TRIGGER:-PT2H
ACTION:DISPLAY
DESCRIPTION:Simmons vs. Anna Maria
END:VALARM
END:VEVENT
BEGIN:VEVENT
UID:gnac-26165348-20161015@quickscores.com
DTSTAMP:20260424T055700Z
DTSTART;TZID=America/New_York:20161015
SUMMARY:Johnson & Wales vs. Anna Maria
DESCRIPTION:2016 Women's Tennis - Great Northeast Athletic Conference
LOCATION:Providence, RI
CATEGORIES:QuickScores, Tennis Game
TRANSP:OPAQUE
BEGIN:VALARM
TRIGGER:-PT2H
ACTION:DISPLAY
DESCRIPTION:Johnson & Wales vs. Anna Maria
END:VALARM
END:VEVENT
END:VCALENDAR
