BEGIN:VCALENDAR
VERSION:2.0
PRODID:-//QuickScores.com//BQ Dynamic iCal Creator//EN
METHOD:PUBLISH
X-WR-CALNAME:Saint Joseph&#039;s ME - 2016 Men&#039;s Lacrosse - Spring 2016
X-WR-CALDESC:QuickScores game calendar
X-PUBLISHED-TTL:PT24H
REFRESH-INTERVAL;VALUE=DURATION:PT24H
CALSCALE:GREGORIAN
BEGIN:VTIMEZONE
TZID:America/New_York
X-LIC-LOCATION:America/New_York
BEGIN:DAYLIGHT
TZNAME:EDT
TZOFFSETFROM:-0500
TZOFFSETTO:-0400
DTSTART:19700308T020000
RRULE:FREQ=YEARLY;BYMONTH=3;BYDAY=2SU
END:DAYLIGHT
BEGIN:STANDARD
TZNAME:EST
TZOFFSETFROM:-0400
TZOFFSETTO:-0500
DTSTART:19701101T020000
RRULE:FREQ=YEARLY;BYMONTH=11;BYDAY=1SU
END:STANDARD
END:VTIMEZONE
BEGIN:VEVENT
UID:gnac-24879875-20160402@quickscores.com
DTSTAMP:20260422T075000Z
DTSTART;TZID=America/New_York:20160402
SUMMARY:Anna Maria vs. Saint Joseph's ME
DESCRIPTION:2016 Men's Lacrosse - Great Northeast Athletic Conference
LOCATION:Paxton MA
CATEGORIES:QuickScores, Lacrosse Game
TRANSP:OPAQUE
BEGIN:VALARM
TRIGGER:-PT2H
ACTION:DISPLAY
DESCRIPTION:Anna Maria vs. Saint Joseph's ME
END:VALARM
END:VEVENT
BEGIN:VEVENT
UID:gnac-24879910-20160409@quickscores.com
DTSTAMP:20260422T075000Z
DTSTART;TZID=America/New_York:20160409
SUMMARY:Saint Joseph's ME vs. Albertus Magnus
DESCRIPTION:2016 Men's Lacrosse - Great Northeast Athletic Conference
LOCATION:Standish ME
CATEGORIES:QuickScores, Lacrosse Game
TRANSP:OPAQUE
BEGIN:VALARM
TRIGGER:-PT2H
ACTION:DISPLAY
DESCRIPTION:Saint Joseph's ME vs. Albertus Magnus
END:VALARM
END:VEVENT
BEGIN:VEVENT
UID:gnac-24879909-20160413@quickscores.com
DTSTAMP:20260422T075000Z
DTSTART;TZID=America/New_York:20160413
SUMMARY:Lasell vs. Saint Joseph's ME
DESCRIPTION:2016 Men's Lacrosse - Great Northeast Athletic Conference
LOCATION:Lasell Newton
CATEGORIES:QuickScores, Lacrosse Game
TRANSP:OPAQUE
BEGIN:VALARM
TRIGGER:-PT2H
ACTION:DISPLAY
DESCRIPTION:Lasell vs. Saint Joseph's ME
END:VALARM
END:VEVENT
BEGIN:VEVENT
UID:gnac-24879913-20160416@quickscores.com
DTSTAMP:20260422T075000Z
DTSTART;TZID=America/New_York:20160416
SUMMARY:Norwich vs. Saint Joseph's ME
DESCRIPTION:2016 NOR JR Ring Day --- 2016 Men's Lacrosse - Great Northeast Athletic Conference
LOCATION:Northfield, VT
CATEGORIES:QuickScores, Lacrosse Game
TRANSP:OPAQUE
BEGIN:VALARM
TRIGGER:-PT2H
ACTION:DISPLAY
DESCRIPTION:Norwich vs. Saint Joseph's ME
END:VALARM
END:VEVENT
BEGIN:VEVENT
UID:gnac-24879914-20160420@quickscores.com
DTSTAMP:20260422T075000Z
DTSTART;TZID=America/New_York:20160420
SUMMARY:Saint Joseph's ME vs. Rivier
DESCRIPTION:2016 Men's Lacrosse - Great Northeast Athletic Conference
LOCATION:Standish ME
CATEGORIES:QuickScores, Lacrosse Game
TRANSP:OPAQUE
BEGIN:VALARM
TRIGGER:-PT2H
ACTION:DISPLAY
DESCRIPTION:Saint Joseph's ME vs. Rivier
END:VALARM
END:VEVENT
BEGIN:VEVENT
UID:gnac-24879879-20160423@quickscores.com
DTSTAMP:20260422T075000Z
DTSTART;TZID=America/New_York:20160423
SUMMARY:Saint Joseph's ME vs. Mount Ida
DESCRIPTION:2016 Men's Lacrosse - Great Northeast Athletic Conference
LOCATION:Standish ME
CATEGORIES:QuickScores, Lacrosse Game
TRANSP:OPAQUE
BEGIN:VALARM
TRIGGER:-PT2H
ACTION:DISPLAY
DESCRIPTION:Saint Joseph's ME vs. Mount Ida
END:VALARM
END:VEVENT
BEGIN:VEVENT
UID:gnac-24879880-20160427@quickscores.com
DTSTAMP:20260422T075000Z
DTSTART;TZID=America/New_York:20160427
SUMMARY:Saint Joseph's ME vs. Emmanuel
DESCRIPTION:2016 Men's Lacrosse - Great Northeast Athletic Conference
LOCATION:Standish ME
CATEGORIES:QuickScores, Lacrosse Game
TRANSP:OPAQUE
BEGIN:VALARM
TRIGGER:-PT2H
ACTION:DISPLAY
DESCRIPTION:Saint Joseph's ME vs. Emmanuel
END:VALARM
END:VEVENT
BEGIN:VEVENT
UID:gnac-24879915-20160430@quickscores.com
DTSTAMP:20260422T075000Z
DTSTART;TZID=America/New_York:20160430
SUMMARY:Johnson & Wales vs. Saint Joseph's ME
DESCRIPTION:2016 Men's Lacrosse - Great Northeast Athletic Conference
LOCATION:Scotts Miracle Gro Athletic Complex
CATEGORIES:QuickScores, Lacrosse Game
TRANSP:OPAQUE
BEGIN:VALARM
TRIGGER:-PT2H
ACTION:DISPLAY
DESCRIPTION:Johnson & Wales vs. Saint Joseph's ME
END:VALARM
END:VEVENT
END:VCALENDAR
