BEGIN:VCALENDAR
VERSION:2.0
PRODID:-//QuickScores.com//BQ Dynamic iCal Creator//EN
METHOD:PUBLISH
X-WR-CALNAME:Rivier - 2016 Men&#039;s Lacrosse - Spring 2016
X-WR-CALDESC:QuickScores game calendar
X-PUBLISHED-TTL:PT24H
REFRESH-INTERVAL;VALUE=DURATION:PT24H
CALSCALE:GREGORIAN
BEGIN:VTIMEZONE
TZID:America/New_York
X-LIC-LOCATION:America/New_York
BEGIN:DAYLIGHT
TZNAME:EDT
TZOFFSETFROM:-0500
TZOFFSETTO:-0400
DTSTART:19700308T020000
RRULE:FREQ=YEARLY;BYMONTH=3;BYDAY=2SU
END:DAYLIGHT
BEGIN:STANDARD
TZNAME:EST
TZOFFSETFROM:-0400
TZOFFSETTO:-0500
DTSTART:19701101T020000
RRULE:FREQ=YEARLY;BYMONTH=11;BYDAY=1SU
END:STANDARD
END:VTIMEZONE
BEGIN:VEVENT
UID:gnac-24879882-20160402@quickscores.com
DTSTAMP:20260422T075000Z
DTSTART;TZID=America/New_York:20160402
SUMMARY:Rivier vs. Lasell
DESCRIPTION:2016 Men's Lacrosse - Great Northeast Athletic Conference
LOCATION:Nashua, NH
CATEGORIES:QuickScores, Lacrosse Game
TRANSP:OPAQUE
BEGIN:VALARM
TRIGGER:-PT2H
ACTION:DISPLAY
DESCRIPTION:Rivier vs. Lasell
END:VALARM
END:VEVENT
BEGIN:VEVENT
UID:gnac-24879901-20160406@quickscores.com
DTSTAMP:20260422T075000Z
DTSTART;TZID=America/New_York:20160406
SUMMARY:Mount Ida vs. Rivier
DESCRIPTION:2016 Men's Lacrosse - Great Northeast Athletic Conference
LOCATION:Mount Ida
CATEGORIES:QuickScores, Lacrosse Game
TRANSP:OPAQUE
BEGIN:VALARM
TRIGGER:-PT2H
ACTION:DISPLAY
DESCRIPTION:Mount Ida vs. Rivier
END:VALARM
END:VEVENT
BEGIN:VEVENT
UID:gnac-24879892-20160409@quickscores.com
DTSTAMP:20260422T075000Z
DTSTART;TZID=America/New_York:20160409
SUMMARY:Rivier vs. Johnson & Wales
DESCRIPTION:2016 Men's Lacrosse - Great Northeast Athletic Conference
LOCATION:Nashua, NH
CATEGORIES:QuickScores, Lacrosse Game
TRANSP:OPAQUE
BEGIN:VALARM
TRIGGER:-PT2H
ACTION:DISPLAY
DESCRIPTION:Rivier vs. Johnson & Wales
END:VALARM
END:VEVENT
BEGIN:VEVENT
UID:gnac-24879906-20160413@quickscores.com
DTSTAMP:20260422T075000Z
DTSTART;TZID=America/New_York:20160413
SUMMARY:Rivier vs. Emmanuel
DESCRIPTION:2016 Men's Lacrosse - Great Northeast Athletic Conference
LOCATION:Nashua, NH
CATEGORIES:QuickScores, Lacrosse Game
TRANSP:OPAQUE
BEGIN:VALARM
TRIGGER:-PT2H
ACTION:DISPLAY
DESCRIPTION:Rivier vs. Emmanuel
END:VALARM
END:VEVENT
BEGIN:VEVENT
UID:gnac-24879898-20160416@quickscores.com
DTSTAMP:20260422T075000Z
DTSTART;TZID=America/New_York:20160416
SUMMARY:Anna Maria vs. Rivier
DESCRIPTION:2016 Men's Lacrosse - Great Northeast Athletic Conference
LOCATION:Paxton MA
CATEGORIES:QuickScores, Lacrosse Game
TRANSP:OPAQUE
BEGIN:VALARM
TRIGGER:-PT2H
ACTION:DISPLAY
DESCRIPTION:Anna Maria vs. Rivier
END:VALARM
END:VEVENT
BEGIN:VEVENT
UID:gnac-24879914-20160420@quickscores.com
DTSTAMP:20260422T075000Z
DTSTART;TZID=America/New_York:20160420
SUMMARY:Saint Joseph's ME vs. Rivier
DESCRIPTION:2016 Men's Lacrosse - Great Northeast Athletic Conference
LOCATION:Standish ME
CATEGORIES:QuickScores, Lacrosse Game
TRANSP:OPAQUE
BEGIN:VALARM
TRIGGER:-PT2H
ACTION:DISPLAY
DESCRIPTION:Saint Joseph's ME vs. Rivier
END:VALARM
END:VEVENT
BEGIN:VEVENT
UID:gnac-24879873-20160423@quickscores.com
DTSTAMP:20260422T075000Z
DTSTART;TZID=America/New_York:20160423
SUMMARY:Albertus Magnus vs. Rivier
DESCRIPTION:RIV can share a bus with Baseball to New Haven --- 2016 Men's Lacrosse - Great Northeast Athletic Conference
LOCATION:New Haven, CT
CATEGORIES:QuickScores, Lacrosse Game
TRANSP:OPAQUE
BEGIN:VALARM
TRIGGER:-PT2H
ACTION:DISPLAY
DESCRIPTION:Albertus Magnus vs. Rivier
END:VALARM
END:VEVENT
BEGIN:VEVENT
UID:gnac-24879893-20160430@quickscores.com
DTSTAMP:20260422T075000Z
DTSTART;TZID=America/New_York:20160430
SUMMARY:Rivier vs. Norwich
DESCRIPTION:2016 Men's Lacrosse - Great Northeast Athletic Conference
LOCATION:Nashua, NH
CATEGORIES:QuickScores, Lacrosse Game
TRANSP:OPAQUE
BEGIN:VALARM
TRIGGER:-PT2H
ACTION:DISPLAY
DESCRIPTION:Rivier vs. Norwich
END:VALARM
END:VEVENT
END:VCALENDAR
