BEGIN:VCALENDAR
VERSION:2.0
PRODID:-//QuickScores.com//BQ Dynamic iCal Creator//EN
METHOD:PUBLISH
X-WR-CALNAME:Mount Ida - 2016 Men&#039;s Lacrosse - Spring 2016
X-WR-CALDESC:QuickScores game calendar
X-PUBLISHED-TTL:PT24H
REFRESH-INTERVAL;VALUE=DURATION:PT24H
CALSCALE:GREGORIAN
BEGIN:VTIMEZONE
TZID:America/New_York
X-LIC-LOCATION:America/New_York
BEGIN:DAYLIGHT
TZNAME:EDT
TZOFFSETFROM:-0500
TZOFFSETTO:-0400
DTSTART:19700308T020000
RRULE:FREQ=YEARLY;BYMONTH=3;BYDAY=2SU
END:DAYLIGHT
BEGIN:STANDARD
TZNAME:EST
TZOFFSETFROM:-0400
TZOFFSETTO:-0500
DTSTART:19701101T020000
RRULE:FREQ=YEARLY;BYMONTH=11;BYDAY=1SU
END:STANDARD
END:VTIMEZONE
BEGIN:VEVENT
UID:gnac-24879886-20160402@quickscores.com
DTSTAMP:20260422T075000Z
DTSTART;TZID=America/New_York:20160402
SUMMARY:Emmanuel vs. Mount Ida
DESCRIPTION:2016 Men's Lacrosse - Great Northeast Athletic Conference
LOCATION:Roberto Clemente Field
CATEGORIES:QuickScores, Lacrosse Game
TRANSP:OPAQUE
BEGIN:VALARM
TRIGGER:-PT2H
ACTION:DISPLAY
DESCRIPTION:Emmanuel vs. Mount Ida
END:VALARM
END:VEVENT
BEGIN:VEVENT
UID:gnac-24879901-20160406@quickscores.com
DTSTAMP:20260422T075000Z
DTSTART;TZID=America/New_York:20160406
SUMMARY:Mount Ida vs. Rivier
DESCRIPTION:2016 Men's Lacrosse - Great Northeast Athletic Conference
LOCATION:Mount Ida
CATEGORIES:QuickScores, Lacrosse Game
TRANSP:OPAQUE
BEGIN:VALARM
TRIGGER:-PT2H
ACTION:DISPLAY
DESCRIPTION:Mount Ida vs. Rivier
END:VALARM
END:VEVENT
BEGIN:VEVENT
UID:gnac-24879916-20160409@quickscores.com
DTSTAMP:20260422T075000Z
DTSTART;TZID=America/New_York:20160409
SUMMARY:Lasell vs. Mount Ida
DESCRIPTION:2016 Men's Lacrosse - Great Northeast Athletic Conference
LOCATION:Lasell Newton
CATEGORIES:QuickScores, Lacrosse Game
TRANSP:OPAQUE
BEGIN:VALARM
TRIGGER:-PT2H
ACTION:DISPLAY
DESCRIPTION:Lasell vs. Mount Ida
END:VALARM
END:VEVENT
BEGIN:VEVENT
UID:gnac-24879878-20160413@quickscores.com
DTSTAMP:20260422T075000Z
DTSTART;TZID=America/New_York:20160413
SUMMARY:Mount Ida vs. Johnson & Wales
DESCRIPTION:2016 Men's Lacrosse - Great Northeast Athletic Conference
LOCATION:Mount Ida
CATEGORIES:QuickScores, Lacrosse Game
TRANSP:OPAQUE
BEGIN:VALARM
TRIGGER:-PT2H
ACTION:DISPLAY
DESCRIPTION:Mount Ida vs. Johnson & Wales
END:VALARM
END:VEVENT
BEGIN:VEVENT
UID:gnac-24879877-20160420@quickscores.com
DTSTAMP:20260422T075000Z
DTSTART;TZID=America/New_York:20160420
SUMMARY:Norwich vs. Mount Ida
DESCRIPTION:2016 Men's Lacrosse - Great Northeast Athletic Conference
LOCATION:Northfield, VT
CATEGORIES:QuickScores, Lacrosse Game
TRANSP:OPAQUE
BEGIN:VALARM
TRIGGER:-PT2H
ACTION:DISPLAY
DESCRIPTION:Norwich vs. Mount Ida
END:VALARM
END:VEVENT
BEGIN:VEVENT
UID:gnac-24879879-20160423@quickscores.com
DTSTAMP:20260422T075000Z
DTSTART;TZID=America/New_York:20160423
SUMMARY:Saint Joseph's ME vs. Mount Ida
DESCRIPTION:2016 Men's Lacrosse - Great Northeast Athletic Conference
LOCATION:Standish ME
CATEGORIES:QuickScores, Lacrosse Game
TRANSP:OPAQUE
BEGIN:VALARM
TRIGGER:-PT2H
ACTION:DISPLAY
DESCRIPTION:Saint Joseph's ME vs. Mount Ida
END:VALARM
END:VEVENT
BEGIN:VEVENT
UID:gnac-24879907-20160427@quickscores.com
DTSTAMP:20260422T075000Z
DTSTART;TZID=America/New_York:20160427
SUMMARY:Mount Ida vs. Albertus Magnus
DESCRIPTION:2016 Men's Lacrosse - Great Northeast Athletic Conference
LOCATION:Mount Ida
CATEGORIES:QuickScores, Lacrosse Game
TRANSP:OPAQUE
BEGIN:VALARM
TRIGGER:-PT2H
ACTION:DISPLAY
DESCRIPTION:Mount Ida vs. Albertus Magnus
END:VALARM
END:VEVENT
BEGIN:VEVENT
UID:gnac-24879917-20160430@quickscores.com
DTSTAMP:20260422T075000Z
DTSTART;TZID=America/New_York:20160430
SUMMARY:Mount Ida vs. Anna Maria
DESCRIPTION:2016 Men's Lacrosse - Great Northeast Athletic Conference
LOCATION:Mount Ida
CATEGORIES:QuickScores, Lacrosse Game
TRANSP:OPAQUE
BEGIN:VALARM
TRIGGER:-PT2H
ACTION:DISPLAY
DESCRIPTION:Mount Ida vs. Anna Maria
END:VALARM
END:VEVENT
END:VCALENDAR
